BEGIN:VCALENDAR
VERSION:2.0
PRODID:-//Maple Leaf Acres - ECPv6.15.18//NONSGML v1.0//EN
CALSCALE:GREGORIAN
METHOD:PUBLISH
X-WR-CALNAME:Maple Leaf Acres
X-ORIGINAL-URL:https://mapleleafacres.ca
X-WR-CALDESC:Events for Maple Leaf Acres
REFRESH-INTERVAL;VALUE=DURATION:PT1H
X-Robots-Tag:noindex
X-PUBLISHED-TTL:PT1H
BEGIN:VTIMEZONE
TZID:America/Toronto
BEGIN:DAYLIGHT
TZOFFSETFROM:-0500
TZOFFSETTO:-0400
TZNAME:EDT
DTSTART:20210314T070000
END:DAYLIGHT
BEGIN:STANDARD
TZOFFSETFROM:-0400
TZOFFSETTO:-0500
TZNAME:EST
DTSTART:20211107T060000
END:STANDARD
BEGIN:DAYLIGHT
TZOFFSETFROM:-0500
TZOFFSETTO:-0400
TZNAME:EDT
DTSTART:20220313T070000
END:DAYLIGHT
BEGIN:STANDARD
TZOFFSETFROM:-0400
TZOFFSETTO:-0500
TZNAME:EST
DTSTART:20221106T060000
END:STANDARD
BEGIN:DAYLIGHT
TZOFFSETFROM:-0500
TZOFFSETTO:-0400
TZNAME:EDT
DTSTART:20230312T070000
END:DAYLIGHT
BEGIN:STANDARD
TZOFFSETFROM:-0400
TZOFFSETTO:-0500
TZNAME:EST
DTSTART:20231105T060000
END:STANDARD
END:VTIMEZONE
BEGIN:VEVENT
DTSTART;TZID=America/Toronto:20220723T080000
DTEND;TZID=America/Toronto:20220723T080000
DTSTAMP:20260424T092050
CREATED:20220530T212333Z
LAST-MODIFIED:20220530T212333Z
UID:3200-1658563200-1658563200@mapleleafacres.ca
SUMMARY:Annual General Meeting
DESCRIPTION:
URL:https://mapleleafacres.ca/event/annual-general-meeting/
LOCATION:Rec. Hall
CATEGORIES:Activities,Rec. Hall
END:VEVENT
BEGIN:VEVENT
DTSTART;VALUE=DATE:20220723
DTEND;VALUE=DATE:20220724
DTSTAMP:20260424T092050
CREATED:20220713T195955Z
LAST-MODIFIED:20220713T195955Z
UID:3708-1658534400-1658620799@mapleleafacres.ca
SUMMARY:Private Function
DESCRIPTION:
URL:https://mapleleafacres.ca/event/private-function-3/
CATEGORIES:Adult Hall
END:VEVENT
BEGIN:VEVENT
DTSTART;VALUE=DATE:20220723
DTEND;VALUE=DATE:20220724
DTSTAMP:20260424T092051
CREATED:20220706T195748Z
LAST-MODIFIED:20220706T195748Z
UID:3663-1658534400-1658620799@mapleleafacres.ca
SUMMARY:Private Party
DESCRIPTION:
URL:https://mapleleafacres.ca/event/private-party-20/
CATEGORIES:Adult Hall
END:VEVENT
BEGIN:VEVENT
DTSTART;TZID=America/Toronto:20220722T133000
DTEND;TZID=America/Toronto:20220722T160000
DTSTAMP:20260424T092051
CREATED:20220616T155629Z
LAST-MODIFIED:20220616T155629Z
UID:3613-1658496600-1658505600@mapleleafacres.ca
SUMMARY:shuffleboard
DESCRIPTION:
URL:https://mapleleafacres.ca/event/shuffleboard-6/
CATEGORIES:Rec. Hall
END:VEVENT
BEGIN:VEVENT
DTSTART;TZID=America/Toronto:20220722T130000
DTEND;TZID=America/Toronto:20220722T160000
DTSTAMP:20260424T092051
CREATED:20220609T140933Z
LAST-MODIFIED:20220609T140933Z
UID:3320-1658494800-1658505600@mapleleafacres.ca
SUMMARY:Bid Euchre
DESCRIPTION:
URL:https://mapleleafacres.ca/event/bid-euchre-11/
CATEGORIES:Adult Hall
END:VEVENT
BEGIN:VEVENT
DTSTART;TZID=America/Toronto:20220721T130000
DTEND;TZID=America/Toronto:20220721T160000
DTSTAMP:20260424T092051
CREATED:20220609T140747Z
LAST-MODIFIED:20220609T140747Z
UID:3314-1658408400-1658419200@mapleleafacres.ca
SUMMARY:Card Bingo
DESCRIPTION:
URL:https://mapleleafacres.ca/event/card-bingo-3/
CATEGORIES:Adult Hall
END:VEVENT
BEGIN:VEVENT
DTSTART;TZID=America/Toronto:20220720T190000
DTEND;TZID=America/Toronto:20220720T210000
DTSTAMP:20260424T092051
CREATED:20220616T153142Z
LAST-MODIFIED:20220616T153142Z
UID:3572-1658343600-1658350800@mapleleafacres.ca
SUMMARY:Darts
DESCRIPTION:
URL:https://mapleleafacres.ca/event/darts-5/
CATEGORIES:Rec. Hall
END:VEVENT
BEGIN:VEVENT
DTSTART;TZID=America/Toronto:20220720T130000
DTEND;TZID=America/Toronto:20220720T160000
DTSTAMP:20260424T092051
CREATED:20220609T140708Z
LAST-MODIFIED:20220609T140708Z
UID:3312-1658322000-1658332800@mapleleafacres.ca
SUMMARY:Bid Euchre
DESCRIPTION:
URL:https://mapleleafacres.ca/event/bid-euchre-9/
CATEGORIES:Adult Hall
END:VEVENT
BEGIN:VEVENT
DTSTART;TZID=America/Toronto:20220718T130000
DTEND;TZID=America/Toronto:20220718T160000
DTSTAMP:20260424T092051
CREATED:20220609T140601Z
LAST-MODIFIED:20220609T140601Z
UID:3308-1658149200-1658160000@mapleleafacres.ca
SUMMARY:Bid Euchre
DESCRIPTION:
URL:https://mapleleafacres.ca/event/bid-euchre-7/
CATEGORIES:Adult Hall
END:VEVENT
BEGIN:VEVENT
DTSTART;TZID=America/Toronto:20220718T130000
DTEND;TZID=America/Toronto:20220718T153000
DTSTAMP:20260424T092051
CREATED:20220616T143708Z
LAST-MODIFIED:20220616T143708Z
UID:3484-1658149200-1658158200@mapleleafacres.ca
SUMMARY:Pokeno
DESCRIPTION:
URL:https://mapleleafacres.ca/event/pokeno-5/
CATEGORIES:Fireside Room
END:VEVENT
BEGIN:VEVENT
DTSTART;TZID=America/Toronto:20220718T100000
DTEND;TZID=America/Toronto:20220718T120000
DTSTAMP:20260424T092051
CREATED:20220713T194333Z
LAST-MODIFIED:20220713T194343Z
UID:3666-1658138400-1658145600@mapleleafacres.ca
SUMMARY:Line Dance
DESCRIPTION:
URL:https://mapleleafacres.ca/event/line-dance/
CATEGORIES:Rec. Hall
END:VEVENT
BEGIN:VEVENT
DTSTART;TZID=America/Toronto:20220717T090000
DTEND;TZID=America/Toronto:20220717T110000
DTSTAMP:20260424T092051
CREATED:20220609T140441Z
LAST-MODIFIED:20220609T140441Z
UID:3304-1658048400-1658055600@mapleleafacres.ca
SUMMARY:Coffee Chat
DESCRIPTION:
URL:https://mapleleafacres.ca/event/coffee-chat-4/
CATEGORIES:Adult Hall
END:VEVENT
BEGIN:VEVENT
DTSTART;TZID=America/Toronto:20220716T210000
DTEND;TZID=America/Toronto:20220716T210000
DTSTAMP:20260424T092051
CREATED:20220530T211733Z
LAST-MODIFIED:20220530T211733Z
UID:3193-1658005200-1658005200@mapleleafacres.ca
SUMMARY:Movie Night Under the Stars
DESCRIPTION:at Dusk behind the Rec. Centre
URL:https://mapleleafacres.ca/event/movie-night-under-the-stars/
CATEGORIES:Activities
END:VEVENT
BEGIN:VEVENT
DTSTART;TZID=America/Toronto:20220716T130000
DTEND;TZID=America/Toronto:20220716T130000
DTSTAMP:20260424T092051
CREATED:20220527T204035Z
LAST-MODIFIED:20220527T205817Z
UID:3162-1657976400-1657976400@mapleleafacres.ca
SUMMARY:Chocolate Bar Bingo
DESCRIPTION:Download (PDF\, Unknown)
URL:https://mapleleafacres.ca/event/chocolate-bar-bingo-2/
LOCATION:Rec. Hall
CATEGORIES:Activities,Rec. Hall
END:VEVENT
BEGIN:VEVENT
DTSTART;TZID=America/Toronto:20220716T120000
DTEND;TZID=America/Toronto:20220716T233000
DTSTAMP:20260424T092051
CREATED:20220609T140347Z
LAST-MODIFIED:20220609T140347Z
UID:3302-1657972800-1658014200@mapleleafacres.ca
SUMMARY:Private party
DESCRIPTION:
URL:https://mapleleafacres.ca/event/private-party-14/
CATEGORIES:Adult Hall
END:VEVENT
BEGIN:VEVENT
DTSTART;TZID=America/Toronto:20220716T100000
DTEND;TZID=America/Toronto:20220716T120000
DTSTAMP:20260424T092051
CREATED:20220713T195639Z
LAST-MODIFIED:20220713T195639Z
UID:3700-1657965600-1657972800@mapleleafacres.ca
SUMMARY:Sports & Rec Meeting
DESCRIPTION:
URL:https://mapleleafacres.ca/event/sports-rec-meeting-2/
CATEGORIES:Fireside Room
END:VEVENT
BEGIN:VEVENT
DTSTART;VALUE=DATE:20220716
DTEND;VALUE=DATE:20220717
DTSTAMP:20260424T092051
CREATED:20220530T212222Z
LAST-MODIFIED:20220530T212223Z
UID:3198-1657929600-1658015999@mapleleafacres.ca
SUMMARY:The Amazing Race
DESCRIPTION:10 Teams of 4
URL:https://mapleleafacres.ca/event/the-amazing-race/
LOCATION:Rec. Hall
CATEGORIES:Activities
END:VEVENT
BEGIN:VEVENT
DTSTART;TZID=America/Toronto:20220715T133000
DTEND;TZID=America/Toronto:20220715T160000
DTSTAMP:20260424T092051
CREATED:20220616T155551Z
LAST-MODIFIED:20220616T155551Z
UID:3611-1657891800-1657900800@mapleleafacres.ca
SUMMARY:shuffleboard
DESCRIPTION:
URL:https://mapleleafacres.ca/event/shuffleboard-5/
CATEGORIES:Rec. Hall
END:VEVENT
BEGIN:VEVENT
DTSTART;TZID=America/Toronto:20220715T130000
DTEND;TZID=America/Toronto:20220715T160000
DTSTAMP:20260424T092051
CREATED:20220615T203640Z
LAST-MODIFIED:20220615T203650Z
UID:3476-1657890000-1657900800@mapleleafacres.ca
SUMMARY:Bid Euchre
DESCRIPTION:
URL:https://mapleleafacres.ca/event/bid-euchre-48/
CATEGORIES:Fireside Room
END:VEVENT
BEGIN:VEVENT
DTSTART;TZID=America/Toronto:20220715T100000
DTEND;TZID=America/Toronto:20220715T233000
DTSTAMP:20260424T092051
CREATED:20220609T140308Z
LAST-MODIFIED:20220609T140308Z
UID:3300-1657879200-1657927800@mapleleafacres.ca
SUMMARY:Private Party
DESCRIPTION:
URL:https://mapleleafacres.ca/event/private-party-13/
CATEGORIES:Adult Hall
END:VEVENT
BEGIN:VEVENT
DTSTART;TZID=America/Toronto:20220714T130000
DTEND;TZID=America/Toronto:20220714T160000
DTSTAMP:20260424T092051
CREATED:20220609T140202Z
LAST-MODIFIED:20220609T140202Z
UID:3296-1657803600-1657814400@mapleleafacres.ca
SUMMARY:Card Bingo
DESCRIPTION:
URL:https://mapleleafacres.ca/event/card-bingo-2/
CATEGORIES:Adult Hall
END:VEVENT
BEGIN:VEVENT
DTSTART;TZID=America/Toronto:20220713T190000
DTEND;TZID=America/Toronto:20220713T210000
DTSTAMP:20260424T092051
CREATED:20220616T153118Z
LAST-MODIFIED:20220616T153118Z
UID:3570-1657738800-1657746000@mapleleafacres.ca
SUMMARY:Darts
DESCRIPTION:
URL:https://mapleleafacres.ca/event/darts-4/
CATEGORIES:Rec. Hall
END:VEVENT
BEGIN:VEVENT
DTSTART;TZID=America/Toronto:20220713T170000
DTEND;TZID=America/Toronto:20220713T210000
DTSTAMP:20260424T092051
CREATED:20220615T203758Z
LAST-MODIFIED:20220615T203758Z
UID:3478-1657731600-1657746000@mapleleafacres.ca
SUMMARY:Private Function
DESCRIPTION:
URL:https://mapleleafacres.ca/event/private-function-2/
CATEGORIES:Fireside Room
END:VEVENT
BEGIN:VEVENT
DTSTART;TZID=America/Toronto:20220713T130000
DTEND;TZID=America/Toronto:20220713T160000
DTSTAMP:20260424T092051
CREATED:20220609T140105Z
LAST-MODIFIED:20220609T140105Z
UID:3294-1657717200-1657728000@mapleleafacres.ca
SUMMARY:Bid Euchre
DESCRIPTION:
URL:https://mapleleafacres.ca/event/bid-euchre-5/
CATEGORIES:Adult Hall
END:VEVENT
BEGIN:VEVENT
DTSTART;TZID=America/Toronto:20220713T100000
DTEND;TZID=America/Toronto:20220713T120000
DTSTAMP:20260424T092051
CREATED:20220713T194509Z
LAST-MODIFIED:20220713T194509Z
UID:3668-1657706400-1657713600@mapleleafacres.ca
SUMMARY:Line Dancing
DESCRIPTION:
URL:https://mapleleafacres.ca/event/line-dancing/
CATEGORIES:Rec. Hall
END:VEVENT
BEGIN:VEVENT
DTSTART;TZID=America/Toronto:20220711T130000
DTEND;TZID=America/Toronto:20220711T160000
DTSTAMP:20260424T092051
CREATED:20220609T140020Z
LAST-MODIFIED:20220609T140020Z
UID:3292-1657544400-1657555200@mapleleafacres.ca
SUMMARY:Bid Euchre
DESCRIPTION:
URL:https://mapleleafacres.ca/event/bid-euchre-4/
CATEGORIES:Adult Hall
END:VEVENT
BEGIN:VEVENT
DTSTART;TZID=America/Toronto:20220711T130000
DTEND;TZID=America/Toronto:20220711T153000
DTSTAMP:20260424T092051
CREATED:20220616T143620Z
LAST-MODIFIED:20220616T143620Z
UID:3482-1657544400-1657553400@mapleleafacres.ca
SUMMARY:Pokeno
DESCRIPTION:
URL:https://mapleleafacres.ca/event/pokeno-4/
CATEGORIES:Fireside Room
END:VEVENT
BEGIN:VEVENT
DTSTART;TZID=America/Toronto:20220710T140000
DTEND;TZID=America/Toronto:20220710T140000
DTSTAMP:20260424T092051
CREATED:20220530T212113Z
LAST-MODIFIED:20220530T212113Z
UID:3196-1657461600-1657461600@mapleleafacres.ca
SUMMARY:The Great Scavenger Hunt
DESCRIPTION:See Poster for Details
URL:https://mapleleafacres.ca/event/the-great-scavenger-hunt/
CATEGORIES:Activities
END:VEVENT
BEGIN:VEVENT
DTSTART;TZID=America/Toronto:20220709T140000
DTEND;TZID=America/Toronto:20220709T180000
DTSTAMP:20260424T092051
CREATED:20220531T185843Z
LAST-MODIFIED:20220531T185843Z
UID:3227-1657375200-1657389600@mapleleafacres.ca
SUMMARY:Harmony Day
DESCRIPTION:
URL:https://mapleleafacres.ca/event/harmony-day-2/
END:VEVENT
BEGIN:VEVENT
DTSTART;TZID=America/Toronto:20220709T140000
DTEND;TZID=America/Toronto:20220709T140000
DTSTAMP:20260424T092051
CREATED:20220530T211556Z
LAST-MODIFIED:20220530T211556Z
UID:3191-1657375200-1657375200@mapleleafacres.ca
SUMMARY:Harmony Day
DESCRIPTION:
URL:https://mapleleafacres.ca/event/harmony-day/
CATEGORIES:Activities
END:VEVENT
END:VCALENDAR