BEGIN:VCALENDAR
VERSION:2.0
PRODID:-//Maple Leaf Acres - ECPv6.15.18//NONSGML v1.0//EN
CALSCALE:GREGORIAN
METHOD:PUBLISH
X-WR-CALNAME:Maple Leaf Acres
X-ORIGINAL-URL:https://mapleleafacres.ca
X-WR-CALDESC:Events for Maple Leaf Acres
REFRESH-INTERVAL;VALUE=DURATION:PT1H
X-Robots-Tag:noindex
X-PUBLISHED-TTL:PT1H
BEGIN:VTIMEZONE
TZID:America/Toronto
BEGIN:DAYLIGHT
TZOFFSETFROM:-0500
TZOFFSETTO:-0400
TZNAME:EDT
DTSTART:20210314T070000
END:DAYLIGHT
BEGIN:STANDARD
TZOFFSETFROM:-0400
TZOFFSETTO:-0500
TZNAME:EST
DTSTART:20211107T060000
END:STANDARD
BEGIN:DAYLIGHT
TZOFFSETFROM:-0500
TZOFFSETTO:-0400
TZNAME:EDT
DTSTART:20220313T070000
END:DAYLIGHT
BEGIN:STANDARD
TZOFFSETFROM:-0400
TZOFFSETTO:-0500
TZNAME:EST
DTSTART:20221106T060000
END:STANDARD
BEGIN:DAYLIGHT
TZOFFSETFROM:-0500
TZOFFSETTO:-0400
TZNAME:EDT
DTSTART:20230312T070000
END:DAYLIGHT
BEGIN:STANDARD
TZOFFSETFROM:-0400
TZOFFSETTO:-0500
TZNAME:EST
DTSTART:20231105T060000
END:STANDARD
END:VTIMEZONE
BEGIN:VEVENT
DTSTART;TZID=America/Toronto:20221219T130000
DTEND;TZID=America/Toronto:20221219T170000
DTSTAMP:20260424T085819
CREATED:20221029T135258Z
LAST-MODIFIED:20221029T135258Z
UID:4115-1671454800-1671469200@mapleleafacres.ca
SUMMARY:Euchre
DESCRIPTION:
URL:https://mapleleafacres.ca/event/euchre-16/
CATEGORIES:Adult Hall
END:VEVENT
BEGIN:VEVENT
DTSTART;TZID=America/Toronto:20221219T130000
DTEND;TZID=America/Toronto:20221219T160000
DTSTAMP:20260424T085819
CREATED:20221029T133839Z
LAST-MODIFIED:20221029T133839Z
UID:4064-1671454800-1671465600@mapleleafacres.ca
SUMMARY:Pokeno
DESCRIPTION:
URL:https://mapleleafacres.ca/event/pokeno-28/
CATEGORIES:Fireside Room
END:VEVENT
BEGIN:VEVENT
DTSTART;VALUE=DATE:20221218
DTEND;VALUE=DATE:20221219
DTSTAMP:20260424T085819
CREATED:20221028T190101Z
LAST-MODIFIED:20221028T190101Z
UID:4035-1671321600-1671407999@mapleleafacres.ca
SUMMARY:Private Party
DESCRIPTION:
URL:https://mapleleafacres.ca/event/private-party-40/
CATEGORIES:Fireside Room
END:VEVENT
BEGIN:VEVENT
DTSTART;TZID=America/Toronto:20221217T190000
DTEND;TZID=America/Toronto:20221217T220000
DTSTAMP:20260424T085819
CREATED:20220727T184537Z
LAST-MODIFIED:20220727T184537Z
UID:3796-1671303600-1671314400@mapleleafacres.ca
SUMMARY:Darts
DESCRIPTION:
URL:https://mapleleafacres.ca/event/darts-28/
CATEGORIES:Rec. Hall
END:VEVENT
BEGIN:VEVENT
DTSTART;VALUE=DATE:20221217
DTEND;VALUE=DATE:20221218
DTSTAMP:20260424T085819
CREATED:20220914T144400Z
LAST-MODIFIED:20220914T144400Z
UID:3901-1671235200-1671321599@mapleleafacres.ca
SUMMARY:Private Party
DESCRIPTION:
URL:https://mapleleafacres.ca/event/private-party-36/
CATEGORIES:Adult Hall
END:VEVENT
BEGIN:VEVENT
DTSTART;TZID=America/Toronto:20221216T130000
DTEND;TZID=America/Toronto:20221216T170000
DTSTAMP:20260424T085819
CREATED:20221029T135611Z
LAST-MODIFIED:20221029T135611Z
UID:4131-1671195600-1671210000@mapleleafacres.ca
SUMMARY:Euchre
DESCRIPTION:
URL:https://mapleleafacres.ca/event/euchre-24/
CATEGORIES:Adult Hall
END:VEVENT
BEGIN:VEVENT
DTSTART;TZID=America/Toronto:20221215T130000
DTEND;TZID=America/Toronto:20221215T150000
DTSTAMP:20260424T085819
CREATED:20221029T141258Z
LAST-MODIFIED:20221029T141258Z
UID:4153-1671109200-1671116400@mapleleafacres.ca
SUMMARY:Card Bingo
DESCRIPTION:
URL:https://mapleleafacres.ca/event/card-bingo-23/
CATEGORIES:Adult Hall
END:VEVENT
BEGIN:VEVENT
DTSTART;TZID=America/Toronto:20221214T140000
DTEND;TZID=America/Toronto:20221214T160000
DTSTAMP:20260424T085819
CREATED:20221028T185732Z
LAST-MODIFIED:20221028T185732Z
UID:4027-1671026400-1671033600@mapleleafacres.ca
SUMMARY:Fireside Craft Club
DESCRIPTION:*Come out and craft with your fellow park members \n*Bring your current craft project and materials \n*Enjoy each others companyand maybe even learn a new craft \nHosted by Sherry Allerton – 519-994-6008
URL:https://mapleleafacres.ca/event/fireside-craft-club-5/
CATEGORIES:Fireside Room
END:VEVENT
BEGIN:VEVENT
DTSTART;TZID=America/Toronto:20221214T130000
DTEND;TZID=America/Toronto:20221214T170000
DTSTAMP:20260424T085819
CREATED:20221029T135411Z
LAST-MODIFIED:20221029T135411Z
UID:4121-1671022800-1671037200@mapleleafacres.ca
SUMMARY:Euchre
DESCRIPTION:
URL:https://mapleleafacres.ca/event/euchre-19/
CATEGORIES:Adult Hall
END:VEVENT
BEGIN:VEVENT
DTSTART;TZID=America/Toronto:20221212T130000
DTEND;TZID=America/Toronto:20221212T170000
DTSTAMP:20260424T085819
CREATED:20221029T135239Z
LAST-MODIFIED:20221029T135239Z
UID:4113-1670850000-1670864400@mapleleafacres.ca
SUMMARY:Euchre
DESCRIPTION:
URL:https://mapleleafacres.ca/event/euchre-15/
CATEGORIES:Adult Hall
END:VEVENT
BEGIN:VEVENT
DTSTART;TZID=America/Toronto:20221212T130000
DTEND;TZID=America/Toronto:20221212T160000
DTSTAMP:20260424T085819
CREATED:20221029T133814Z
LAST-MODIFIED:20221029T133814Z
UID:4062-1670850000-1670860800@mapleleafacres.ca
SUMMARY:Pokeno
DESCRIPTION:
URL:https://mapleleafacres.ca/event/pokeno-27/
CATEGORIES:Fireside Room
END:VEVENT
BEGIN:VEVENT
DTSTART;TZID=America/Toronto:20221210T190000
DTEND;TZID=America/Toronto:20221210T220000
DTSTAMP:20260424T085819
CREATED:20220727T184451Z
LAST-MODIFIED:20220727T184451Z
UID:3794-1670698800-1670709600@mapleleafacres.ca
SUMMARY:Darts
DESCRIPTION:
URL:https://mapleleafacres.ca/event/darts-27/
CATEGORIES:Rec. Hall
END:VEVENT
BEGIN:VEVENT
DTSTART;TZID=America/Toronto:20221210T100000
DTEND;TZID=America/Toronto:20221210T130000
DTSTAMP:20260424T085819
CREATED:20220713T201321Z
LAST-MODIFIED:20220713T201522Z
UID:3726-1670666400-1670677200@mapleleafacres.ca
SUMMARY:Jack Frost
DESCRIPTION:Claen up
URL:https://mapleleafacres.ca/event/jack-frost-6/
CATEGORIES:Rec. Hall
END:VEVENT
BEGIN:VEVENT
DTSTART;TZID=America/Toronto:20221209T130000
DTEND;TZID=America/Toronto:20221209T170000
DTSTAMP:20260424T085819
CREATED:20221029T135551Z
LAST-MODIFIED:20221029T135551Z
UID:4129-1670590800-1670605200@mapleleafacres.ca
SUMMARY:Euchre
DESCRIPTION:
URL:https://mapleleafacres.ca/event/euchre-23/
CATEGORIES:Adult Hall
END:VEVENT
BEGIN:VEVENT
DTSTART;VALUE=DATE:20221209
DTEND;VALUE=DATE:20221210
DTSTAMP:20260424T085819
CREATED:20220713T201228Z
LAST-MODIFIED:20220713T201236Z
UID:3724-1670544000-1670630399@mapleleafacres.ca
SUMMARY:Jack Frost - Christmas Dinner & Dance
DESCRIPTION:
URL:https://mapleleafacres.ca/event/jack-frost-christmas-dinner-dance/
CATEGORIES:Rec. Hall
END:VEVENT
BEGIN:VEVENT
DTSTART;TZID=America/Toronto:20221208T130000
DTEND;TZID=America/Toronto:20221208T150000
DTSTAMP:20260424T085819
CREATED:20221029T141236Z
LAST-MODIFIED:20221029T141236Z
UID:4151-1670504400-1670511600@mapleleafacres.ca
SUMMARY:Card Bingo
DESCRIPTION:
URL:https://mapleleafacres.ca/event/card-bingo-22/
CATEGORIES:Adult Hall
END:VEVENT
BEGIN:VEVENT
DTSTART;TZID=America/Toronto:20221207T140000
DTEND;TZID=America/Toronto:20221207T160000
DTSTAMP:20260424T085819
CREATED:20221028T185650Z
LAST-MODIFIED:20221028T185650Z
UID:4025-1670421600-1670428800@mapleleafacres.ca
SUMMARY:Firside Craft Club
DESCRIPTION:*Come out and craft with your fellow park members \n*Bring your current craft project and materials \n*Enjoy each others companyand maybe even learn a new craft \nHosted by Sherry Allerton – 519-994-6008
URL:https://mapleleafacres.ca/event/firside-craft-club/
CATEGORIES:Fireside Room
END:VEVENT
BEGIN:VEVENT
DTSTART;TZID=America/Toronto:20221207T130000
DTEND;TZID=America/Toronto:20221207T170000
DTSTAMP:20260424T085819
CREATED:20221029T135348Z
LAST-MODIFIED:20221029T135348Z
UID:4119-1670418000-1670432400@mapleleafacres.ca
SUMMARY:Euchre
DESCRIPTION:
URL:https://mapleleafacres.ca/event/euchre-18/
CATEGORIES:Adult Hall
END:VEVENT
BEGIN:VEVENT
DTSTART;TZID=America/Toronto:20221205T130000
DTEND;TZID=America/Toronto:20221205T170000
DTSTAMP:20260424T085819
CREATED:20221029T135219Z
LAST-MODIFIED:20221029T135219Z
UID:4111-1670245200-1670259600@mapleleafacres.ca
SUMMARY:Euchre
DESCRIPTION:
URL:https://mapleleafacres.ca/event/euchre-14/
CATEGORIES:Adult Hall
END:VEVENT
BEGIN:VEVENT
DTSTART;TZID=America/Toronto:20221205T130000
DTEND;TZID=America/Toronto:20221205T160000
DTSTAMP:20260424T085819
CREATED:20221029T133744Z
LAST-MODIFIED:20221029T133744Z
UID:4060-1670245200-1670256000@mapleleafacres.ca
SUMMARY:Pokeno
DESCRIPTION:
URL:https://mapleleafacres.ca/event/pokeno-26/
CATEGORIES:Fireside Room
END:VEVENT
BEGIN:VEVENT
DTSTART;TZID=America/Toronto:20221204T120000
DTEND;TZID=America/Toronto:20221204T233000
DTSTAMP:20260424T085819
CREATED:20221028T190029Z
LAST-MODIFIED:20221028T190036Z
UID:4033-1670155200-1670196600@mapleleafacres.ca
SUMMARY:Private Party
DESCRIPTION:
URL:https://mapleleafacres.ca/event/private-party-39/
CATEGORIES:Fireside Room
END:VEVENT
BEGIN:VEVENT
DTSTART;TZID=America/Toronto:20221204T090000
DTEND;TZID=America/Toronto:20221204T110000
DTSTAMP:20260424T085819
CREATED:20221029T134310Z
LAST-MODIFIED:20221029T134310Z
UID:4078-1670144400-1670151600@mapleleafacres.ca
SUMMARY:Coffee Chat
DESCRIPTION:
URL:https://mapleleafacres.ca/event/coffee-chat-14/
CATEGORIES:Adult Hall
END:VEVENT
BEGIN:VEVENT
DTSTART;VALUE=DATE:20221204
DTEND;VALUE=DATE:20221205
DTSTAMP:20260424T085819
CREATED:20220907T142944Z
LAST-MODIFIED:20220907T142944Z
UID:3894-1670112000-1670198399@mapleleafacres.ca
SUMMARY:Private Party
DESCRIPTION:
URL:https://mapleleafacres.ca/event/private-party-34/
CATEGORIES:Fireside Room
END:VEVENT
BEGIN:VEVENT
DTSTART;TZID=America/Toronto:20221203T190000
DTEND;TZID=America/Toronto:20221203T220000
DTSTAMP:20260424T085819
CREATED:20220727T184413Z
LAST-MODIFIED:20220727T184413Z
UID:3792-1670094000-1670104800@mapleleafacres.ca
SUMMARY:Darts
DESCRIPTION:
URL:https://mapleleafacres.ca/event/darts-26/
CATEGORIES:Rec. Hall
END:VEVENT
BEGIN:VEVENT
DTSTART;TZID=America/Toronto:20221202T170000
DTEND;TZID=America/Toronto:20221202T233000
DTSTAMP:20260424T085819
CREATED:20221029T134454Z
LAST-MODIFIED:20221125T153032Z
UID:4083-1670000400-1670023800@mapleleafacres.ca
SUMMARY:Private Party
DESCRIPTION:
URL:https://mapleleafacres.ca/event/private-party-46/
CATEGORIES:Rec. Hall
END:VEVENT
BEGIN:VEVENT
DTSTART;TZID=America/Toronto:20221202T130000
DTEND;TZID=America/Toronto:20221202T170000
DTSTAMP:20260424T085819
CREATED:20221029T135521Z
LAST-MODIFIED:20221029T135521Z
UID:4127-1669986000-1670000400@mapleleafacres.ca
SUMMARY:Euchre
DESCRIPTION:
URL:https://mapleleafacres.ca/event/euchre-22/
CATEGORIES:Adult Hall
END:VEVENT
BEGIN:VEVENT
DTSTART;TZID=America/Toronto:20221201T130000
DTEND;TZID=America/Toronto:20221201T150000
DTSTAMP:20260424T085819
CREATED:20221029T141209Z
LAST-MODIFIED:20221029T141209Z
UID:4149-1669899600-1669906800@mapleleafacres.ca
SUMMARY:Card Bingo
DESCRIPTION:
URL:https://mapleleafacres.ca/event/card-bingo-21/
CATEGORIES:Adult Hall
END:VEVENT
BEGIN:VEVENT
DTSTART;TZID=America/Toronto:20221130T140000
DTEND;TZID=America/Toronto:20221130T160000
DTSTAMP:20260424T085819
CREATED:20221028T185606Z
LAST-MODIFIED:20221028T185606Z
UID:4023-1669816800-1669824000@mapleleafacres.ca
SUMMARY:Fireside Craft Club
DESCRIPTION:*Come out and craft with your fellow park members \n*Bring your current craft project and materials \n*Enjoy each others companyand maybe even learn a new craft \nHosted by Sherry Allerton – 519-994-6008
URL:https://mapleleafacres.ca/event/fireside-craft-club-4/
CATEGORIES:Fireside Room
END:VEVENT
BEGIN:VEVENT
DTSTART;TZID=America/Toronto:20221130T130000
DTEND;TZID=America/Toronto:20221130T170000
DTSTAMP:20260424T085819
CREATED:20221029T134940Z
LAST-MODIFIED:20221029T134940Z
UID:4101-1669813200-1669827600@mapleleafacres.ca
SUMMARY:Euchre
DESCRIPTION:
URL:https://mapleleafacres.ca/event/euchre-9/
CATEGORIES:Adult Hall
END:VEVENT
BEGIN:VEVENT
DTSTART;TZID=America/Toronto:20221130T080000
DTEND;TZID=America/Toronto:20221130T170000
DTSTAMP:20260424T085819
CREATED:20221028T185511Z
LAST-MODIFIED:20221028T185511Z
UID:4021-1669795200-1669827600@mapleleafacres.ca
SUMMARY:Fireside Craft Club
DESCRIPTION:*Come out and craft with your fellow park members \n*Bring your current craft project and materials \n*Enjoy each others companyand maybe even learn a new craft \nHosted by Sherry Allerton – 519-994-6008
URL:https://mapleleafacres.ca/event/fireside-craft-club-3/
CATEGORIES:Fireside Room
END:VEVENT
END:VCALENDAR