BEGIN:VCALENDAR
VERSION:2.0
PRODID:-//Maple Leaf Acres - ECPv6.15.18//NONSGML v1.0//EN
CALSCALE:GREGORIAN
METHOD:PUBLISH
X-WR-CALNAME:Maple Leaf Acres
X-ORIGINAL-URL:https://mapleleafacres.ca
X-WR-CALDESC:Events for Maple Leaf Acres
REFRESH-INTERVAL;VALUE=DURATION:PT1H
X-Robots-Tag:noindex
X-PUBLISHED-TTL:PT1H
BEGIN:VTIMEZONE
TZID:America/Toronto
BEGIN:DAYLIGHT
TZOFFSETFROM:-0500
TZOFFSETTO:-0400
TZNAME:EDT
DTSTART:20210314T070000
END:DAYLIGHT
BEGIN:STANDARD
TZOFFSETFROM:-0400
TZOFFSETTO:-0500
TZNAME:EST
DTSTART:20211107T060000
END:STANDARD
BEGIN:DAYLIGHT
TZOFFSETFROM:-0500
TZOFFSETTO:-0400
TZNAME:EDT
DTSTART:20220313T070000
END:DAYLIGHT
BEGIN:STANDARD
TZOFFSETFROM:-0400
TZOFFSETTO:-0500
TZNAME:EST
DTSTART:20221106T060000
END:STANDARD
BEGIN:DAYLIGHT
TZOFFSETFROM:-0500
TZOFFSETTO:-0400
TZNAME:EDT
DTSTART:20230312T070000
END:DAYLIGHT
BEGIN:STANDARD
TZOFFSETFROM:-0400
TZOFFSETTO:-0500
TZNAME:EST
DTSTART:20231105T060000
END:STANDARD
END:VTIMEZONE
BEGIN:VEVENT
DTSTART;TZID=America/Toronto:20220715T100000
DTEND;TZID=America/Toronto:20220715T233000
DTSTAMP:20260424T222815
CREATED:20220609T140308Z
LAST-MODIFIED:20220609T140308Z
UID:3300-1657879200-1657927800@mapleleafacres.ca
SUMMARY:Private Party
DESCRIPTION:
URL:https://mapleleafacres.ca/event/private-party-13/
CATEGORIES:Adult Hall
END:VEVENT
BEGIN:VEVENT
DTSTART;TZID=America/Toronto:20220714T130000
DTEND;TZID=America/Toronto:20220714T160000
DTSTAMP:20260424T222815
CREATED:20220609T140202Z
LAST-MODIFIED:20220609T140202Z
UID:3296-1657803600-1657814400@mapleleafacres.ca
SUMMARY:Card Bingo
DESCRIPTION:
URL:https://mapleleafacres.ca/event/card-bingo-2/
CATEGORIES:Adult Hall
END:VEVENT
BEGIN:VEVENT
DTSTART;TZID=America/Toronto:20220713T190000
DTEND;TZID=America/Toronto:20220713T210000
DTSTAMP:20260424T222815
CREATED:20220616T153118Z
LAST-MODIFIED:20220616T153118Z
UID:3570-1657738800-1657746000@mapleleafacres.ca
SUMMARY:Darts
DESCRIPTION:
URL:https://mapleleafacres.ca/event/darts-4/
CATEGORIES:Rec. Hall
END:VEVENT
BEGIN:VEVENT
DTSTART;TZID=America/Toronto:20220713T170000
DTEND;TZID=America/Toronto:20220713T210000
DTSTAMP:20260424T222815
CREATED:20220615T203758Z
LAST-MODIFIED:20220615T203758Z
UID:3478-1657731600-1657746000@mapleleafacres.ca
SUMMARY:Private Function
DESCRIPTION:
URL:https://mapleleafacres.ca/event/private-function-2/
CATEGORIES:Fireside Room
END:VEVENT
BEGIN:VEVENT
DTSTART;TZID=America/Toronto:20220713T130000
DTEND;TZID=America/Toronto:20220713T160000
DTSTAMP:20260424T222815
CREATED:20220609T140105Z
LAST-MODIFIED:20220609T140105Z
UID:3294-1657717200-1657728000@mapleleafacres.ca
SUMMARY:Bid Euchre
DESCRIPTION:
URL:https://mapleleafacres.ca/event/bid-euchre-5/
CATEGORIES:Adult Hall
END:VEVENT
BEGIN:VEVENT
DTSTART;TZID=America/Toronto:20220713T100000
DTEND;TZID=America/Toronto:20220713T120000
DTSTAMP:20260424T222815
CREATED:20220713T194509Z
LAST-MODIFIED:20220713T194509Z
UID:3668-1657706400-1657713600@mapleleafacres.ca
SUMMARY:Line Dancing
DESCRIPTION:
URL:https://mapleleafacres.ca/event/line-dancing/
CATEGORIES:Rec. Hall
END:VEVENT
BEGIN:VEVENT
DTSTART;TZID=America/Toronto:20220711T130000
DTEND;TZID=America/Toronto:20220711T160000
DTSTAMP:20260424T222815
CREATED:20220609T140020Z
LAST-MODIFIED:20220609T140020Z
UID:3292-1657544400-1657555200@mapleleafacres.ca
SUMMARY:Bid Euchre
DESCRIPTION:
URL:https://mapleleafacres.ca/event/bid-euchre-4/
CATEGORIES:Adult Hall
END:VEVENT
BEGIN:VEVENT
DTSTART;TZID=America/Toronto:20220711T130000
DTEND;TZID=America/Toronto:20220711T153000
DTSTAMP:20260424T222815
CREATED:20220616T143620Z
LAST-MODIFIED:20220616T143620Z
UID:3482-1657544400-1657553400@mapleleafacres.ca
SUMMARY:Pokeno
DESCRIPTION:
URL:https://mapleleafacres.ca/event/pokeno-4/
CATEGORIES:Fireside Room
END:VEVENT
BEGIN:VEVENT
DTSTART;TZID=America/Toronto:20220710T140000
DTEND;TZID=America/Toronto:20220710T140000
DTSTAMP:20260424T222815
CREATED:20220530T212113Z
LAST-MODIFIED:20220530T212113Z
UID:3196-1657461600-1657461600@mapleleafacres.ca
SUMMARY:The Great Scavenger Hunt
DESCRIPTION:See Poster for Details
URL:https://mapleleafacres.ca/event/the-great-scavenger-hunt/
CATEGORIES:Activities
END:VEVENT
BEGIN:VEVENT
DTSTART;TZID=America/Toronto:20220709T140000
DTEND;TZID=America/Toronto:20220709T180000
DTSTAMP:20260424T222815
CREATED:20220531T185843Z
LAST-MODIFIED:20220531T185843Z
UID:3227-1657375200-1657389600@mapleleafacres.ca
SUMMARY:Harmony Day
DESCRIPTION:
URL:https://mapleleafacres.ca/event/harmony-day-2/
END:VEVENT
BEGIN:VEVENT
DTSTART;TZID=America/Toronto:20220709T140000
DTEND;TZID=America/Toronto:20220709T140000
DTSTAMP:20260424T222815
CREATED:20220530T211556Z
LAST-MODIFIED:20220530T211556Z
UID:3191-1657375200-1657375200@mapleleafacres.ca
SUMMARY:Harmony Day
DESCRIPTION:
URL:https://mapleleafacres.ca/event/harmony-day/
CATEGORIES:Activities
END:VEVENT
BEGIN:VEVENT
DTSTART;TZID=America/Toronto:20220709T120000
DTEND;TZID=America/Toronto:20220709T233000
DTSTAMP:20260424T222815
CREATED:20220609T135414Z
LAST-MODIFIED:20220609T135414Z
UID:3280-1657368000-1657409400@mapleleafacres.ca
SUMMARY:Private Party
DESCRIPTION:
URL:https://mapleleafacres.ca/event/private-party-12/
CATEGORIES:Adult Hall
END:VEVENT
BEGIN:VEVENT
DTSTART;TZID=America/Toronto:20220708T133000
DTEND;TZID=America/Toronto:20220708T160000
DTSTAMP:20260424T222815
CREATED:20220616T155528Z
LAST-MODIFIED:20220616T155528Z
UID:3609-1657287000-1657296000@mapleleafacres.ca
SUMMARY:shuffleboard
DESCRIPTION:
URL:https://mapleleafacres.ca/event/shuffleboard-4/
CATEGORIES:Rec. Hall
END:VEVENT
BEGIN:VEVENT
DTSTART;TZID=America/Toronto:20220708T130000
DTEND;TZID=America/Toronto:20220708T160000
DTSTAMP:20260424T222815
CREATED:20220609T140234Z
LAST-MODIFIED:20220609T140234Z
UID:3298-1657285200-1657296000@mapleleafacres.ca
SUMMARY:Bid Euchre
DESCRIPTION:
URL:https://mapleleafacres.ca/event/bid-euchre-6/
CATEGORIES:Adult Hall
END:VEVENT
BEGIN:VEVENT
DTSTART;TZID=America/Toronto:20220707T130000
DTEND;TZID=America/Toronto:20220707T160000
DTSTAMP:20260424T222815
CREATED:20220609T135836Z
LAST-MODIFIED:20220609T135836Z
UID:3290-1657198800-1657209600@mapleleafacres.ca
SUMMARY:Card Bingo
DESCRIPTION:
URL:https://mapleleafacres.ca/event/card-bingo/
CATEGORIES:Adult Hall
END:VEVENT
BEGIN:VEVENT
DTSTART;TZID=America/Toronto:20220706T190000
DTEND;TZID=America/Toronto:20220706T210000
DTSTAMP:20260424T222815
CREATED:20220616T153041Z
LAST-MODIFIED:20220616T153041Z
UID:3568-1657134000-1657141200@mapleleafacres.ca
SUMMARY:Darts
DESCRIPTION:
URL:https://mapleleafacres.ca/event/darts-3/
CATEGORIES:Rec. Hall
END:VEVENT
BEGIN:VEVENT
DTSTART;TZID=America/Toronto:20220706T130000
DTEND;TZID=America/Toronto:20220706T160000
DTSTAMP:20260424T222815
CREATED:20220609T135755Z
LAST-MODIFIED:20220609T135755Z
UID:3288-1657112400-1657123200@mapleleafacres.ca
SUMMARY:Bid Euchre
DESCRIPTION:
URL:https://mapleleafacres.ca/event/bid-euchre-3/
CATEGORIES:Adult Hall
END:VEVENT
BEGIN:VEVENT
DTSTART;TZID=America/Toronto:20220704T130000
DTEND;TZID=America/Toronto:20220704T160000
DTSTAMP:20260424T222815
CREATED:20220609T135720Z
LAST-MODIFIED:20220609T135720Z
UID:3286-1656939600-1656950400@mapleleafacres.ca
SUMMARY:Bid Euchre
DESCRIPTION:
URL:https://mapleleafacres.ca/event/bid-euchre-2/
CATEGORIES:Adult Hall
END:VEVENT
BEGIN:VEVENT
DTSTART;TZID=America/Toronto:20220704T130000
DTEND;TZID=America/Toronto:20220704T153000
DTSTAMP:20260424T222815
CREATED:20220616T143538Z
LAST-MODIFIED:20220616T143538Z
UID:3480-1656939600-1656948600@mapleleafacres.ca
SUMMARY:Pokeno
DESCRIPTION:
URL:https://mapleleafacres.ca/event/pokeno-3/
CATEGORIES:Fireside Room
END:VEVENT
BEGIN:VEVENT
DTSTART;TZID=America/Toronto:20220703T090000
DTEND;TZID=America/Toronto:20220703T110000
DTSTAMP:20260424T222815
CREATED:20220609T135514Z
LAST-MODIFIED:20220609T135514Z
UID:3282-1656838800-1656846000@mapleleafacres.ca
SUMMARY:Coffee Chat
DESCRIPTION:
URL:https://mapleleafacres.ca/event/coffee-chat-3/
CATEGORIES:Adult Hall
END:VEVENT
BEGIN:VEVENT
DTSTART;VALUE=DATE:20220702
DTEND;VALUE=DATE:20220703
DTSTAMP:20260424T222815
CREATED:20220615T190024Z
LAST-MODIFIED:20220622T144355Z
UID:3437-1656720000-1656806399@mapleleafacres.ca
SUMMARY:Ana Periera
DESCRIPTION:
URL:https://mapleleafacres.ca/event/private-party-18/
CATEGORIES:Adult Hall
END:VEVENT
BEGIN:VEVENT
DTSTART;VALUE=DATE:20220702
DTEND;VALUE=DATE:20220703
DTSTAMP:20260424T222815
CREATED:20220530T222201Z
LAST-MODIFIED:20220530T222201Z
UID:3222-1656720000-1656806399@mapleleafacres.ca
SUMMARY:Celebrate Canada
DESCRIPTION:Decorate your lot! Judging 3-5 pm
URL:https://mapleleafacres.ca/event/celebrate-canada/
CATEGORIES:Activities
END:VEVENT
BEGIN:VEVENT
DTSTART;TZID=America/Toronto:20220701T133000
DTEND;TZID=America/Toronto:20220701T160000
DTSTAMP:20260424T222815
CREATED:20220616T155448Z
LAST-MODIFIED:20220616T155448Z
UID:3607-1656682200-1656691200@mapleleafacres.ca
SUMMARY:shuffleboard
DESCRIPTION:
URL:https://mapleleafacres.ca/event/shuffleboard-3/
CATEGORIES:Rec. Hall
END:VEVENT
BEGIN:VEVENT
DTSTART;TZID=America/Toronto:20220701T130000
DTEND;TZID=America/Toronto:20220701T160000
DTSTAMP:20260424T222815
CREATED:20220609T135636Z
LAST-MODIFIED:20220609T135636Z
UID:3284-1656680400-1656691200@mapleleafacres.ca
SUMMARY:Bid Euchre
DESCRIPTION:
URL:https://mapleleafacres.ca/event/bid-euchre/
CATEGORIES:Adult Hall
END:VEVENT
BEGIN:VEVENT
DTSTART;TZID=America/Toronto:20220630T130000
DTEND;TZID=America/Toronto:20220630T160000
DTSTAMP:20260424T222815
CREATED:20220609T142022Z
LAST-MODIFIED:20220609T142022Z
UID:3348-1656594000-1656604800@mapleleafacres.ca
SUMMARY:Card Bingo
DESCRIPTION:
URL:https://mapleleafacres.ca/event/card-bingo-8/
CATEGORIES:Adult Hall
END:VEVENT
BEGIN:VEVENT
DTSTART;TZID=America/Toronto:20220629T190000
DTEND;TZID=America/Toronto:20220629T210000
DTSTAMP:20260424T222815
CREATED:20220616T152926Z
LAST-MODIFIED:20220616T152926Z
UID:3566-1656529200-1656536400@mapleleafacres.ca
SUMMARY:Darts
DESCRIPTION:
URL:https://mapleleafacres.ca/event/darts-2/
CATEGORIES:Rec. Hall
END:VEVENT
BEGIN:VEVENT
DTSTART;TZID=America/Toronto:20220629T170000
DTEND;TZID=America/Toronto:20220629T210000
DTSTAMP:20260424T222815
CREATED:20220615T203248Z
LAST-MODIFIED:20220615T203248Z
UID:3469-1656522000-1656536400@mapleleafacres.ca
SUMMARY:Private Function
DESCRIPTION:
URL:https://mapleleafacres.ca/event/private-function/
CATEGORIES:Fireside Room
END:VEVENT
BEGIN:VEVENT
DTSTART;TZID=America/Toronto:20220629T130000
DTEND;TZID=America/Toronto:20220629T160000
DTSTAMP:20260424T222815
CREATED:20220609T141912Z
LAST-MODIFIED:20220609T141912Z
UID:3344-1656507600-1656518400@mapleleafacres.ca
SUMMARY:Bid Euchre
DESCRIPTION:
URL:https://mapleleafacres.ca/event/bid-euchre-20/
CATEGORIES:Adult Hall
END:VEVENT
BEGIN:VEVENT
DTSTART;TZID=America/Toronto:20220627T130000
DTEND;TZID=America/Toronto:20220627T160000
DTSTAMP:20260424T222815
CREATED:20220609T141704Z
LAST-MODIFIED:20220609T141704Z
UID:3340-1656334800-1656345600@mapleleafacres.ca
SUMMARY:Bid Euchre
DESCRIPTION:
URL:https://mapleleafacres.ca/event/bid-euchre-18/
CATEGORIES:Adult Hall
END:VEVENT
BEGIN:VEVENT
DTSTART;TZID=America/Toronto:20220627T130000
DTEND;TZID=America/Toronto:20220627T153000
DTSTAMP:20260424T222815
CREATED:20220615T203355Z
LAST-MODIFIED:20220615T203546Z
UID:3471-1656334800-1656343800@mapleleafacres.ca
SUMMARY:Pokeno
DESCRIPTION:
URL:https://mapleleafacres.ca/event/pokeno/
CATEGORIES:Fireside Room
END:VEVENT
END:VCALENDAR