BEGIN:VCALENDAR
VERSION:2.0
PRODID:-//Maple Leaf Acres - ECPv6.15.18//NONSGML v1.0//EN
CALSCALE:GREGORIAN
METHOD:PUBLISH
X-WR-CALNAME:Maple Leaf Acres
X-ORIGINAL-URL:https://mapleleafacres.ca
X-WR-CALDESC:Events for Maple Leaf Acres
REFRESH-INTERVAL;VALUE=DURATION:PT1H
X-Robots-Tag:noindex
X-PUBLISHED-TTL:PT1H
BEGIN:VTIMEZONE
TZID:America/Toronto
BEGIN:DAYLIGHT
TZOFFSETFROM:-0500
TZOFFSETTO:-0400
TZNAME:EDT
DTSTART:20210314T070000
END:DAYLIGHT
BEGIN:STANDARD
TZOFFSETFROM:-0400
TZOFFSETTO:-0500
TZNAME:EST
DTSTART:20211107T060000
END:STANDARD
BEGIN:DAYLIGHT
TZOFFSETFROM:-0500
TZOFFSETTO:-0400
TZNAME:EDT
DTSTART:20220313T070000
END:DAYLIGHT
BEGIN:STANDARD
TZOFFSETFROM:-0400
TZOFFSETTO:-0500
TZNAME:EST
DTSTART:20221106T060000
END:STANDARD
BEGIN:DAYLIGHT
TZOFFSETFROM:-0500
TZOFFSETTO:-0400
TZNAME:EDT
DTSTART:20230312T070000
END:DAYLIGHT
BEGIN:STANDARD
TZOFFSETFROM:-0400
TZOFFSETTO:-0500
TZNAME:EST
DTSTART:20231105T060000
END:STANDARD
END:VTIMEZONE
BEGIN:VEVENT
DTSTART;TZID=America/Toronto:20221128T130000
DTEND;TZID=America/Toronto:20221128T160000
DTSTAMP:20260423T094947
CREATED:20221029T133548Z
LAST-MODIFIED:20221029T133548Z
UID:4058-1669640400-1669651200@mapleleafacres.ca
SUMMARY:Pokeno
DESCRIPTION:
URL:https://mapleleafacres.ca/event/pokeno-25/
CATEGORIES:Fireside Room
END:VEVENT
BEGIN:VEVENT
DTSTART;TZID=America/Toronto:20221126T190000
DTEND;TZID=America/Toronto:20221126T220000
DTSTAMP:20260423T094947
CREATED:20220727T184321Z
LAST-MODIFIED:20220727T184321Z
UID:3790-1669489200-1669500000@mapleleafacres.ca
SUMMARY:Darts
DESCRIPTION:
URL:https://mapleleafacres.ca/event/darts-25/
CATEGORIES:Rec. Hall
END:VEVENT
BEGIN:VEVENT
DTSTART;TZID=America/Toronto:20221126T140000
DTEND;TZID=America/Toronto:20221126T233000
DTSTAMP:20260423T094947
CREATED:20221029T134108Z
LAST-MODIFIED:20221029T134108Z
UID:4072-1669471200-1669505400@mapleleafacres.ca
SUMMARY:Private Party
DESCRIPTION:
URL:https://mapleleafacres.ca/event/private-party-45/
CATEGORIES:Adult Hall
END:VEVENT
BEGIN:VEVENT
DTSTART;TZID=America/Toronto:20221126T140000
DTEND;TZID=America/Toronto:20221126T220000
DTSTAMP:20260423T094947
CREATED:20221003T160847Z
LAST-MODIFIED:20221003T160847Z
UID:3939-1669471200-1669500000@mapleleafacres.ca
SUMMARY:Private Party
DESCRIPTION:
URL:https://mapleleafacres.ca/event/private-party-38/
CATEGORIES:Fireside Room
END:VEVENT
BEGIN:VEVENT
DTSTART;VALUE=DATE:20221126
DTEND;VALUE=DATE:20221127
DTSTAMP:20260423T094947
CREATED:20221003T160759Z
LAST-MODIFIED:20221003T160759Z
UID:3937-1669420800-1669507199@mapleleafacres.ca
SUMMARY:Private Party
DESCRIPTION:
URL:https://mapleleafacres.ca/event/private-party-23/
CATEGORIES:Adult Hall
END:VEVENT
BEGIN:VEVENT
DTSTART;TZID=America/Toronto:20221125T190000
DTEND;TZID=America/Toronto:20221125T233000
DTSTAMP:20260423T094947
CREATED:20220713T200331Z
LAST-MODIFIED:20220713T200331Z
UID:3712-1669402800-1669419000@mapleleafacres.ca
SUMMARY:Jack Frost
DESCRIPTION:
URL:https://mapleleafacres.ca/event/jack-frost-2/
CATEGORIES:Adult Hall
END:VEVENT
BEGIN:VEVENT
DTSTART;TZID=America/Toronto:20221125T133000
DTEND;TZID=America/Toronto:20221125T160000
DTSTAMP:20260423T094947
CREATED:20220727T182235Z
LAST-MODIFIED:20220727T182235Z
UID:3774-1669383000-1669392000@mapleleafacres.ca
SUMMARY:ShuffleBoard
DESCRIPTION:
URL:https://mapleleafacres.ca/event/shuffleboard-23/
CATEGORIES:Rec. Hall
END:VEVENT
BEGIN:VEVENT
DTSTART;TZID=America/Toronto:20221125T130000
DTEND;TZID=America/Toronto:20221125T160000
DTSTAMP:20260423T094947
CREATED:20221029T135116Z
LAST-MODIFIED:20221029T135116Z
UID:4109-1669381200-1669392000@mapleleafacres.ca
SUMMARY:Euchre
DESCRIPTION:
URL:https://mapleleafacres.ca/event/euchre-13/
CATEGORIES:Adult Hall
END:VEVENT
BEGIN:VEVENT
DTSTART;TZID=America/Toronto:20221124T130000
DTEND;TZID=America/Toronto:20221124T150000
DTSTAMP:20260423T094947
CREATED:20221029T141143Z
LAST-MODIFIED:20221029T141143Z
UID:4147-1669294800-1669302000@mapleleafacres.ca
SUMMARY:Card Bingo
DESCRIPTION:
URL:https://mapleleafacres.ca/event/card-bingo-20/
CATEGORIES:Adult Hall
END:VEVENT
BEGIN:VEVENT
DTSTART;TZID=America/Toronto:20221123T140000
DTEND;TZID=America/Toronto:20221123T160000
DTSTAMP:20260423T094947
CREATED:20221028T185441Z
LAST-MODIFIED:20221028T185441Z
UID:4019-1669212000-1669219200@mapleleafacres.ca
SUMMARY:Fireside Craft Club
DESCRIPTION:*Come out and craft with your fellow park members \n*Bring your current craft project and materials \n*Enjoy each others companyand maybe even learn a new craft \nHosted by Sherry Allerton – 519-994-6008
URL:https://mapleleafacres.ca/event/fireside-craft-club-2/
CATEGORIES:Fireside Room
END:VEVENT
BEGIN:VEVENT
DTSTART;TZID=America/Toronto:20221123T130000
DTEND;TZID=America/Toronto:20221123T170000
DTSTAMP:20260423T094947
CREATED:20221029T134920Z
LAST-MODIFIED:20221029T134920Z
UID:4099-1669208400-1669222800@mapleleafacres.ca
SUMMARY:Euchre
DESCRIPTION:
URL:https://mapleleafacres.ca/event/euchre-8/
CATEGORIES:Adult Hall
END:VEVENT
BEGIN:VEVENT
DTSTART;TZID=America/Toronto:20221121T130000
DTEND;TZID=America/Toronto:20221121T170000
DTSTAMP:20260423T094947
CREATED:20221029T134727Z
LAST-MODIFIED:20221029T134727Z
UID:4089-1669035600-1669050000@mapleleafacres.ca
SUMMARY:Euchre
DESCRIPTION:
URL:https://mapleleafacres.ca/event/euchre-3/
CATEGORIES:Adult Hall
END:VEVENT
BEGIN:VEVENT
DTSTART;TZID=America/Toronto:20221121T130000
DTEND;TZID=America/Toronto:20221121T160000
DTSTAMP:20260423T094947
CREATED:20221029T133520Z
LAST-MODIFIED:20221029T133520Z
UID:4056-1669035600-1669046400@mapleleafacres.ca
SUMMARY:Pokeno
DESCRIPTION:
URL:https://mapleleafacres.ca/event/pokeno-24/
CATEGORIES:Fireside Room
END:VEVENT
BEGIN:VEVENT
DTSTART;TZID=America/Toronto:20221120T090000
DTEND;TZID=America/Toronto:20221120T110000
DTSTAMP:20260423T094947
CREATED:20221029T134234Z
LAST-MODIFIED:20221029T134234Z
UID:4076-1668934800-1668942000@mapleleafacres.ca
SUMMARY:Coffee Chat
DESCRIPTION:
URL:https://mapleleafacres.ca/event/coffee-chat-13/
CATEGORIES:Adult Hall
END:VEVENT
BEGIN:VEVENT
DTSTART;TZID=America/Toronto:20221119T190000
DTEND;TZID=America/Toronto:20221119T220000
DTSTAMP:20260423T094947
CREATED:20220727T184244Z
LAST-MODIFIED:20220727T184244Z
UID:3788-1668884400-1668895200@mapleleafacres.ca
SUMMARY:Darts
DESCRIPTION:
URL:https://mapleleafacres.ca/event/darts-24/
CATEGORIES:Rec. Hall
END:VEVENT
BEGIN:VEVENT
DTSTART;TZID=America/Toronto:20221119T160000
DTEND;TZID=America/Toronto:20221119T233000
DTSTAMP:20260423T094947
CREATED:20221029T134035Z
LAST-MODIFIED:20221029T134035Z
UID:4070-1668873600-1668900600@mapleleafacres.ca
SUMMARY:Private Party
DESCRIPTION:
URL:https://mapleleafacres.ca/event/private-party-44/
CATEGORIES:Adult Hall
END:VEVENT
BEGIN:VEVENT
DTSTART;TZID=America/Toronto:20221118T133000
DTEND;TZID=America/Toronto:20221118T160000
DTSTAMP:20260423T094947
CREATED:20220727T182158Z
LAST-MODIFIED:20220727T182158Z
UID:3772-1668778200-1668787200@mapleleafacres.ca
SUMMARY:ShuffleBoard
DESCRIPTION:
URL:https://mapleleafacres.ca/event/shuffleboard-22/
CATEGORIES:Rec. Hall
END:VEVENT
BEGIN:VEVENT
DTSTART;TZID=America/Toronto:20221118T130000
DTEND;TZID=America/Toronto:20221118T170000
DTSTAMP:20260423T094947
CREATED:20221029T135051Z
LAST-MODIFIED:20221029T135051Z
UID:4107-1668776400-1668790800@mapleleafacres.ca
SUMMARY:Euchre
DESCRIPTION:
URL:https://mapleleafacres.ca/event/euchre-12/
CATEGORIES:Adult Hall
END:VEVENT
BEGIN:VEVENT
DTSTART;TZID=America/Toronto:20221117T130000
DTEND;TZID=America/Toronto:20221117T150000
DTSTAMP:20260423T094947
CREATED:20221029T141108Z
LAST-MODIFIED:20221029T141108Z
UID:4145-1668690000-1668697200@mapleleafacres.ca
SUMMARY:Card Bingo
DESCRIPTION:
URL:https://mapleleafacres.ca/event/card-bingo-19/
CATEGORIES:Adult Hall
END:VEVENT
BEGIN:VEVENT
DTSTART;TZID=America/Toronto:20221116T140000
DTEND;TZID=America/Toronto:20221116T160000
DTSTAMP:20260423T094947
CREATED:20221028T185401Z
LAST-MODIFIED:20221028T185401Z
UID:4017-1668607200-1668614400@mapleleafacres.ca
SUMMARY:Fireside Craft Club
DESCRIPTION:*Come out and craft with your fellow park members \n*Bring your current craft project and materials \n*Enjoy each others companyand maybe even learn a new craft \nHosted by Sherry Allerton – 519-994-6008
URL:https://mapleleafacres.ca/event/fireside-craft-club/
CATEGORIES:Fireside Room
END:VEVENT
BEGIN:VEVENT
DTSTART;TZID=America/Toronto:20221116T130000
DTEND;TZID=America/Toronto:20221116T170000
DTSTAMP:20260423T094947
CREATED:20221029T134901Z
LAST-MODIFIED:20221029T134901Z
UID:4097-1668603600-1668618000@mapleleafacres.ca
SUMMARY:Euchre
DESCRIPTION:
URL:https://mapleleafacres.ca/event/euchre-7/
CATEGORIES:Adult Hall
END:VEVENT
BEGIN:VEVENT
DTSTART;TZID=America/Toronto:20221114T130000
DTEND;TZID=America/Toronto:20221114T170000
DTSTAMP:20260423T094947
CREATED:20221029T134708Z
LAST-MODIFIED:20221029T134708Z
UID:4087-1668430800-1668445200@mapleleafacres.ca
SUMMARY:Euchre
DESCRIPTION:
URL:https://mapleleafacres.ca/event/euchre-2/
CATEGORIES:Adult Hall
END:VEVENT
BEGIN:VEVENT
DTSTART;TZID=America/Toronto:20221114T130000
DTEND;TZID=America/Toronto:20221114T160000
DTSTAMP:20260423T094947
CREATED:20221029T133448Z
LAST-MODIFIED:20221029T133448Z
UID:4054-1668430800-1668441600@mapleleafacres.ca
SUMMARY:Pokeno
DESCRIPTION:
URL:https://mapleleafacres.ca/event/pokeno-23/
CATEGORIES:Fireside Room
END:VEVENT
BEGIN:VEVENT
DTSTART;TZID=America/Toronto:20221112T190000
DTEND;TZID=America/Toronto:20221112T220000
DTSTAMP:20260423T094947
CREATED:20220727T184157Z
LAST-MODIFIED:20220727T184157Z
UID:3786-1668279600-1668290400@mapleleafacres.ca
SUMMARY:Darts
DESCRIPTION:
URL:https://mapleleafacres.ca/event/darts-23/
CATEGORIES:Rec. Hall
END:VEVENT
BEGIN:VEVENT
DTSTART;VALUE=DATE:20221112
DTEND;VALUE=DATE:20221113
DTSTAMP:20260423T094947
CREATED:20221029T134002Z
LAST-MODIFIED:20221029T134002Z
UID:4068-1668211200-1668297599@mapleleafacres.ca
SUMMARY:Private Party
DESCRIPTION:
URL:https://mapleleafacres.ca/event/private-party-43/
CATEGORIES:Adult Hall
END:VEVENT
BEGIN:VEVENT
DTSTART;TZID=America/Toronto:20221111T133000
DTEND;TZID=America/Toronto:20221111T160000
DTSTAMP:20260423T094947
CREATED:20220727T182024Z
LAST-MODIFIED:20220727T182117Z
UID:3770-1668173400-1668182400@mapleleafacres.ca
SUMMARY:ShuffleBoard
DESCRIPTION:
URL:https://mapleleafacres.ca/event/shuffleboard-21/
CATEGORIES:Rec. Hall
END:VEVENT
BEGIN:VEVENT
DTSTART;TZID=America/Toronto:20221111T130000
DTEND;TZID=America/Toronto:20221111T170000
DTSTAMP:20260423T094947
CREATED:20221029T135029Z
LAST-MODIFIED:20221029T135029Z
UID:4105-1668171600-1668186000@mapleleafacres.ca
SUMMARY:Euchre
DESCRIPTION:
URL:https://mapleleafacres.ca/event/euchre-11/
CATEGORIES:Adult Hall
END:VEVENT
BEGIN:VEVENT
DTSTART;TZID=America/Toronto:20221110T130000
DTEND;TZID=America/Toronto:20221110T150000
DTSTAMP:20260423T094947
CREATED:20221029T141043Z
LAST-MODIFIED:20221029T141043Z
UID:4143-1668085200-1668092400@mapleleafacres.ca
SUMMARY:Card Bingo
DESCRIPTION:
URL:https://mapleleafacres.ca/event/card-bingo-18/
CATEGORIES:Adult Hall
END:VEVENT
BEGIN:VEVENT
DTSTART;TZID=America/Toronto:20221109T130000
DTEND;TZID=America/Toronto:20221109T170000
DTSTAMP:20260423T094947
CREATED:20221029T134835Z
LAST-MODIFIED:20221029T134835Z
UID:4095-1667998800-1668013200@mapleleafacres.ca
SUMMARY:Euchre
DESCRIPTION:
URL:https://mapleleafacres.ca/event/euchre-6/
CATEGORIES:Adult Hall
END:VEVENT
BEGIN:VEVENT
DTSTART;TZID=America/Toronto:20221107T130000
DTEND;TZID=America/Toronto:20221107T170000
DTSTAMP:20260423T094947
CREATED:20221029T134649Z
LAST-MODIFIED:20221029T134649Z
UID:4085-1667826000-1667840400@mapleleafacres.ca
SUMMARY:Euchre
DESCRIPTION:
URL:https://mapleleafacres.ca/event/euchre/
CATEGORIES:Adult Hall
END:VEVENT
END:VCALENDAR