BEGIN:VCALENDAR
VERSION:2.0
PRODID:-//Maple Leaf Acres - ECPv6.15.18//NONSGML v1.0//EN
CALSCALE:GREGORIAN
METHOD:PUBLISH
X-WR-CALNAME:Maple Leaf Acres
X-ORIGINAL-URL:https://mapleleafacres.ca
X-WR-CALDESC:Events for Maple Leaf Acres
REFRESH-INTERVAL;VALUE=DURATION:PT1H
X-Robots-Tag:noindex
X-PUBLISHED-TTL:PT1H
BEGIN:VTIMEZONE
TZID:America/Toronto
BEGIN:DAYLIGHT
TZOFFSETFROM:-0500
TZOFFSETTO:-0400
TZNAME:EDT
DTSTART:20220313T070000
END:DAYLIGHT
BEGIN:STANDARD
TZOFFSETFROM:-0400
TZOFFSETTO:-0500
TZNAME:EST
DTSTART:20221106T060000
END:STANDARD
BEGIN:DAYLIGHT
TZOFFSETFROM:-0500
TZOFFSETTO:-0400
TZNAME:EDT
DTSTART:20230312T070000
END:DAYLIGHT
BEGIN:STANDARD
TZOFFSETFROM:-0400
TZOFFSETTO:-0500
TZNAME:EST
DTSTART:20231105T060000
END:STANDARD
BEGIN:DAYLIGHT
TZOFFSETFROM:-0500
TZOFFSETTO:-0400
TZNAME:EDT
DTSTART:20240310T070000
END:DAYLIGHT
BEGIN:STANDARD
TZOFFSETFROM:-0400
TZOFFSETTO:-0500
TZNAME:EST
DTSTART:20241103T060000
END:STANDARD
END:VTIMEZONE
BEGIN:VEVENT
DTSTART;TZID=America/Toronto:20230424T130000
DTEND;TZID=America/Toronto:20230424T160000
DTSTAMP:20260423T044602
CREATED:20230120T162929Z
LAST-MODIFIED:20230414T141235Z
UID:4548-1682341200-1682352000@mapleleafacres.ca
SUMMARY:Bid Euchre
DESCRIPTION:
URL:https://mapleleafacres.ca/event/bid-euchre-83/
CATEGORIES:Activities,Adult Hall
END:VEVENT
BEGIN:VEVENT
DTSTART;TZID=America/Toronto:20230423T090000
DTEND;TZID=America/Toronto:20230423T110000
DTSTAMP:20260423T044602
CREATED:20230118T210547Z
LAST-MODIFIED:20230414T141235Z
UID:4501-1682240400-1682247600@mapleleafacres.ca
SUMMARY:Coffee Chat
DESCRIPTION:
URL:https://mapleleafacres.ca/event/coffee-chat-23/
CATEGORIES:Activities,Adult Hall
END:VEVENT
BEGIN:VEVENT
DTSTART;TZID=America/Toronto:20230422T190000
DTEND;TZID=America/Toronto:20230422T190000
DTSTAMP:20260423T044602
CREATED:20230118T170805Z
LAST-MODIFIED:20230414T141235Z
UID:4309-1682190000-1682190000@mapleleafacres.ca
SUMMARY:Darts
DESCRIPTION:
URL:https://mapleleafacres.ca/event/darts-42/
CATEGORIES:Activities,Rec. Hall
END:VEVENT
BEGIN:VEVENT
DTSTART;TZID=America/Toronto:20230421T133000
DTEND;TZID=America/Toronto:20230421T160000
DTSTAMP:20260423T044602
CREATED:20230118T192212Z
LAST-MODIFIED:20230414T141235Z
UID:4399-1682083800-1682092800@mapleleafacres.ca
SUMMARY:Shuffle Board
DESCRIPTION:
URL:https://mapleleafacres.ca/event/shuffle-board-16/
CATEGORIES:Activities,Rec. Hall
END:VEVENT
BEGIN:VEVENT
DTSTART;TZID=America/Toronto:20230421T130000
DTEND;TZID=America/Toronto:20230421T160000
DTSTAMP:20260423T044602
CREATED:20230120T183000Z
LAST-MODIFIED:20230414T141235Z
UID:4562-1682082000-1682092800@mapleleafacres.ca
SUMMARY:Bid Euchre
DESCRIPTION:
URL:https://mapleleafacres.ca/event/bid-euchre-90/
CATEGORIES:Activities,Adult Hall
END:VEVENT
BEGIN:VEVENT
DTSTART;TZID=America/Toronto:20230419T190000
DTEND;TZID=America/Toronto:20230419T190000
DTSTAMP:20260423T044602
CREATED:20230118T183704Z
LAST-MODIFIED:20230414T141302Z
UID:4339-1681930800-1681930800@mapleleafacres.ca
SUMMARY:Fun Darts
DESCRIPTION:
URL:https://mapleleafacres.ca/event/fun-darts-14/
CATEGORIES:Activities,Rec. Hall
END:VEVENT
BEGIN:VEVENT
DTSTART;TZID=America/Toronto:20230419T140000
DTEND;TZID=America/Toronto:20230419T160000
DTSTAMP:20260423T044602
CREATED:20230118T165353Z
LAST-MODIFIED:20230414T141302Z
UID:4279-1681912800-1681920000@mapleleafacres.ca
SUMMARY:Fireside Craft Club
DESCRIPTION:*Come out and craft with your fellow park members \n*Bring your current craft project and materials \n*Enjoy each others companyand maybe even learn a new craft \nHosted by Sherry Allerton – 519-994-6008
URL:https://mapleleafacres.ca/event/fireside-craft-club-20/
CATEGORIES:Activities,Fireside Room
END:VEVENT
BEGIN:VEVENT
DTSTART;TZID=America/Toronto:20230419T130000
DTEND;TZID=America/Toronto:20230419T160000
DTSTAMP:20260423T044602
CREATED:20230120T182749Z
LAST-MODIFIED:20230414T141302Z
UID:4554-1681909200-1681920000@mapleleafacres.ca
SUMMARY:Bid Euchre
DESCRIPTION:
URL:https://mapleleafacres.ca/event/bid-euchre-86/
CATEGORIES:Activities,Adult Hall
END:VEVENT
BEGIN:VEVENT
DTSTART;TZID=America/Toronto:20230418T140000
DTEND;TZID=America/Toronto:20230418T160000
DTSTAMP:20260423T044602
CREATED:20230118T185945Z
LAST-MODIFIED:20230414T141302Z
UID:4367-1681826400-1681833600@mapleleafacres.ca
SUMMARY:Pickle Ball
DESCRIPTION:
URL:https://mapleleafacres.ca/event/pickle-ball-23/
CATEGORIES:Activities,Rec. Hall
END:VEVENT
BEGIN:VEVENT
DTSTART;TZID=America/Toronto:20230417T130000
DTEND;TZID=America/Toronto:20230417T160000
DTSTAMP:20260423T044602
CREATED:20230120T162903Z
LAST-MODIFIED:20230414T141302Z
UID:4546-1681736400-1681747200@mapleleafacres.ca
SUMMARY:Bid Euchre
DESCRIPTION:
URL:https://mapleleafacres.ca/event/bid-euchre-82/
CATEGORIES:Activities,Adult Hall
END:VEVENT
BEGIN:VEVENT
DTSTART;TZID=America/Toronto:20230416T130000
DTEND;TZID=America/Toronto:20230416T190000
DTSTAMP:20260423T044602
CREATED:20230412T171706Z
LAST-MODIFIED:20230414T141302Z
UID:5247-1681650000-1681671600@mapleleafacres.ca
SUMMARY:Private Party
DESCRIPTION:
URL:https://mapleleafacres.ca/event/private-party-68/
CATEGORIES:Activities,Adult Hall
END:VEVENT
BEGIN:VEVENT
DTSTART;TZID=America/Toronto:20230415T190000
DTEND;TZID=America/Toronto:20230415T190000
DTSTAMP:20260423T044602
CREATED:20230118T170737Z
LAST-MODIFIED:20230414T141302Z
UID:4307-1681585200-1681585200@mapleleafacres.ca
SUMMARY:Darts
DESCRIPTION:
URL:https://mapleleafacres.ca/event/darts-41/
CATEGORIES:Activities,Rec. Hall
END:VEVENT
BEGIN:VEVENT
DTSTART;TZID=America/Toronto:20230414T133000
DTEND;TZID=America/Toronto:20230414T160000
DTSTAMP:20260423T044602
CREATED:20230118T191927Z
LAST-MODIFIED:20230414T141302Z
UID:4397-1681479000-1681488000@mapleleafacres.ca
SUMMARY:Shuffle Board
DESCRIPTION:
URL:https://mapleleafacres.ca/event/shuffle-board-15/
CATEGORIES:Activities,Rec. Hall
END:VEVENT
BEGIN:VEVENT
DTSTART;TZID=America/Toronto:20230414T130000
DTEND;TZID=America/Toronto:20230414T160000
DTSTAMP:20260423T044602
CREATED:20230120T182928Z
LAST-MODIFIED:20230414T141303Z
UID:4560-1681477200-1681488000@mapleleafacres.ca
SUMMARY:Bid Euchre
DESCRIPTION:
URL:https://mapleleafacres.ca/event/bid-euchre-89/
CATEGORIES:Activities,Adult Hall
END:VEVENT
BEGIN:VEVENT
DTSTART;TZID=America/Toronto:20230412T190000
DTEND;TZID=America/Toronto:20230412T190000
DTSTAMP:20260423T044602
CREATED:20230118T183621Z
LAST-MODIFIED:20230414T141303Z
UID:4337-1681326000-1681326000@mapleleafacres.ca
SUMMARY:Fun Darts
DESCRIPTION:
URL:https://mapleleafacres.ca/event/fun-darts-13/
CATEGORIES:Activities,Rec. Hall
END:VEVENT
BEGIN:VEVENT
DTSTART;TZID=America/Toronto:20230412T140000
DTEND;TZID=America/Toronto:20230412T160000
DTSTAMP:20260423T044602
CREATED:20230118T165311Z
LAST-MODIFIED:20230414T141303Z
UID:4277-1681308000-1681315200@mapleleafacres.ca
SUMMARY:Fireside Craft Club
DESCRIPTION:*Come out and craft with your fellow park members \n*Bring your current craft project and materials \n*Enjoy each others companyand maybe even learn a new craft \nHosted by Sherry Allerton – 519-994-6008
URL:https://mapleleafacres.ca/event/fireside-craft-club-19/
CATEGORIES:Activities,Fireside Room
END:VEVENT
BEGIN:VEVENT
DTSTART;TZID=America/Toronto:20230412T130000
DTEND;TZID=America/Toronto:20230412T160000
DTSTAMP:20260423T044602
CREATED:20230120T163303Z
LAST-MODIFIED:20230414T141303Z
UID:4552-1681304400-1681315200@mapleleafacres.ca
SUMMARY:Bid Euchre
DESCRIPTION:
URL:https://mapleleafacres.ca/event/bid-euchre-85/
CATEGORIES:Activities,Adult Hall
END:VEVENT
BEGIN:VEVENT
DTSTART;TZID=America/Toronto:20230411T140000
DTEND;TZID=America/Toronto:20230411T160000
DTSTAMP:20260423T044602
CREATED:20230118T185918Z
LAST-MODIFIED:20230414T141303Z
UID:4365-1681221600-1681228800@mapleleafacres.ca
SUMMARY:Pickle Ball
DESCRIPTION:
URL:https://mapleleafacres.ca/event/pickle-ball-22/
CATEGORIES:Activities,Rec. Hall
END:VEVENT
BEGIN:VEVENT
DTSTART;TZID=America/Toronto:20230410T130000
DTEND;TZID=America/Toronto:20230410T160000
DTSTAMP:20260423T044602
CREATED:20230120T162835Z
LAST-MODIFIED:20230414T141303Z
UID:4544-1681131600-1681142400@mapleleafacres.ca
SUMMARY:Bid Euchre
DESCRIPTION:
URL:https://mapleleafacres.ca/event/bid-euchre-81/
CATEGORIES:Activities,Adult Hall
END:VEVENT
BEGIN:VEVENT
DTSTART;TZID=America/Toronto:20230409T090000
DTEND;TZID=America/Toronto:20230409T110000
DTSTAMP:20260423T044602
CREATED:20230118T210510Z
LAST-MODIFIED:20230414T141303Z
UID:4499-1681030800-1681038000@mapleleafacres.ca
SUMMARY:Coffee Chat
DESCRIPTION:
URL:https://mapleleafacres.ca/event/coffee-chat-22/
CATEGORIES:Activities,Adult Hall
END:VEVENT
BEGIN:VEVENT
DTSTART;TZID=America/Toronto:20230408T190000
DTEND;TZID=America/Toronto:20230408T190000
DTSTAMP:20260423T044602
CREATED:20230118T170706Z
LAST-MODIFIED:20230414T141303Z
UID:4305-1680980400-1680980400@mapleleafacres.ca
SUMMARY:Darts
DESCRIPTION:
URL:https://mapleleafacres.ca/event/darts-40/
CATEGORIES:Activities,Rec. Hall
END:VEVENT
BEGIN:VEVENT
DTSTART;TZID=America/Toronto:20230408T130000
DTEND;TZID=America/Toronto:20230408T170000
DTSTAMP:20260423T044602
CREATED:20230315T171814Z
LAST-MODIFIED:20230414T141303Z
UID:4954-1680958800-1680973200@mapleleafacres.ca
SUMMARY:Private Party
DESCRIPTION:
URL:https://mapleleafacres.ca/event/private-party-67/
CATEGORIES:Activities,Fireside Room
END:VEVENT
BEGIN:VEVENT
DTSTART;TZID=America/Toronto:20230407T133000
DTEND;TZID=America/Toronto:20230407T160000
DTSTAMP:20260423T044602
CREATED:20230118T191859Z
LAST-MODIFIED:20230414T141303Z
UID:4395-1680874200-1680883200@mapleleafacres.ca
SUMMARY:Shuffle Board
DESCRIPTION:
URL:https://mapleleafacres.ca/event/shuffle-board-14/
CATEGORIES:Activities,Rec. Hall
END:VEVENT
BEGIN:VEVENT
DTSTART;TZID=America/Toronto:20230407T130000
DTEND;TZID=America/Toronto:20230407T160000
DTSTAMP:20260423T044602
CREATED:20230120T182858Z
LAST-MODIFIED:20230414T141303Z
UID:4558-1680872400-1680883200@mapleleafacres.ca
SUMMARY:Bid Euchre
DESCRIPTION:
URL:https://mapleleafacres.ca/event/bid-euchre-88/
CATEGORIES:Activities,Adult Hall
END:VEVENT
BEGIN:VEVENT
DTSTART;TZID=America/Toronto:20230405T190000
DTEND;TZID=America/Toronto:20230405T190000
DTSTAMP:20260423T044602
CREATED:20230118T183551Z
LAST-MODIFIED:20230414T141303Z
UID:4335-1680721200-1680721200@mapleleafacres.ca
SUMMARY:Fun Darts
DESCRIPTION:
URL:https://mapleleafacres.ca/event/fun-darts-12/
CATEGORIES:Activities,Rec. Hall
END:VEVENT
BEGIN:VEVENT
DTSTART;TZID=America/Toronto:20230405T140000
DTEND;TZID=America/Toronto:20230405T160000
DTSTAMP:20260423T044602
CREATED:20230118T165201Z
LAST-MODIFIED:20230118T165201Z
UID:4275-1680703200-1680710400@mapleleafacres.ca
SUMMARY:Fireside Craft Club
DESCRIPTION:*Come out and craft with your fellow park members \n*Bring your current craft project and materials \n*Enjoy each others companyand maybe even learn a new craft \nHosted by Sherry Allerton – 519-994-6008
URL:https://mapleleafacres.ca/event/fireside-craft-club-18/
CATEGORIES:Fireside Room
END:VEVENT
BEGIN:VEVENT
DTSTART;TZID=America/Toronto:20230405T130000
DTEND;TZID=America/Toronto:20230405T160000
DTSTAMP:20260423T044602
CREATED:20230120T163228Z
LAST-MODIFIED:20230120T163228Z
UID:4550-1680699600-1680710400@mapleleafacres.ca
SUMMARY:Bid Euchre
DESCRIPTION:
URL:https://mapleleafacres.ca/event/bid-euchre-84/
CATEGORIES:Adult Hall
END:VEVENT
BEGIN:VEVENT
DTSTART;TZID=America/Toronto:20230404T140000
DTEND;TZID=America/Toronto:20230404T160000
DTSTAMP:20260423T044602
CREATED:20230118T185851Z
LAST-MODIFIED:20230118T185851Z
UID:4363-1680616800-1680624000@mapleleafacres.ca
SUMMARY:Pickle Ball
DESCRIPTION:
URL:https://mapleleafacres.ca/event/pickle-ball-21/
CATEGORIES:Rec. Hall
END:VEVENT
BEGIN:VEVENT
DTSTART;TZID=America/Toronto:20230403T130000
DTEND;TZID=America/Toronto:20230403T160000
DTSTAMP:20260423T044602
CREATED:20230120T162803Z
LAST-MODIFIED:20230120T162803Z
UID:4542-1680526800-1680537600@mapleleafacres.ca
SUMMARY:Bid Euchre
DESCRIPTION:
URL:https://mapleleafacres.ca/event/bid-euchre-80/
CATEGORIES:Adult Hall
END:VEVENT
BEGIN:VEVENT
DTSTART;TZID=America/Toronto:20230401T190000
DTEND;TZID=America/Toronto:20230401T190000
DTSTAMP:20260423T044602
CREATED:20230118T170642Z
LAST-MODIFIED:20230118T170642Z
UID:4303-1680375600-1680375600@mapleleafacres.ca
SUMMARY:Darts
DESCRIPTION:
URL:https://mapleleafacres.ca/event/darts-39/
END:VEVENT
END:VCALENDAR