BEGIN:VCALENDAR
VERSION:2.0
PRODID:-//Maple Leaf Acres - ECPv6.15.18//NONSGML v1.0//EN
CALSCALE:GREGORIAN
METHOD:PUBLISH
X-WR-CALNAME:Maple Leaf Acres
X-ORIGINAL-URL:https://mapleleafacres.ca
X-WR-CALDESC:Events for Maple Leaf Acres
REFRESH-INTERVAL;VALUE=DURATION:PT1H
X-Robots-Tag:noindex
X-PUBLISHED-TTL:PT1H
BEGIN:VTIMEZONE
TZID:America/Toronto
BEGIN:DAYLIGHT
TZOFFSETFROM:-0500
TZOFFSETTO:-0400
TZNAME:EDT
DTSTART:20210314T070000
END:DAYLIGHT
BEGIN:STANDARD
TZOFFSETFROM:-0400
TZOFFSETTO:-0500
TZNAME:EST
DTSTART:20211107T060000
END:STANDARD
BEGIN:DAYLIGHT
TZOFFSETFROM:-0500
TZOFFSETTO:-0400
TZNAME:EDT
DTSTART:20220313T070000
END:DAYLIGHT
BEGIN:STANDARD
TZOFFSETFROM:-0400
TZOFFSETTO:-0500
TZNAME:EST
DTSTART:20221106T060000
END:STANDARD
BEGIN:DAYLIGHT
TZOFFSETFROM:-0500
TZOFFSETTO:-0400
TZNAME:EDT
DTSTART:20230312T070000
END:DAYLIGHT
BEGIN:STANDARD
TZOFFSETFROM:-0400
TZOFFSETTO:-0500
TZNAME:EST
DTSTART:20231105T060000
END:STANDARD
END:VTIMEZONE
BEGIN:VEVENT
DTSTART;TZID=America/Toronto:20220919T130000
DTEND;TZID=America/Toronto:20220919T153000
DTSTAMP:20260424T121553
CREATED:20220616T145227Z
LAST-MODIFIED:20220616T145227Z
UID:3504-1663592400-1663601400@mapleleafacres.ca
SUMMARY:Pokeno
DESCRIPTION:
URL:https://mapleleafacres.ca/event/pokeno-15/
CATEGORIES:Fireside Room
END:VEVENT
BEGIN:VEVENT
DTSTART;TZID=America/Toronto:20220919T100000
DTEND;TZID=America/Toronto:20220919T120000
DTSTAMP:20260424T121553
CREATED:20220713T195028Z
LAST-MODIFIED:20220713T195028Z
UID:3684-1663581600-1663588800@mapleleafacres.ca
SUMMARY:Line Dancing
DESCRIPTION:
URL:https://mapleleafacres.ca/event/line-dancing-9/
CATEGORIES:Rec. Hall
END:VEVENT
BEGIN:VEVENT
DTSTART;TZID=America/Toronto:20220919T080000
DTEND;TZID=America/Toronto:20220919T170000
DTSTAMP:20260424T121553
CREATED:20220616T145152Z
LAST-MODIFIED:20220616T145152Z
UID:3502-1663574400-1663606800@mapleleafacres.ca
SUMMARY:Pokeno
DESCRIPTION:
URL:https://mapleleafacres.ca/event/pokeno-14/
CATEGORIES:Fireside Room
END:VEVENT
BEGIN:VEVENT
DTSTART;TZID=America/Toronto:20220918T080000
DTEND;TZID=America/Toronto:20220918T233000
DTSTAMP:20260424T121553
CREATED:20220825T145115Z
LAST-MODIFIED:20220825T145115Z
UID:3837-1663488000-1663543800@mapleleafacres.ca
SUMMARY:Private Party
DESCRIPTION:
URL:https://mapleleafacres.ca/event/private-party-30/
CATEGORIES:Adult Hall
END:VEVENT
BEGIN:VEVENT
DTSTART;TZID=America/Toronto:20220917T120000
DTEND;TZID=America/Toronto:20220917T233000
DTSTAMP:20260424T121553
CREATED:20220812T160333Z
LAST-MODIFIED:20220812T160333Z
UID:3818-1663416000-1663457400@mapleleafacres.ca
SUMMARY:Phillipine function
DESCRIPTION:
URL:https://mapleleafacres.ca/event/phillipine-function/
CATEGORIES:Rec. Hall
END:VEVENT
BEGIN:VEVENT
DTSTART;VALUE=DATE:20220917
DTEND;VALUE=DATE:20220918
DTSTAMP:20260424T121553
CREATED:20220812T160803Z
LAST-MODIFIED:20220812T160803Z
UID:3832-1663372800-1663459199@mapleleafacres.ca
SUMMARY:Private party
DESCRIPTION:
URL:https://mapleleafacres.ca/event/private-party-29/
CATEGORIES:Adult Hall
END:VEVENT
BEGIN:VEVENT
DTSTART;TZID=America/Toronto:20220916T133000
DTEND;TZID=America/Toronto:20220916T160000
DTSTAMP:20260424T121553
CREATED:20220616T160146Z
LAST-MODIFIED:20220616T160146Z
UID:3629-1663335000-1663344000@mapleleafacres.ca
SUMMARY:shuffleboard
DESCRIPTION:
URL:https://mapleleafacres.ca/event/shuffleboard-14/
CATEGORIES:Rec. Hall
END:VEVENT
BEGIN:VEVENT
DTSTART;TZID=America/Toronto:20220916T130000
DTEND;TZID=America/Toronto:20220916T160000
DTSTAMP:20260424T121553
CREATED:20220615T195232Z
LAST-MODIFIED:20220615T195232Z
UID:3459-1663333200-1663344000@mapleleafacres.ca
SUMMARY:Bid Euchre
DESCRIPTION:
URL:https://mapleleafacres.ca/event/bid-euchre-45/
END:VEVENT
BEGIN:VEVENT
DTSTART;TZID=America/Toronto:20220915T130000
DTEND;TZID=America/Toronto:20220915T160000
DTSTAMP:20260424T121553
CREATED:20220615T185553Z
LAST-MODIFIED:20220615T185553Z
UID:3427-1663246800-1663257600@mapleleafacres.ca
SUMMARY:Card Bingo
DESCRIPTION:
URL:https://mapleleafacres.ca/event/card-bingo-14/
END:VEVENT
BEGIN:VEVENT
DTSTART;TZID=America/Toronto:20220914T190000
DTEND;TZID=America/Toronto:20220914T210000
DTSTAMP:20260424T121553
CREATED:20220616T154143Z
LAST-MODIFIED:20220616T154143Z
UID:3588-1663182000-1663189200@mapleleafacres.ca
SUMMARY:Darts
DESCRIPTION:
URL:https://mapleleafacres.ca/event/darts-13/
CATEGORIES:Rec. Hall
END:VEVENT
BEGIN:VEVENT
DTSTART;TZID=America/Toronto:20220914T130000
DTEND;TZID=America/Toronto:20220914T160000
DTSTAMP:20260424T121553
CREATED:20220615T190559Z
LAST-MODIFIED:20220615T190559Z
UID:3449-1663160400-1663171200@mapleleafacres.ca
SUMMARY:Bid Euchre
DESCRIPTION:
URL:https://mapleleafacres.ca/event/bid-euchre-40/
CATEGORIES:Adult Hall
END:VEVENT
BEGIN:VEVENT
DTSTART;TZID=America/Toronto:20220912T130000
DTEND;TZID=America/Toronto:20220912T160000
DTSTAMP:20260424T121553
CREATED:20220615T190318Z
LAST-MODIFIED:20220615T190318Z
UID:3441-1662987600-1662998400@mapleleafacres.ca
SUMMARY:Bid Euchre
DESCRIPTION:
URL:https://mapleleafacres.ca/event/bid-euchre-36/
CATEGORIES:Adult Hall
END:VEVENT
BEGIN:VEVENT
DTSTART;TZID=America/Toronto:20220912T130000
DTEND;TZID=America/Toronto:20220912T153000
DTSTAMP:20260424T121553
CREATED:20220616T145102Z
LAST-MODIFIED:20220616T145102Z
UID:3500-1662987600-1662996600@mapleleafacres.ca
SUMMARY:Pokeno
DESCRIPTION:
URL:https://mapleleafacres.ca/event/pokeno-13/
CATEGORIES:Fireside Room
END:VEVENT
BEGIN:VEVENT
DTSTART;TZID=America/Toronto:20220912T100000
DTEND;TZID=America/Toronto:20220912T120000
DTSTAMP:20260424T121553
CREATED:20220713T194950Z
LAST-MODIFIED:20220713T194950Z
UID:3682-1662976800-1662984000@mapleleafacres.ca
SUMMARY:Line Dancing
DESCRIPTION:
URL:https://mapleleafacres.ca/event/line-dancing-8/
CATEGORIES:Rec. Hall
END:VEVENT
BEGIN:VEVENT
DTSTART;TZID=America/Toronto:20220911T090000
DTEND;TZID=America/Toronto:20220911T110000
DTSTAMP:20260424T121553
CREATED:20220615T185831Z
LAST-MODIFIED:20220615T185947Z
UID:3433-1662886800-1662894000@mapleleafacres.ca
SUMMARY:Coffee Chat
DESCRIPTION:
URL:https://mapleleafacres.ca/event/coffee-chat-8/
CATEGORIES:Adult Hall
END:VEVENT
BEGIN:VEVENT
DTSTART;TZID=America/Toronto:20220910T100000
DTEND;TZID=America/Toronto:20220910T100000
DTSTAMP:20260424T121553
CREATED:20220713T195817Z
LAST-MODIFIED:20220713T195817Z
UID:3704-1662804000-1662804000@mapleleafacres.ca
SUMMARY:Sports & Rec Meeting
DESCRIPTION:
URL:https://mapleleafacres.ca/event/sports-rec-meeting-4/
CATEGORIES:Fireside Room
END:VEVENT
BEGIN:VEVENT
DTSTART;TZID=America/Toronto:20220909T133000
DTEND;TZID=America/Toronto:20220909T160000
DTSTAMP:20260424T121553
CREATED:20220616T160110Z
LAST-MODIFIED:20220616T160110Z
UID:3627-1662730200-1662739200@mapleleafacres.ca
SUMMARY:shuffleboard
DESCRIPTION:
URL:https://mapleleafacres.ca/event/shuffleboard-13/
CATEGORIES:Rec. Hall
END:VEVENT
BEGIN:VEVENT
DTSTART;TZID=America/Toronto:20220909T130000
DTEND;TZID=America/Toronto:20220909T160000
DTSTAMP:20260424T121553
CREATED:20220615T195158Z
LAST-MODIFIED:20220615T195158Z
UID:3457-1662728400-1662739200@mapleleafacres.ca
SUMMARY:Bid Euchre
DESCRIPTION:
URL:https://mapleleafacres.ca/event/bid-euchre-44/
CATEGORIES:Adult Hall
END:VEVENT
BEGIN:VEVENT
DTSTART;TZID=America/Toronto:20220908T130000
DTEND;TZID=America/Toronto:20220908T160000
DTSTAMP:20260424T121553
CREATED:20220615T183528Z
LAST-MODIFIED:20220615T185519Z
UID:3425-1662642000-1662652800@mapleleafacres.ca
SUMMARY:Card Bingo
DESCRIPTION:
URL:https://mapleleafacres.ca/event/card-bingo-13/
CATEGORIES:Adult Hall
END:VEVENT
BEGIN:VEVENT
DTSTART;TZID=America/Toronto:20220907T190000
DTEND;TZID=America/Toronto:20220907T210000
DTSTAMP:20260424T121553
CREATED:20220616T153518Z
LAST-MODIFIED:20220616T153518Z
UID:3586-1662577200-1662584400@mapleleafacres.ca
SUMMARY:Darts
DESCRIPTION:
URL:https://mapleleafacres.ca/event/darts-12/
CATEGORIES:Rec. Hall
END:VEVENT
BEGIN:VEVENT
DTSTART;TZID=America/Toronto:20220907T130000
DTEND;TZID=America/Toronto:20220907T160000
DTSTAMP:20260424T121553
CREATED:20220615T190505Z
LAST-MODIFIED:20220615T190505Z
UID:3447-1662555600-1662566400@mapleleafacres.ca
SUMMARY:Bid Euchre
DESCRIPTION:
URL:https://mapleleafacres.ca/event/bid-euchre-39/
CATEGORIES:Adult Hall
END:VEVENT
BEGIN:VEVENT
DTSTART;TZID=America/Toronto:20220905T130000
DTEND;TZID=America/Toronto:20220905T160000
DTSTAMP:20260424T121553
CREATED:20220615T190229Z
LAST-MODIFIED:20220615T190229Z
UID:3439-1662382800-1662393600@mapleleafacres.ca
SUMMARY:Bid Euchre
DESCRIPTION:
URL:https://mapleleafacres.ca/event/bid-euchre-35/
CATEGORIES:Adult Hall
END:VEVENT
BEGIN:VEVENT
DTSTART;TZID=America/Toronto:20220905T130000
DTEND;TZID=America/Toronto:20220905T153000
DTSTAMP:20260424T121553
CREATED:20220616T145012Z
LAST-MODIFIED:20220616T145012Z
UID:3498-1662382800-1662391800@mapleleafacres.ca
SUMMARY:Pokeno
DESCRIPTION:
URL:https://mapleleafacres.ca/event/pokeno-12/
CATEGORIES:Fireside Room
END:VEVENT
BEGIN:VEVENT
DTSTART;TZID=America/Toronto:20220905T100000
DTEND;TZID=America/Toronto:20220905T120000
DTSTAMP:20260424T121553
CREATED:20220713T194848Z
LAST-MODIFIED:20220713T194918Z
UID:3680-1662372000-1662379200@mapleleafacres.ca
SUMMARY:Line Dancing
DESCRIPTION:
URL:https://mapleleafacres.ca/event/line-dancing-7/
CATEGORIES:Rec. Hall
END:VEVENT
BEGIN:VEVENT
DTSTART;TZID=America/Toronto:20220904T110000
DTEND;TZID=America/Toronto:20220904T110000
DTSTAMP:20260424T121553
CREATED:20220530T221718Z
LAST-MODIFIED:20220530T221718Z
UID:3216-1662289200-1662289200@mapleleafacres.ca
SUMMARY:5K Walk for Trees
DESCRIPTION:See posters around park for more details
URL:https://mapleleafacres.ca/event/5k-walk-for-trees/
CATEGORIES:Activities
END:VEVENT
BEGIN:VEVENT
DTSTART;TZID=America/Toronto:20220904T090000
DTEND;TZID=America/Toronto:20220904T170000
DTSTAMP:20260424T121553
CREATED:20220713T195855Z
LAST-MODIFIED:20220713T195855Z
UID:3706-1662282000-1662310800@mapleleafacres.ca
SUMMARY:Sports & Rec Meeting
DESCRIPTION:
URL:https://mapleleafacres.ca/event/sports-rec-meeting-5/
CATEGORIES:Fireside Room
END:VEVENT
BEGIN:VEVENT
DTSTART;VALUE=DATE:20220904
DTEND;VALUE=DATE:20220905
DTSTAMP:20260424T121553
CREATED:20220825T145622Z
LAST-MODIFIED:20220825T145622Z
UID:3841-1662249600-1662335999@mapleleafacres.ca
SUMMARY:Private Party
DESCRIPTION:
URL:https://mapleleafacres.ca/event/private-party-32/
CATEGORIES:Rec. Hall
END:VEVENT
BEGIN:VEVENT
DTSTART;VALUE=DATE:20220904
DTEND;VALUE=DATE:20220905
DTSTAMP:20260424T121553
CREATED:20220812T160733Z
LAST-MODIFIED:20220812T160733Z
UID:3830-1662249600-1662335999@mapleleafacres.ca
SUMMARY:Horseshoe BBQ
DESCRIPTION:
URL:https://mapleleafacres.ca/event/horseshoe-bbq/
CATEGORIES:Adult Hall
END:VEVENT
BEGIN:VEVENT
DTSTART;TZID=America/Toronto:20220903T190000
DTEND;TZID=America/Toronto:20220903T190000
DTSTAMP:20260424T121553
CREATED:20220812T160431Z
LAST-MODIFIED:20220812T160431Z
UID:3820-1662231600-1662231600@mapleleafacres.ca
SUMMARY:Teen Dance
DESCRIPTION:
URL:https://mapleleafacres.ca/event/teen-dance-2/
CATEGORIES:Rec. Hall
END:VEVENT
BEGIN:VEVENT
DTSTART;TZID=America/Toronto:20220903T190000
DTEND;TZID=America/Toronto:20220903T190000
DTSTAMP:20260424T121553
CREATED:20220530T221616Z
LAST-MODIFIED:20220530T221616Z
UID:3214-1662231600-1662231600@mapleleafacres.ca
SUMMARY:Teen Dance
DESCRIPTION:See posters around park for more details
URL:https://mapleleafacres.ca/event/teen-dance/
CATEGORIES:Activities
END:VEVENT
END:VCALENDAR