BEGIN:VCALENDAR
VERSION:2.0
PRODID:-//Maple Leaf Acres - ECPv6.15.18//NONSGML v1.0//EN
CALSCALE:GREGORIAN
METHOD:PUBLISH
X-WR-CALNAME:Maple Leaf Acres
X-ORIGINAL-URL:https://mapleleafacres.ca
X-WR-CALDESC:Events for Maple Leaf Acres
REFRESH-INTERVAL;VALUE=DURATION:PT1H
X-Robots-Tag:noindex
X-PUBLISHED-TTL:PT1H
BEGIN:VTIMEZONE
TZID:America/Toronto
BEGIN:DAYLIGHT
TZOFFSETFROM:-0500
TZOFFSETTO:-0400
TZNAME:EDT
DTSTART:20210314T070000
END:DAYLIGHT
BEGIN:STANDARD
TZOFFSETFROM:-0400
TZOFFSETTO:-0500
TZNAME:EST
DTSTART:20211107T060000
END:STANDARD
BEGIN:DAYLIGHT
TZOFFSETFROM:-0500
TZOFFSETTO:-0400
TZNAME:EDT
DTSTART:20220313T070000
END:DAYLIGHT
BEGIN:STANDARD
TZOFFSETFROM:-0400
TZOFFSETTO:-0500
TZNAME:EST
DTSTART:20221106T060000
END:STANDARD
BEGIN:DAYLIGHT
TZOFFSETFROM:-0500
TZOFFSETTO:-0400
TZNAME:EDT
DTSTART:20230312T070000
END:DAYLIGHT
BEGIN:STANDARD
TZOFFSETFROM:-0400
TZOFFSETTO:-0500
TZNAME:EST
DTSTART:20231105T060000
END:STANDARD
BEGIN:DAYLIGHT
TZOFFSETFROM:-0500
TZOFFSETTO:-0400
TZNAME:EDT
DTSTART:20240310T070000
END:DAYLIGHT
BEGIN:STANDARD
TZOFFSETFROM:-0400
TZOFFSETTO:-0500
TZNAME:EST
DTSTART:20241103T060000
END:STANDARD
END:VTIMEZONE
BEGIN:VEVENT
DTSTART;TZID=America/Toronto:20230127T133000
DTEND;TZID=America/Toronto:20230127T160000
DTSTAMP:20260423T044555
CREATED:20230118T190920Z
LAST-MODIFIED:20230118T190920Z
UID:4373-1674826200-1674835200@mapleleafacres.ca
SUMMARY:Shuffle Board
DESCRIPTION:
URL:https://mapleleafacres.ca/event/shuffle-board-3/
CATEGORIES:Rec. Hall
END:VEVENT
BEGIN:VEVENT
DTSTART;TZID=America/Toronto:20230127T130000
DTEND;TZID=America/Toronto:20230127T160000
DTSTAMP:20260423T044555
CREATED:20230118T200608Z
LAST-MODIFIED:20230118T200608Z
UID:4443-1674824400-1674835200@mapleleafacres.ca
SUMMARY:Bid Euchre
DESCRIPTION:
URL:https://mapleleafacres.ca/event/bid-euchre-52/
CATEGORIES:Adult Hall
END:VEVENT
BEGIN:VEVENT
DTSTART;TZID=America/Toronto:20230125T190000
DTEND;TZID=America/Toronto:20230125T190000
DTSTAMP:20260423T044555
CREATED:20230118T182958Z
LAST-MODIFIED:20230118T182958Z
UID:4315-1674673200-1674673200@mapleleafacres.ca
SUMMARY:Fun Darts
DESCRIPTION:
URL:https://mapleleafacres.ca/event/fun-darts-2/
CATEGORIES:Rec. Hall
END:VEVENT
BEGIN:VEVENT
DTSTART;TZID=America/Toronto:20230125T140000
DTEND;TZID=America/Toronto:20230125T160000
DTSTAMP:20260423T044555
CREATED:20230118T163422Z
LAST-MODIFIED:20230118T163422Z
UID:4254-1674655200-1674662400@mapleleafacres.ca
SUMMARY:Fireside Craft Club
DESCRIPTION:*Come out and craft with your fellow park members \n*Bring your current craft project and materials \n*Enjoy each others companyand maybe even learn a new craft \nHosted by Sherry Allerton – 519-994-6008
URL:https://mapleleafacres.ca/event/fireside-craft-club-8/
CATEGORIES:Fireside Room
END:VEVENT
BEGIN:VEVENT
DTSTART;TZID=America/Toronto:20230125T130000
DTEND;TZID=America/Toronto:20230125T160000
DTSTAMP:20260423T044555
CREATED:20230118T200503Z
LAST-MODIFIED:20230118T200503Z
UID:4439-1674651600-1674662400@mapleleafacres.ca
SUMMARY:Bid Euchre
DESCRIPTION:
URL:https://mapleleafacres.ca/event/bid-euchre-50/
CATEGORIES:Adult Hall
END:VEVENT
BEGIN:VEVENT
DTSTART;TZID=America/Toronto:20230124T140000
DTEND;TZID=America/Toronto:20230124T160000
DTSTAMP:20260423T044555
CREATED:20230118T184517Z
LAST-MODIFIED:20230118T184517Z
UID:4343-1674568800-1674576000@mapleleafacres.ca
SUMMARY:Pickle Ball
DESCRIPTION:
URL:https://mapleleafacres.ca/event/pickle-ball-11/
CATEGORIES:Rec. Hall
END:VEVENT
BEGIN:VEVENT
DTSTART;TZID=America/Toronto:20230123T130000
DTEND;TZID=America/Toronto:20230123T160000
DTSTAMP:20260423T044555
CREATED:20230118T200434Z
LAST-MODIFIED:20230118T200434Z
UID:4437-1674478800-1674489600@mapleleafacres.ca
SUMMARY:Bid Euchre
DESCRIPTION:
URL:https://mapleleafacres.ca/event/bid-euchre-49/
CATEGORIES:Adult Hall
END:VEVENT
BEGIN:VEVENT
DTSTART;TZID=America/Toronto:20230123T103000
DTEND;TZID=America/Toronto:20230123T113000
DTSTAMP:20260423T044555
CREATED:20230118T192859Z
LAST-MODIFIED:20230118T192859Z
UID:4405-1674469800-1674473400@mapleleafacres.ca
SUMMARY:Yoga
DESCRIPTION:
URL:https://mapleleafacres.ca/event/yoga/
CATEGORIES:Fireside Room
END:VEVENT
BEGIN:VEVENT
DTSTART;TZID=America/Toronto:20230123T100000
DTEND;TZID=America/Toronto:20230123T113000
DTSTAMP:20260423T044555
CREATED:20230118T192946Z
LAST-MODIFIED:20230118T192946Z
UID:4407-1674468000-1674473400@mapleleafacres.ca
SUMMARY:Yoga
DESCRIPTION:
URL:https://mapleleafacres.ca/event/yoga-2/
CATEGORIES:Fireside Room
END:VEVENT
BEGIN:VEVENT
DTSTART;TZID=America/Toronto:20230122T100000
DTEND;TZID=America/Toronto:20230122T120000
DTSTAMP:20260423T044555
CREATED:20230118T194318Z
LAST-MODIFIED:20230118T194318Z
UID:4435-1674381600-1674388800@mapleleafacres.ca
SUMMARY:Lucas
DESCRIPTION:
URL:https://mapleleafacres.ca/event/lucas/
CATEGORIES:Adult Hall
END:VEVENT
BEGIN:VEVENT
DTSTART;TZID=America/Toronto:20230121T190000
DTEND;TZID=America/Toronto:20230121T210000
DTSTAMP:20260423T044555
CREATED:20230118T165858Z
LAST-MODIFIED:20230118T165858Z
UID:4283-1674327600-1674334800@mapleleafacres.ca
SUMMARY:Darts
DESCRIPTION:
URL:https://mapleleafacres.ca/event/darts-29/
CATEGORIES:Rec. Hall
END:VEVENT
BEGIN:VEVENT
DTSTART;VALUE=DATE:20230121
DTEND;VALUE=DATE:20230122
DTSTAMP:20260423T044555
CREATED:20230118T192751Z
LAST-MODIFIED:20230118T192751Z
UID:4403-1674259200-1674345599@mapleleafacres.ca
SUMMARY:Private Party
DESCRIPTION:
URL:https://mapleleafacres.ca/event/private-party-50/
CATEGORIES:Fireside Room
END:VEVENT
BEGIN:VEVENT
DTSTART;VALUE=DATE:20230121
DTEND;VALUE=DATE:20230122
DTSTAMP:20260423T044555
CREATED:20221222T163943Z
LAST-MODIFIED:20221222T163943Z
UID:4172-1674259200-1674345599@mapleleafacres.ca
SUMMARY:Private Party
DESCRIPTION:
URL:https://mapleleafacres.ca/event/private-party-49/
CATEGORIES:Adult Hall
END:VEVENT
BEGIN:VEVENT
DTSTART;TZID=America/Toronto:20230120T133000
DTEND;TZID=America/Toronto:20230120T160000
DTSTAMP:20260423T044555
CREATED:20230118T190851Z
LAST-MODIFIED:20230118T190851Z
UID:4371-1674221400-1674230400@mapleleafacres.ca
SUMMARY:Shuffle Board
DESCRIPTION:
URL:https://mapleleafacres.ca/event/shuffle-board-2/
CATEGORIES:Rec. Hall
END:VEVENT
BEGIN:VEVENT
DTSTART;TZID=America/Toronto:20230120T130000
DTEND;TZID=America/Toronto:20230120T160000
DTSTAMP:20260423T044555
CREATED:20230118T200536Z
LAST-MODIFIED:20230118T200536Z
UID:4441-1674219600-1674230400@mapleleafacres.ca
SUMMARY:Bid Euchre
DESCRIPTION:
URL:https://mapleleafacres.ca/event/bid-euchre-51/
CATEGORIES:Adult Hall
END:VEVENT
BEGIN:VEVENT
DTSTART;TZID=America/Toronto:20230118T190000
DTEND;TZID=America/Toronto:20230118T190000
DTSTAMP:20260423T044555
CREATED:20230118T183419Z
LAST-MODIFIED:20230118T183419Z
UID:4333-1674068400-1674068400@mapleleafacres.ca
SUMMARY:Fun Darts
DESCRIPTION:
URL:https://mapleleafacres.ca/event/fun-darts-11/
CATEGORIES:Rec. Hall
END:VEVENT
BEGIN:VEVENT
DTSTART;TZID=America/Toronto:20230118T190000
DTEND;TZID=America/Toronto:20230118T190000
DTSTAMP:20260423T044555
CREATED:20230118T182934Z
LAST-MODIFIED:20230118T182934Z
UID:4313-1674068400-1674068400@mapleleafacres.ca
SUMMARY:Fun Darts
DESCRIPTION:
URL:https://mapleleafacres.ca/event/fun-darts/
CATEGORIES:Rec. Hall
END:VEVENT
BEGIN:VEVENT
DTSTART;TZID=America/Toronto:20230118T140000
DTEND;TZID=America/Toronto:20230118T160000
DTSTAMP:20260423T044555
CREATED:20230118T163328Z
LAST-MODIFIED:20230118T163328Z
UID:4252-1674050400-1674057600@mapleleafacres.ca
SUMMARY:Fireside Craft Club
DESCRIPTION:*Come out and craft with your fellow park members \n*Bring your current craft project and materials \n*Enjoy each others companyand maybe even learn a new craft \nHosted by Sherry Allerton – 519-994-6008
URL:https://mapleleafacres.ca/event/fireside-craft-club-7/
CATEGORIES:Fireside Room
END:VEVENT
BEGIN:VEVENT
DTSTART;TZID=America/Toronto:20230115T090000
DTEND;TZID=America/Toronto:20230115T110000
DTSTAMP:20260423T044555
CREATED:20221222T164244Z
LAST-MODIFIED:20221222T164244Z
UID:4174-1673773200-1673780400@mapleleafacres.ca
SUMMARY:Coffee Chat
DESCRIPTION:
URL:https://mapleleafacres.ca/event/coffee-chat-16/
CATEGORIES:Adult Hall
END:VEVENT
BEGIN:VEVENT
DTSTART;TZID=America/Toronto:20230103T140000
DTEND;TZID=America/Toronto:20230103T160000
DTSTAMP:20260423T044555
CREATED:20221217T160545Z
LAST-MODIFIED:20221217T160545Z
UID:4168-1672754400-1672761600@mapleleafacres.ca
SUMMARY:Pickle Ball
DESCRIPTION:
URL:https://mapleleafacres.ca/event/pickle-ball-10/
CATEGORIES:Rec. Hall
END:VEVENT
BEGIN:VEVENT
DTSTART;VALUE=DATE:20221231
DTEND;VALUE=DATE:20230101
DTSTAMP:20260423T044555
CREATED:20221029T134333Z
LAST-MODIFIED:20221029T134407Z
UID:4080-1672444800-1672531199@mapleleafacres.ca
SUMMARY:Private Party
DESCRIPTION:
URL:https://mapleleafacres.ca/event/coffee-chat-15/
CATEGORIES:Adult Hall
END:VEVENT
BEGIN:VEVENT
DTSTART;VALUE=DATE:20221231
DTEND;VALUE=DATE:20230102
DTSTAMP:20260423T044555
CREATED:20221024T160506Z
LAST-MODIFIED:20221024T162316Z
UID:3993-1672444800-1672617599@mapleleafacres.ca
SUMMARY:NEW YEARS EVE
DESCRIPTION:
URL:https://mapleleafacres.ca/event/new-years-eve/
LOCATION:Rec. Hall
CATEGORIES:Rec. Hall
END:VEVENT
BEGIN:VEVENT
DTSTART;TZID=America/Toronto:20221230T130000
DTEND;TZID=America/Toronto:20221230T170000
DTSTAMP:20260423T044555
CREATED:20221029T135704Z
LAST-MODIFIED:20221029T135704Z
UID:4135-1672405200-1672419600@mapleleafacres.ca
SUMMARY:Euchre
DESCRIPTION:
URL:https://mapleleafacres.ca/event/euchre-26/
CATEGORIES:Adult Hall
END:VEVENT
BEGIN:VEVENT
DTSTART;TZID=America/Toronto:20221229T130000
DTEND;TZID=America/Toronto:20221229T150000
DTSTAMP:20260423T044555
CREATED:20221029T141352Z
LAST-MODIFIED:20221029T141352Z
UID:4157-1672318800-1672326000@mapleleafacres.ca
SUMMARY:Card Bingo
DESCRIPTION:
URL:https://mapleleafacres.ca/event/card-bingo-25/
CATEGORIES:Adult Hall
END:VEVENT
BEGIN:VEVENT
DTSTART;TZID=America/Toronto:20221228T130000
DTEND;TZID=America/Toronto:20221228T170000
DTSTAMP:20260423T044555
CREATED:20221029T135457Z
LAST-MODIFIED:20221029T135457Z
UID:4125-1672232400-1672246800@mapleleafacres.ca
SUMMARY:Euchre
DESCRIPTION:
URL:https://mapleleafacres.ca/event/euchre-21/
CATEGORIES:Adult Hall
END:VEVENT
BEGIN:VEVENT
DTSTART;TZID=America/Toronto:20221228T080000
DTEND;TZID=America/Toronto:20221228T170000
DTSTAMP:20260423T044555
CREATED:20221028T185940Z
LAST-MODIFIED:20221028T185940Z
UID:4031-1672214400-1672246800@mapleleafacres.ca
SUMMARY:Fireside Craft Club
DESCRIPTION:*Come out and craft with your fellow park members \n*Bring your current craft project and materials \n*Enjoy each others companyand maybe even learn a new craft \nHosted by Sherry Allerton – 519-994-6008
URL:https://mapleleafacres.ca/event/fireside-craft-club-6/
CATEGORIES:Fireside Room
END:VEVENT
BEGIN:VEVENT
DTSTART;TZID=America/Toronto:20221226T130000
DTEND;TZID=America/Toronto:20221226T170000
DTSTAMP:20260423T044555
CREATED:20221029T135319Z
LAST-MODIFIED:20221029T135319Z
UID:4117-1672059600-1672074000@mapleleafacres.ca
SUMMARY:Euchre
DESCRIPTION:
URL:https://mapleleafacres.ca/event/euchre-17/
CATEGORIES:Adult Hall
END:VEVENT
BEGIN:VEVENT
DTSTART;VALUE=DATE:20221226
DTEND;VALUE=DATE:20221227
DTSTAMP:20260423T044555
CREATED:20221028T190136Z
LAST-MODIFIED:20221028T190136Z
UID:4037-1672012800-1672099199@mapleleafacres.ca
SUMMARY:Private Party
DESCRIPTION:
URL:https://mapleleafacres.ca/event/private-party-41/
CATEGORIES:Fireside Room
END:VEVENT
BEGIN:VEVENT
DTSTART;TZID=America/Toronto:20221223T130000
DTEND;TZID=America/Toronto:20221223T170000
DTSTAMP:20260423T044555
CREATED:20221029T135642Z
LAST-MODIFIED:20221029T135642Z
UID:4133-1671800400-1671814800@mapleleafacres.ca
SUMMARY:Euchre
DESCRIPTION:
URL:https://mapleleafacres.ca/event/euchre-25/
CATEGORIES:Adult Hall
END:VEVENT
BEGIN:VEVENT
DTSTART;TZID=America/Toronto:20221222T130000
DTEND;TZID=America/Toronto:20221222T150000
DTSTAMP:20260423T044555
CREATED:20221029T141325Z
LAST-MODIFIED:20221029T141325Z
UID:4155-1671714000-1671721200@mapleleafacres.ca
SUMMARY:Card Bingo
DESCRIPTION:
URL:https://mapleleafacres.ca/event/card-bingo-24/
CATEGORIES:Adult Hall
END:VEVENT
END:VCALENDAR