BEGIN:VCALENDAR
VERSION:2.0
PRODID:-//Maple Leaf Acres - ECPv6.15.18//NONSGML v1.0//EN
CALSCALE:GREGORIAN
METHOD:PUBLISH
X-WR-CALNAME:Maple Leaf Acres
X-ORIGINAL-URL:https://mapleleafacres.ca
X-WR-CALDESC:Events for Maple Leaf Acres
REFRESH-INTERVAL;VALUE=DURATION:PT1H
X-Robots-Tag:noindex
X-PUBLISHED-TTL:PT1H
BEGIN:VTIMEZONE
TZID:America/Toronto
BEGIN:DAYLIGHT
TZOFFSETFROM:-0500
TZOFFSETTO:-0400
TZNAME:EDT
DTSTART:20240310T070000
END:DAYLIGHT
BEGIN:STANDARD
TZOFFSETFROM:-0400
TZOFFSETTO:-0500
TZNAME:EST
DTSTART:20241103T060000
END:STANDARD
BEGIN:DAYLIGHT
TZOFFSETFROM:-0500
TZOFFSETTO:-0400
TZNAME:EDT
DTSTART:20250309T070000
END:DAYLIGHT
BEGIN:STANDARD
TZOFFSETFROM:-0400
TZOFFSETTO:-0500
TZNAME:EST
DTSTART:20251102T060000
END:STANDARD
BEGIN:DAYLIGHT
TZOFFSETFROM:-0500
TZOFFSETTO:-0400
TZNAME:EDT
DTSTART:20260308T070000
END:DAYLIGHT
BEGIN:STANDARD
TZOFFSETFROM:-0400
TZOFFSETTO:-0500
TZNAME:EST
DTSTART:20261101T060000
END:STANDARD
END:VTIMEZONE
BEGIN:VEVENT
DTSTART;TZID=America/Toronto:20251228T090000
DTEND;TZID=America/Toronto:20251228T110000
DTSTAMP:20260419T115342
CREATED:20250915T182314Z
LAST-MODIFIED:20250915T182314Z
UID:7895-1766912400-1766919600@mapleleafacres.ca
SUMMARY:Coffee Chat
DESCRIPTION:
URL:https://mapleleafacres.ca/event/coffee-chat-78/
CATEGORIES:Activities,Adult Hall
END:VEVENT
BEGIN:VEVENT
DTSTART;TZID=America/Toronto:20251227T180000
DTEND;TZID=America/Toronto:20251227T230000
DTSTAMP:20260419T115342
CREATED:20250915T174130Z
LAST-MODIFIED:20250915T174130Z
UID:7785-1766858400-1766876400@mapleleafacres.ca
SUMMARY:Darts
DESCRIPTION:
URL:https://mapleleafacres.ca/event/darts-49/2025-12-27/
CATEGORIES:Activities,Rec. Hall
END:VEVENT
BEGIN:VEVENT
DTSTART;TZID=America/Toronto:20251227T120000
DTEND;TZID=America/Toronto:20251227T160000
DTSTAMP:20260419T115342
CREATED:20250922T152921Z
LAST-MODIFIED:20250922T152921Z
UID:7919-1766836800-1766851200@mapleleafacres.ca
SUMMARY:Corn Hole
DESCRIPTION:
URL:https://mapleleafacres.ca/event/corn-hole-2/2025-12-27/
CATEGORIES:Activities,Rec. Hall
END:VEVENT
BEGIN:VEVENT
DTSTART;TZID=America/Toronto:20251226T190000
DTEND;TZID=America/Toronto:20251226T233000
DTSTAMP:20260419T115342
CREATED:20250915T180431Z
LAST-MODIFIED:20250915T180431Z
UID:7846-1766775600-1766791800@mapleleafacres.ca
SUMMARY:Poker
DESCRIPTION:
URL:https://mapleleafacres.ca/event/poker-2/2025-12-26/
CATEGORIES:Activities,Fireside Room
END:VEVENT
BEGIN:VEVENT
DTSTART;VALUE=DATE:20251226
DTEND;VALUE=DATE:20251227
DTSTAMP:20260419T115342
CREATED:20250318T150327Z
LAST-MODIFIED:20250318T150327Z
UID:7229-1766707200-1766793599@mapleleafacres.ca
SUMMARY:Private Function
DESCRIPTION:
URL:https://mapleleafacres.ca/event/private-function-22/
CATEGORIES:Activities,Fireside Room
END:VEVENT
BEGIN:VEVENT
DTSTART;TZID=America/Toronto:20251224T180000
DTEND;TZID=America/Toronto:20251224T230000
DTSTAMP:20260419T115342
CREATED:20250915T174130Z
LAST-MODIFIED:20250915T174536Z
UID:7756-1766599200-1766617200@mapleleafacres.ca
SUMMARY:Darts
DESCRIPTION:
URL:https://mapleleafacres.ca/event/darts-49/2025-12-24/
CATEGORIES:Activities,Rec. Hall
END:VEVENT
BEGIN:VEVENT
DTSTART;TZID=America/Toronto:20251224T180000
DTEND;TZID=America/Toronto:20251224T230000
DTSTAMP:20260419T115342
CREATED:20250318T150530Z
LAST-MODIFIED:20250318T150530Z
UID:7231-1766599200-1766617200@mapleleafacres.ca
SUMMARY:Christmas Carols
DESCRIPTION:
URL:https://mapleleafacres.ca/event/christmas-carols/
CATEGORIES:Activities,Fireside Room
END:VEVENT
BEGIN:VEVENT
DTSTART;TZID=America/Toronto:20251224T130000
DTEND;TZID=America/Toronto:20251224T160000
DTSTAMP:20260419T115342
CREATED:20251003T132102Z
LAST-MODIFIED:20251003T132102Z
UID:8147-1766581200-1766592000@mapleleafacres.ca
SUMMARY:Cards
DESCRIPTION:
URL:https://mapleleafacres.ca/event/cards/2025-12-24/
CATEGORIES:Activities,Fireside Room
END:VEVENT
BEGIN:VEVENT
DTSTART;TZID=America/Toronto:20251224T080000
DTEND;TZID=America/Toronto:20251224T170000
DTSTAMP:20260419T115343
CREATED:20250915T182344Z
LAST-MODIFIED:20250915T182344Z
UID:7897-1766563200-1766595600@mapleleafacres.ca
SUMMARY:Private Party
DESCRIPTION:
URL:https://mapleleafacres.ca/event/private-party-125/
CATEGORIES:Activities,Adult Hall
END:VEVENT
BEGIN:VEVENT
DTSTART;TZID=America/Toronto:20251223T130000
DTEND;TZID=America/Toronto:20251223T160000
DTSTAMP:20260419T115343
CREATED:20250903T152635Z
LAST-MODIFIED:20250903T152635Z
UID:7700-1766494800-1766505600@mapleleafacres.ca
SUMMARY:Bid Euchre
DESCRIPTION:
URL:https://mapleleafacres.ca/event/bid-euchre-91/2025-12-23/
CATEGORIES:Activities,Fireside Room
END:VEVENT
BEGIN:VEVENT
DTSTART;TZID=America/Toronto:20251222T180000
DTEND;TZID=America/Toronto:20251222T210000
DTSTAMP:20260419T115343
CREATED:20250318T144106Z
LAST-MODIFIED:20250318T144106Z
UID:7136-1766426400-1766437200@mapleleafacres.ca
SUMMARY:Euchre
DESCRIPTION:
URL:https://mapleleafacres.ca/event/euchre-27/2025-12-22/
CATEGORIES:Activities,Adult Hall
END:VEVENT
BEGIN:VEVENT
DTSTART;TZID=America/Toronto:20251221T130000
DTEND;TZID=America/Toronto:20251221T160000
DTSTAMP:20260419T115343
CREATED:20250903T152416Z
LAST-MODIFIED:20250903T152416Z
UID:7665-1766322000-1766332800@mapleleafacres.ca
SUMMARY:Rummoli
DESCRIPTION:
URL:https://mapleleafacres.ca/event/rummoli/2025-12-21/
CATEGORIES:Activities,Fireside Room
END:VEVENT
BEGIN:VEVENT
DTSTART;VALUE=DATE:20251221
DTEND;VALUE=DATE:20251222
DTSTAMP:20260419T115343
CREATED:20251003T131606Z
LAST-MODIFIED:20251003T131606Z
UID:8128-1766275200-1766361599@mapleleafacres.ca
SUMMARY:Private party
DESCRIPTION:
URL:https://mapleleafacres.ca/event/private-party-130/
CATEGORIES:Activities,Rec. Hall
END:VEVENT
BEGIN:VEVENT
DTSTART;TZID=America/Toronto:20251220T180000
DTEND;TZID=America/Toronto:20251220T230000
DTSTAMP:20260419T115343
CREATED:20250915T174130Z
LAST-MODIFIED:20250915T174130Z
UID:7784-1766253600-1766271600@mapleleafacres.ca
SUMMARY:Darts
DESCRIPTION:
URL:https://mapleleafacres.ca/event/darts-49/2025-12-20/
CATEGORIES:Activities,Rec. Hall
END:VEVENT
BEGIN:VEVENT
DTSTART;TZID=America/Toronto:20251220T140000
DTEND;TZID=America/Toronto:20251220T230000
DTSTAMP:20260419T115343
CREATED:20250915T182422Z
LAST-MODIFIED:20250915T182422Z
UID:7899-1766239200-1766271600@mapleleafacres.ca
SUMMARY:Private Party
DESCRIPTION:
URL:https://mapleleafacres.ca/event/private-party-126/
CATEGORIES:Activities,Adult Hall
END:VEVENT
BEGIN:VEVENT
DTSTART;TZID=America/Toronto:20251220T120000
DTEND;TZID=America/Toronto:20251220T160000
DTSTAMP:20260419T115343
CREATED:20250922T152921Z
LAST-MODIFIED:20250922T152921Z
UID:7918-1766232000-1766246400@mapleleafacres.ca
SUMMARY:Corn Hole
DESCRIPTION:
URL:https://mapleleafacres.ca/event/corn-hole-2/2025-12-20/
CATEGORIES:Activities,Rec. Hall
END:VEVENT
BEGIN:VEVENT
DTSTART;TZID=America/Toronto:20251219T190000
DTEND;TZID=America/Toronto:20251219T233000
DTSTAMP:20260419T115343
CREATED:20250915T180431Z
LAST-MODIFIED:20250915T180431Z
UID:7845-1766170800-1766187000@mapleleafacres.ca
SUMMARY:Poker
DESCRIPTION:
URL:https://mapleleafacres.ca/event/poker-2/2025-12-19/
CATEGORIES:Activities,Fireside Room
END:VEVENT
BEGIN:VEVENT
DTSTART;TZID=America/Toronto:20251218T120000
DTEND;TZID=America/Toronto:20251218T160000
DTSTAMP:20260419T115343
CREATED:20250318T144233Z
LAST-MODIFIED:20250318T144233Z
UID:7495-1766059200-1766073600@mapleleafacres.ca
SUMMARY:Card Bingo
DESCRIPTION:
URL:https://mapleleafacres.ca/event/card-bingo-63/2025-12-18/
CATEGORIES:Activities,Adult Hall
END:VEVENT
BEGIN:VEVENT
DTSTART;TZID=America/Toronto:20251217T180000
DTEND;TZID=America/Toronto:20251217T230000
DTSTAMP:20260419T115343
CREATED:20250915T174130Z
LAST-MODIFIED:20250915T174535Z
UID:7755-1765994400-1766012400@mapleleafacres.ca
SUMMARY:Darts
DESCRIPTION:
URL:https://mapleleafacres.ca/event/darts-49/2025-12-17/
CATEGORIES:Activities,Rec. Hall
END:VEVENT
BEGIN:VEVENT
DTSTART;TZID=America/Toronto:20251217T130000
DTEND;TZID=America/Toronto:20251217T160000
DTSTAMP:20260419T115343
CREATED:20251003T132102Z
LAST-MODIFIED:20251003T132102Z
UID:8146-1765976400-1765987200@mapleleafacres.ca
SUMMARY:Cards
DESCRIPTION:
URL:https://mapleleafacres.ca/event/cards/2025-12-17/
CATEGORIES:Activities,Fireside Room
END:VEVENT
BEGIN:VEVENT
DTSTART;TZID=America/Toronto:20251216T130000
DTEND;TZID=America/Toronto:20251216T160000
DTSTAMP:20260419T115343
CREATED:20250903T152635Z
LAST-MODIFIED:20250903T152635Z
UID:7699-1765890000-1765900800@mapleleafacres.ca
SUMMARY:Bid Euchre
DESCRIPTION:
URL:https://mapleleafacres.ca/event/bid-euchre-91/2025-12-16/
CATEGORIES:Activities,Fireside Room
END:VEVENT
BEGIN:VEVENT
DTSTART;TZID=America/Toronto:20251215T180000
DTEND;TZID=America/Toronto:20251215T210000
DTSTAMP:20260419T115343
CREATED:20250318T144106Z
LAST-MODIFIED:20250318T144106Z
UID:7135-1765821600-1765832400@mapleleafacres.ca
SUMMARY:Euchre
DESCRIPTION:
URL:https://mapleleafacres.ca/event/euchre-27/2025-12-15/
CATEGORIES:Activities,Adult Hall
END:VEVENT
BEGIN:VEVENT
DTSTART;TZID=America/Toronto:20251214T130000
DTEND;TZID=America/Toronto:20251214T160000
DTSTAMP:20260419T115343
CREATED:20250903T152416Z
LAST-MODIFIED:20250903T152416Z
UID:7664-1765717200-1765728000@mapleleafacres.ca
SUMMARY:Rummoli
DESCRIPTION:
URL:https://mapleleafacres.ca/event/rummoli/2025-12-14/
CATEGORIES:Activities,Fireside Room
END:VEVENT
BEGIN:VEVENT
DTSTART;TZID=America/Toronto:20251214T090000
DTEND;TZID=America/Toronto:20251214T110000
DTSTAMP:20260419T115343
CREATED:20250915T182236Z
LAST-MODIFIED:20250915T182236Z
UID:7893-1765702800-1765710000@mapleleafacres.ca
SUMMARY:Coffee Chat
DESCRIPTION:
URL:https://mapleleafacres.ca/event/coffee-chat-77/
CATEGORIES:Activities,Adult Hall
END:VEVENT
BEGIN:VEVENT
DTSTART;TZID=America/Toronto:20251213T180000
DTEND;TZID=America/Toronto:20251213T230000
DTSTAMP:20260419T115343
CREATED:20250915T174130Z
LAST-MODIFIED:20250915T174130Z
UID:7783-1765648800-1765666800@mapleleafacres.ca
SUMMARY:Darts
DESCRIPTION:
URL:https://mapleleafacres.ca/event/darts-49/2025-12-13/
CATEGORIES:Activities,Rec. Hall
END:VEVENT
BEGIN:VEVENT
DTSTART;TZID=America/Toronto:20251213T120000
DTEND;TZID=America/Toronto:20251213T160000
DTSTAMP:20260419T115343
CREATED:20250922T152921Z
LAST-MODIFIED:20250922T152921Z
UID:7917-1765627200-1765641600@mapleleafacres.ca
SUMMARY:Corn Hole
DESCRIPTION:
URL:https://mapleleafacres.ca/event/corn-hole-2/2025-12-13/
CATEGORIES:Activities,Rec. Hall
END:VEVENT
BEGIN:VEVENT
DTSTART;VALUE=DATE:20251213
DTEND;VALUE=DATE:20251214
DTSTAMP:20260419T115343
CREATED:20251006T172139Z
LAST-MODIFIED:20251006T172139Z
UID:8170-1765584000-1765670399@mapleleafacres.ca
SUMMARY:MLA Christmas Party
DESCRIPTION:
URL:https://mapleleafacres.ca/event/mla-christmas-party/
CATEGORIES:Activities,Rec. Hall
END:VEVENT
BEGIN:VEVENT
DTSTART;VALUE=DATE:20251213
DTEND;VALUE=DATE:20251214
DTSTAMP:20260419T115343
CREATED:20251003T131915Z
LAST-MODIFIED:20251003T131915Z
UID:8133-1765584000-1765670399@mapleleafacres.ca
SUMMARY:Private party
DESCRIPTION:
URL:https://mapleleafacres.ca/event/private-party-132/
CATEGORIES:Activities,Adult Hall
END:VEVENT
BEGIN:VEVENT
DTSTART;VALUE=DATE:20251213
DTEND;VALUE=DATE:20251214
DTSTAMP:20260419T115343
CREATED:20250318T150238Z
LAST-MODIFIED:20250318T150238Z
UID:7227-1765584000-1765670399@mapleleafacres.ca
SUMMARY:Private Function
DESCRIPTION:
URL:https://mapleleafacres.ca/event/private-function-21/
CATEGORIES:Activities,Fireside Room
END:VEVENT
BEGIN:VEVENT
DTSTART;TZID=America/Toronto:20251212T190000
DTEND;TZID=America/Toronto:20251212T233000
DTSTAMP:20260419T115343
CREATED:20250915T180431Z
LAST-MODIFIED:20250915T180431Z
UID:7844-1765566000-1765582200@mapleleafacres.ca
SUMMARY:Poker
DESCRIPTION:
URL:https://mapleleafacres.ca/event/poker-2/2025-12-12/
CATEGORIES:Activities,Fireside Room
END:VEVENT
END:VCALENDAR