BEGIN:VCALENDAR
VERSION:2.0
PRODID:-//Maple Leaf Acres - ECPv6.15.18//NONSGML v1.0//EN
CALSCALE:GREGORIAN
METHOD:PUBLISH
X-WR-CALNAME:Maple Leaf Acres
X-ORIGINAL-URL:https://mapleleafacres.ca
X-WR-CALDESC:Events for Maple Leaf Acres
REFRESH-INTERVAL;VALUE=DURATION:PT1H
X-Robots-Tag:noindex
X-PUBLISHED-TTL:PT1H
BEGIN:VTIMEZONE
TZID:America/Toronto
BEGIN:DAYLIGHT
TZOFFSETFROM:-0500
TZOFFSETTO:-0400
TZNAME:EDT
DTSTART:20230312T070000
END:DAYLIGHT
BEGIN:STANDARD
TZOFFSETFROM:-0400
TZOFFSETTO:-0500
TZNAME:EST
DTSTART:20231105T060000
END:STANDARD
BEGIN:DAYLIGHT
TZOFFSETFROM:-0500
TZOFFSETTO:-0400
TZNAME:EDT
DTSTART:20240310T070000
END:DAYLIGHT
BEGIN:STANDARD
TZOFFSETFROM:-0400
TZOFFSETTO:-0500
TZNAME:EST
DTSTART:20241103T060000
END:STANDARD
BEGIN:DAYLIGHT
TZOFFSETFROM:-0500
TZOFFSETTO:-0400
TZNAME:EDT
DTSTART:20250309T070000
END:DAYLIGHT
BEGIN:STANDARD
TZOFFSETFROM:-0400
TZOFFSETTO:-0500
TZNAME:EST
DTSTART:20251102T060000
END:STANDARD
END:VTIMEZONE
BEGIN:VEVENT
DTSTART;TZID=America/Toronto:20241117T090000
DTEND;TZID=America/Toronto:20241117T110000
DTSTAMP:20260423T061228
CREATED:20240528T132539Z
LAST-MODIFIED:20240528T132539Z
UID:6490-1731834000-1731841200@mapleleafacres.ca
SUMMARY:Coffee Chat
DESCRIPTION:
URL:https://mapleleafacres.ca/event/coffee-chat-59/
CATEGORIES:Activities,Adult Hall
END:VEVENT
BEGIN:VEVENT
DTSTART;TZID=America/Toronto:20241116T190000
DTEND;TZID=America/Toronto:20241116T190000
DTSTAMP:20260423T061228
CREATED:20240918T134611Z
LAST-MODIFIED:20240918T134611Z
UID:6672-1731783600-1731783600@mapleleafacres.ca
SUMMARY:Darts
DESCRIPTION:
URL:https://mapleleafacres.ca/event/darts-48/2024-11-16/
CATEGORIES:Activities,Rec. Hall
END:VEVENT
BEGIN:VEVENT
DTSTART;TZID=America/Toronto:20241116T130000
DTEND;TZID=America/Toronto:20241116T160000
DTSTAMP:20260423T061228
CREATED:20240312T191134Z
LAST-MODIFIED:20240930T204345Z
UID:6744-1731762000-1731772800@mapleleafacres.ca
SUMMARY:Cornhole
DESCRIPTION:
URL:https://mapleleafacres.ca/event/cornhole/2024-11-16/
CATEGORIES:Activities,Rec. Hall
END:VEVENT
BEGIN:VEVENT
DTSTART;TZID=America/Toronto:20241115T190000
DTEND;TZID=America/Toronto:20241115T233000
DTSTAMP:20260423T061228
CREATED:20240918T134038Z
LAST-MODIFIED:20240918T134038Z
UID:6648-1731697200-1731713400@mapleleafacres.ca
SUMMARY:Poker
DESCRIPTION:
URL:https://mapleleafacres.ca/event/poker/2024-11-15/
CATEGORIES:Activities,Fireside Room
END:VEVENT
BEGIN:VEVENT
DTSTART;TZID=America/Toronto:20241115T133000
DTEND;TZID=America/Toronto:20241115T160000
DTSTAMP:20260423T061228
CREATED:20240131T185238Z
LAST-MODIFIED:20240131T185238Z
UID:5921-1731677400-1731686400@mapleleafacres.ca
SUMMARY:Shuffle Board
DESCRIPTION:
URL:https://mapleleafacres.ca/event/shuffle-board-51/2024-11-15/
CATEGORIES:Activities,Rec. Hall
END:VEVENT
BEGIN:VEVENT
DTSTART;TZID=America/Toronto:20241114T190000
DTEND;TZID=America/Toronto:20241114T210000
DTSTAMP:20260423T061228
CREATED:20240131T192632Z
LAST-MODIFIED:20240131T192632Z
UID:6124-1731610800-1731618000@mapleleafacres.ca
SUMMARY:Pickle Ball
DESCRIPTION:
URL:https://mapleleafacres.ca/event/pickle-ball/2024-11-14/
CATEGORIES:Activities,Rec. Hall
END:VEVENT
BEGIN:VEVENT
DTSTART;TZID=America/Toronto:20241114T130000
DTEND;TZID=America/Toronto:20241114T160000
DTSTAMP:20260423T061228
CREATED:20240411T171035Z
LAST-MODIFIED:20240411T171035Z
UID:6351-1731589200-1731600000@mapleleafacres.ca
SUMMARY:Card Bingo
DESCRIPTION:
URL:https://mapleleafacres.ca/event/card-bingo-62/2024-11-14/
CATEGORIES:Adult Hall
END:VEVENT
BEGIN:VEVENT
DTSTART;TZID=America/Toronto:20241113T190000
DTEND;TZID=America/Toronto:20241113T190000
DTSTAMP:20260423T061228
CREATED:20240918T134611Z
LAST-MODIFIED:20240918T134611Z
UID:6671-1731524400-1731524400@mapleleafacres.ca
SUMMARY:Darts
DESCRIPTION:
URL:https://mapleleafacres.ca/event/darts-48/2024-11-13/
CATEGORIES:Activities,Rec. Hall
END:VEVENT
BEGIN:VEVENT
DTSTART;TZID=America/Toronto:20241111T130000
DTEND;TZID=America/Toronto:20241111T150000
DTSTAMP:20260423T061228
CREATED:20240131T192816Z
LAST-MODIFIED:20240131T192816Z
UID:6171-1731330000-1731337200@mapleleafacres.ca
SUMMARY:Pokeno
DESCRIPTION:
URL:https://mapleleafacres.ca/event/pokeno-29/2024-11-11/
CATEGORIES:Activities,Fireside Room
END:VEVENT
BEGIN:VEVENT
DTSTART;TZID=America/Toronto:20241109T190000
DTEND;TZID=America/Toronto:20241109T190000
DTSTAMP:20260423T061228
CREATED:20240918T134611Z
LAST-MODIFIED:20240918T134611Z
UID:6670-1731178800-1731178800@mapleleafacres.ca
SUMMARY:Darts
DESCRIPTION:
URL:https://mapleleafacres.ca/event/darts-48/2024-11-09/
CATEGORIES:Activities,Rec. Hall
END:VEVENT
BEGIN:VEVENT
DTSTART;TZID=America/Toronto:20241109T130000
DTEND;TZID=America/Toronto:20241109T160000
DTSTAMP:20260423T061228
CREATED:20240312T191134Z
LAST-MODIFIED:20240930T204345Z
UID:6743-1731157200-1731168000@mapleleafacres.ca
SUMMARY:Cornhole
DESCRIPTION:
URL:https://mapleleafacres.ca/event/cornhole/2024-11-09/
CATEGORIES:Activities,Rec. Hall
END:VEVENT
BEGIN:VEVENT
DTSTART;TZID=America/Toronto:20241108T190000
DTEND;TZID=America/Toronto:20241108T233000
DTSTAMP:20260423T061228
CREATED:20240918T134038Z
LAST-MODIFIED:20240918T134038Z
UID:6647-1731092400-1731108600@mapleleafacres.ca
SUMMARY:Poker
DESCRIPTION:
URL:https://mapleleafacres.ca/event/poker/2024-11-08/
CATEGORIES:Activities,Fireside Room
END:VEVENT
BEGIN:VEVENT
DTSTART;TZID=America/Toronto:20241108T180000
DTEND;TZID=America/Toronto:20241108T233000
DTSTAMP:20260423T061228
CREATED:20241021T061554Z
LAST-MODIFIED:20241021T182039Z
UID:5771-1731088800-1731108600@mapleleafacres.ca
SUMMARY:Jack Frost
DESCRIPTION:
URL:https://mapleleafacres.ca/event/jack-frost-planning-meeting/
CATEGORIES:Activities,Adult Hall
END:VEVENT
BEGIN:VEVENT
DTSTART;TZID=America/Toronto:20241108T133000
DTEND;TZID=America/Toronto:20241108T160000
DTSTAMP:20260423T061228
CREATED:20240131T185238Z
LAST-MODIFIED:20240131T185238Z
UID:5920-1731072600-1731081600@mapleleafacres.ca
SUMMARY:Shuffle Board
DESCRIPTION:
URL:https://mapleleafacres.ca/event/shuffle-board-51/2024-11-08/
CATEGORIES:Activities,Rec. Hall
END:VEVENT
BEGIN:VEVENT
DTSTART;TZID=America/Toronto:20241107T190000
DTEND;TZID=America/Toronto:20241107T210000
DTSTAMP:20260423T061228
CREATED:20240131T192632Z
LAST-MODIFIED:20240131T192632Z
UID:6123-1731006000-1731013200@mapleleafacres.ca
SUMMARY:Pickle Ball
DESCRIPTION:
URL:https://mapleleafacres.ca/event/pickle-ball/2024-11-07/
CATEGORIES:Activities,Rec. Hall
END:VEVENT
BEGIN:VEVENT
DTSTART;TZID=America/Toronto:20241107T130000
DTEND;TZID=America/Toronto:20241107T160000
DTSTAMP:20260423T061228
CREATED:20240411T171035Z
LAST-MODIFIED:20240411T171035Z
UID:6350-1730984400-1730995200@mapleleafacres.ca
SUMMARY:Card Bingo
DESCRIPTION:
URL:https://mapleleafacres.ca/event/card-bingo-62/2024-11-07/
CATEGORIES:Adult Hall
END:VEVENT
BEGIN:VEVENT
DTSTART;TZID=America/Toronto:20241106T190000
DTEND;TZID=America/Toronto:20241106T190000
DTSTAMP:20260423T061228
CREATED:20240918T134611Z
LAST-MODIFIED:20240918T134611Z
UID:6669-1730919600-1730919600@mapleleafacres.ca
SUMMARY:Darts
DESCRIPTION:
URL:https://mapleleafacres.ca/event/darts-48/2024-11-06/
CATEGORIES:Activities,Rec. Hall
END:VEVENT
BEGIN:VEVENT
DTSTART;TZID=America/Toronto:20241104T190000
DTEND;TZID=America/Toronto:20241104T220000
DTSTAMP:20260423T061228
CREATED:20240528T131849Z
LAST-MODIFIED:20240528T131849Z
UID:6479-1730746800-1730757600@mapleleafacres.ca
SUMMARY:Euchre Night
DESCRIPTION:
URL:https://mapleleafacres.ca/event/euchre-night/2024-11-04/
CATEGORIES:Activities,Adult Hall
END:VEVENT
BEGIN:VEVENT
DTSTART;TZID=America/Toronto:20241104T130000
DTEND;TZID=America/Toronto:20241104T150000
DTSTAMP:20260423T061228
CREATED:20240131T192816Z
LAST-MODIFIED:20240131T192816Z
UID:6170-1730725200-1730732400@mapleleafacres.ca
SUMMARY:Pokeno
DESCRIPTION:
URL:https://mapleleafacres.ca/event/pokeno-29/2024-11-04/
CATEGORIES:Activities,Fireside Room
END:VEVENT
BEGIN:VEVENT
DTSTART;TZID=America/Toronto:20241103T090000
DTEND;TZID=America/Toronto:20241103T110000
DTSTAMP:20260423T061228
CREATED:20240528T132511Z
LAST-MODIFIED:20240528T132511Z
UID:6488-1730624400-1730631600@mapleleafacres.ca
SUMMARY:Coffee Chat
DESCRIPTION:
URL:https://mapleleafacres.ca/event/coffee-chat-58/
CATEGORIES:Activities,Adult Hall
END:VEVENT
BEGIN:VEVENT
DTSTART;TZID=America/Toronto:20241102T190000
DTEND;TZID=America/Toronto:20241102T233000
DTSTAMP:20260423T061228
CREATED:20240312T191241Z
LAST-MODIFIED:20240312T193138Z
UID:6242-1730574000-1730590200@mapleleafacres.ca
SUMMARY:Darts
DESCRIPTION:
URL:https://mapleleafacres.ca/event/darts-47/2024-11-02/
CATEGORIES:Activities,Rec. Hall
END:VEVENT
BEGIN:VEVENT
DTSTART;TZID=America/Toronto:20241102T130000
DTEND;TZID=America/Toronto:20241102T160000
DTSTAMP:20260423T061228
CREATED:20240312T191134Z
LAST-MODIFIED:20240930T204345Z
UID:6240-1730552400-1730563200@mapleleafacres.ca
SUMMARY:Cornhole
DESCRIPTION:
URL:https://mapleleafacres.ca/event/cornhole/2024-11-02/
CATEGORIES:Activities,Rec. Hall
END:VEVENT
BEGIN:VEVENT
DTSTART;TZID=America/Toronto:20241101T190000
DTEND;TZID=America/Toronto:20241101T233000
DTSTAMP:20260423T061228
CREATED:20240918T134038Z
LAST-MODIFIED:20240918T134038Z
UID:6646-1730487600-1730503800@mapleleafacres.ca
SUMMARY:Poker
DESCRIPTION:
URL:https://mapleleafacres.ca/event/poker/2024-11-01/
CATEGORIES:Activities,Fireside Room
END:VEVENT
BEGIN:VEVENT
DTSTART;TZID=America/Toronto:20241101T133000
DTEND;TZID=America/Toronto:20241101T160000
DTSTAMP:20260423T061228
CREATED:20240131T185238Z
LAST-MODIFIED:20240131T185238Z
UID:5919-1730467800-1730476800@mapleleafacres.ca
SUMMARY:Shuffle Board
DESCRIPTION:
URL:https://mapleleafacres.ca/event/shuffle-board-51/2024-11-01/
CATEGORIES:Activities,Rec. Hall
END:VEVENT
BEGIN:VEVENT
DTSTART;TZID=America/Toronto:20241101T130000
DTEND;TZID=America/Toronto:20241101T170000
DTSTAMP:20260423T061228
CREATED:20240111T143227Z
LAST-MODIFIED:20240111T143227Z
UID:5775-1730466000-1730480400@mapleleafacres.ca
SUMMARY:Cards moved to Fireside
DESCRIPTION:
URL:https://mapleleafacres.ca/event/cards-moved-to-fireside/
CATEGORIES:Activities,Adult Hall
END:VEVENT
BEGIN:VEVENT
DTSTART;TZID=America/Toronto:20241031T190000
DTEND;TZID=America/Toronto:20241031T210000
DTSTAMP:20260423T061228
CREATED:20240131T192632Z
LAST-MODIFIED:20240131T192632Z
UID:6122-1730401200-1730408400@mapleleafacres.ca
SUMMARY:Pickle Ball
DESCRIPTION:
URL:https://mapleleafacres.ca/event/pickle-ball/2024-10-31/
CATEGORIES:Activities,Rec. Hall
END:VEVENT
BEGIN:VEVENT
DTSTART;TZID=America/Toronto:20241031T130000
DTEND;TZID=America/Toronto:20241031T160000
DTSTAMP:20260423T061228
CREATED:20240411T171035Z
LAST-MODIFIED:20240411T171035Z
UID:6349-1730379600-1730390400@mapleleafacres.ca
SUMMARY:Card Bingo
DESCRIPTION:
URL:https://mapleleafacres.ca/event/card-bingo-62/2024-10-31/
CATEGORIES:Adult Hall
END:VEVENT
BEGIN:VEVENT
DTSTART;TZID=America/Toronto:20241030T190000
DTEND;TZID=America/Toronto:20241030T220000
DTSTAMP:20260423T061228
CREATED:20240131T192245Z
LAST-MODIFIED:20240131T192245Z
UID:6081-1730314800-1730325600@mapleleafacres.ca
SUMMARY:Darts
DESCRIPTION:
URL:https://mapleleafacres.ca/event/darts-45/2024-10-30/
CATEGORIES:Activities,Rec. Hall
END:VEVENT
BEGIN:VEVENT
DTSTART;TZID=America/Toronto:20241028T190000
DTEND;TZID=America/Toronto:20241028T220000
DTSTAMP:20260423T061228
CREATED:20240528T131849Z
LAST-MODIFIED:20240528T131849Z
UID:6478-1730142000-1730152800@mapleleafacres.ca
SUMMARY:Euchre Night
DESCRIPTION:
URL:https://mapleleafacres.ca/event/euchre-night/2024-10-28/
CATEGORIES:Activities,Adult Hall
END:VEVENT
BEGIN:VEVENT
DTSTART;TZID=America/Toronto:20241028T130000
DTEND;TZID=America/Toronto:20241028T150000
DTSTAMP:20260423T061228
CREATED:20240131T192816Z
LAST-MODIFIED:20240131T192816Z
UID:6169-1730120400-1730127600@mapleleafacres.ca
SUMMARY:Pokeno
DESCRIPTION:
URL:https://mapleleafacres.ca/event/pokeno-29/2024-10-28/
CATEGORIES:Activities,Fireside Room
END:VEVENT
END:VCALENDAR