BEGIN:VCALENDAR
VERSION:2.0
PRODID:-//Maple Leaf Acres - ECPv6.15.18//NONSGML v1.0//EN
CALSCALE:GREGORIAN
METHOD:PUBLISH
X-WR-CALNAME:Maple Leaf Acres
X-ORIGINAL-URL:https://mapleleafacres.ca
X-WR-CALDESC:Events for Maple Leaf Acres
REFRESH-INTERVAL;VALUE=DURATION:PT1H
X-Robots-Tag:noindex
X-PUBLISHED-TTL:PT1H
BEGIN:VTIMEZONE
TZID:America/Toronto
BEGIN:DAYLIGHT
TZOFFSETFROM:-0500
TZOFFSETTO:-0400
TZNAME:EDT
DTSTART:20240310T070000
END:DAYLIGHT
BEGIN:STANDARD
TZOFFSETFROM:-0400
TZOFFSETTO:-0500
TZNAME:EST
DTSTART:20241103T060000
END:STANDARD
BEGIN:DAYLIGHT
TZOFFSETFROM:-0500
TZOFFSETTO:-0400
TZNAME:EDT
DTSTART:20250309T070000
END:DAYLIGHT
BEGIN:STANDARD
TZOFFSETFROM:-0400
TZOFFSETTO:-0500
TZNAME:EST
DTSTART:20251102T060000
END:STANDARD
BEGIN:DAYLIGHT
TZOFFSETFROM:-0500
TZOFFSETTO:-0400
TZNAME:EDT
DTSTART:20260308T070000
END:DAYLIGHT
BEGIN:STANDARD
TZOFFSETFROM:-0400
TZOFFSETTO:-0500
TZNAME:EST
DTSTART:20261101T060000
END:STANDARD
END:VTIMEZONE
BEGIN:VEVENT
DTSTART;VALUE=DATE:20250726
DTEND;VALUE=DATE:20250727
DTSTAMP:20260421T182409
CREATED:20250318T150102Z
LAST-MODIFIED:20250318T150102Z
UID:7223-1753488000-1753574399@mapleleafacres.ca
SUMMARY:Private Function
DESCRIPTION:
URL:https://mapleleafacres.ca/event/private-function-19/
CATEGORIES:Activities,Fireside Room
END:VEVENT
BEGIN:VEVENT
DTSTART;TZID=America/Toronto:20250725T200000
DTEND;TZID=America/Toronto:20250725T220000
DTSTAMP:20260421T182409
CREATED:20250625T063219Z
LAST-MODIFIED:20250625T193754Z
UID:7315-1753473600-1753480800@mapleleafacres.ca
SUMMARY:Bingo
DESCRIPTION:
URL:https://mapleleafacres.ca/event/bingo-25/2025-07-25/
CATEGORIES:Activities,Rec. Hall
END:VEVENT
BEGIN:VEVENT
DTSTART;TZID=America/Toronto:20250724T120000
DTEND;TZID=America/Toronto:20250724T160000
DTSTAMP:20260421T182409
CREATED:20250318T144233Z
LAST-MODIFIED:20250318T144233Z
UID:7474-1753358400-1753372800@mapleleafacres.ca
SUMMARY:Card Bingo
DESCRIPTION:
URL:https://mapleleafacres.ca/event/card-bingo-63/2025-07-24/
CATEGORIES:Activities,Adult Hall
END:VEVENT
BEGIN:VEVENT
DTSTART;TZID=America/Toronto:20250723T100000
DTEND;TZID=America/Toronto:20250723T110000
DTSTAMP:20260421T182409
CREATED:20250326T142359Z
LAST-MODIFIED:20250326T142359Z
UID:7259-1753264800-1753268400@mapleleafacres.ca
SUMMARY:Fitness Class
DESCRIPTION:
URL:https://mapleleafacres.ca/event/fitness-class-3/2025-07-23/
CATEGORIES:Activities,Rec. Hall
END:VEVENT
BEGIN:VEVENT
DTSTART;TZID=America/Toronto:20250721T180000
DTEND;TZID=America/Toronto:20250721T210000
DTSTAMP:20260421T182409
CREATED:20250318T144106Z
LAST-MODIFIED:20250318T144106Z
UID:7114-1753120800-1753131600@mapleleafacres.ca
SUMMARY:Euchre
DESCRIPTION:
URL:https://mapleleafacres.ca/event/euchre-27/2025-07-21/
CATEGORIES:Activities,Adult Hall
END:VEVENT
BEGIN:VEVENT
DTSTART;TZID=America/Toronto:20250721T100000
DTEND;TZID=America/Toronto:20250721T110000
DTSTAMP:20260421T182409
CREATED:20250326T143036Z
LAST-MODIFIED:20250326T143036Z
UID:7287-1753092000-1753095600@mapleleafacres.ca
SUMMARY:Line Dancing
DESCRIPTION:
URL:https://mapleleafacres.ca/event/line-dancing-47/2025-07-21/
CATEGORIES:Activities,Rec. Hall
END:VEVENT
BEGIN:VEVENT
DTSTART;TZID=America/Toronto:20250719T200000
DTEND;TZID=America/Toronto:20250719T233000
DTSTAMP:20260421T182409
CREATED:20241101T175111Z
LAST-MODIFIED:20241101T175111Z
UID:6886-1752955200-1752967800@mapleleafacres.ca
SUMMARY:Movie Night under the Stars
DESCRIPTION:
URL:https://mapleleafacres.ca/event/movie-night-under-the-stars-3/
CATEGORIES:Activities,MLA Events
END:VEVENT
BEGIN:VEVENT
DTSTART;TZID=America/Toronto:20250718T200000
DTEND;TZID=America/Toronto:20250718T233000
DTSTAMP:20260421T182409
CREATED:20241101T173705Z
LAST-MODIFIED:20241101T173705Z
UID:6883-1752868800-1752881400@mapleleafacres.ca
SUMMARY:Music Trivia
DESCRIPTION:
URL:https://mapleleafacres.ca/event/music-trivia/
CATEGORIES:Activities,Rec. Hall
END:VEVENT
BEGIN:VEVENT
DTSTART;TZID=America/Toronto:20250718T200000
DTEND;TZID=America/Toronto:20250718T220000
DTSTAMP:20260421T182409
CREATED:20250625T063219Z
LAST-MODIFIED:20250625T193753Z
UID:7314-1752868800-1752876000@mapleleafacres.ca
SUMMARY:Bingo
DESCRIPTION:
URL:https://mapleleafacres.ca/event/bingo-25/2025-07-18/
CATEGORIES:Activities,Rec. Hall
END:VEVENT
BEGIN:VEVENT
DTSTART;TZID=America/Toronto:20250717T120000
DTEND;TZID=America/Toronto:20250717T160000
DTSTAMP:20260421T182409
CREATED:20250318T144233Z
LAST-MODIFIED:20250318T144233Z
UID:7473-1752753600-1752768000@mapleleafacres.ca
SUMMARY:Card Bingo
DESCRIPTION:
URL:https://mapleleafacres.ca/event/card-bingo-63/2025-07-17/
CATEGORIES:Activities,Adult Hall
END:VEVENT
BEGIN:VEVENT
DTSTART;TZID=America/Toronto:20250716T100000
DTEND;TZID=America/Toronto:20250716T110000
DTSTAMP:20260421T182409
CREATED:20250326T142359Z
LAST-MODIFIED:20250326T142359Z
UID:7258-1752660000-1752663600@mapleleafacres.ca
SUMMARY:Fitness Class
DESCRIPTION:
URL:https://mapleleafacres.ca/event/fitness-class-3/2025-07-16/
CATEGORIES:Activities,Rec. Hall
END:VEVENT
BEGIN:VEVENT
DTSTART;TZID=America/Toronto:20250714T180000
DTEND;TZID=America/Toronto:20250714T210000
DTSTAMP:20260421T182409
CREATED:20250318T144106Z
LAST-MODIFIED:20250318T144106Z
UID:7113-1752516000-1752526800@mapleleafacres.ca
SUMMARY:Euchre
DESCRIPTION:
URL:https://mapleleafacres.ca/event/euchre-27/2025-07-14/
CATEGORIES:Activities,Adult Hall
END:VEVENT
BEGIN:VEVENT
DTSTART;TZID=America/Toronto:20250714T100000
DTEND;TZID=America/Toronto:20250714T110000
DTSTAMP:20260421T182409
CREATED:20250326T143036Z
LAST-MODIFIED:20250326T143036Z
UID:7285-1752487200-1752490800@mapleleafacres.ca
SUMMARY:Line Dancing
DESCRIPTION:
URL:https://mapleleafacres.ca/event/line-dancing-47/2025-07-14/
CATEGORIES:Activities,Rec. Hall
END:VEVENT
BEGIN:VEVENT
DTSTART;TZID=America/Toronto:20250712T190000
DTEND;TZID=America/Toronto:20250712T233000
DTSTAMP:20260421T182409
CREATED:20241101T171601Z
LAST-MODIFIED:20241101T171601Z
UID:6881-1752346800-1752363000@mapleleafacres.ca
SUMMARY:Outdoor Dance
DESCRIPTION:
URL:https://mapleleafacres.ca/event/outdoor-dance-2/
CATEGORIES:Activities,Rec. Hall
END:VEVENT
BEGIN:VEVENT
DTSTART;TZID=America/Toronto:20250712T120000
DTEND;TZID=America/Toronto:20250712T170000
DTSTAMP:20260421T182409
CREATED:20250326T151550Z
LAST-MODIFIED:20250326T151550Z
UID:7338-1752321600-1752339600@mapleleafacres.ca
SUMMARY:Chocolate Bar Bingo
DESCRIPTION:
URL:https://mapleleafacres.ca/event/chocolate-bar-bingo-19/
CATEGORIES:Activities,Rec. Hall
END:VEVENT
BEGIN:VEVENT
DTSTART;TZID=America/Toronto:20250711T200000
DTEND;TZID=America/Toronto:20250711T220000
DTSTAMP:20260421T182409
CREATED:20250625T063219Z
LAST-MODIFIED:20250625T193751Z
UID:7312-1752264000-1752271200@mapleleafacres.ca
SUMMARY:Bingo
DESCRIPTION:
URL:https://mapleleafacres.ca/event/bingo-25/2025-07-11/
CATEGORIES:Activities,Rec. Hall
END:VEVENT
BEGIN:VEVENT
DTSTART;TZID=America/Toronto:20250710T120000
DTEND;TZID=America/Toronto:20250710T160000
DTSTAMP:20260421T182409
CREATED:20250318T144233Z
LAST-MODIFIED:20250318T144233Z
UID:7472-1752148800-1752163200@mapleleafacres.ca
SUMMARY:Card Bingo
DESCRIPTION:
URL:https://mapleleafacres.ca/event/card-bingo-63/2025-07-10/
CATEGORIES:Activities,Adult Hall
END:VEVENT
BEGIN:VEVENT
DTSTART;TZID=America/Toronto:20250709T100000
DTEND;TZID=America/Toronto:20250709T110000
DTSTAMP:20260421T182409
CREATED:20250326T142359Z
LAST-MODIFIED:20250326T142359Z
UID:7257-1752055200-1752058800@mapleleafacres.ca
SUMMARY:Fitness Class
DESCRIPTION:
URL:https://mapleleafacres.ca/event/fitness-class-3/2025-07-09/
CATEGORIES:Activities,Rec. Hall
END:VEVENT
BEGIN:VEVENT
DTSTART;TZID=America/Toronto:20250707T180000
DTEND;TZID=America/Toronto:20250707T210000
DTSTAMP:20260421T182409
CREATED:20250318T144106Z
LAST-MODIFIED:20250318T144106Z
UID:7112-1751911200-1751922000@mapleleafacres.ca
SUMMARY:Euchre
DESCRIPTION:
URL:https://mapleleafacres.ca/event/euchre-27/2025-07-07/
CATEGORIES:Activities,Adult Hall
END:VEVENT
BEGIN:VEVENT
DTSTART;TZID=America/Toronto:20250707T100000
DTEND;TZID=America/Toronto:20250707T110000
DTSTAMP:20260421T182409
CREATED:20250326T143036Z
LAST-MODIFIED:20250326T143036Z
UID:7284-1751882400-1751886000@mapleleafacres.ca
SUMMARY:Line Dancing
DESCRIPTION:
URL:https://mapleleafacres.ca/event/line-dancing-47/2025-07-07/
CATEGORIES:Activities,Rec. Hall
END:VEVENT
BEGIN:VEVENT
DTSTART;TZID=America/Toronto:20250707T080000
DTEND;TZID=America/Toronto:20250707T170000
DTSTAMP:20260421T182409
CREATED:20241101T171405Z
LAST-MODIFIED:20241101T171425Z
UID:6879-1751875200-1751907600@mapleleafacres.ca
SUMMARY:Scavenger Hunt
DESCRIPTION:
URL:https://mapleleafacres.ca/event/scavenger-hunt-2/
CATEGORIES:Activities
END:VEVENT
BEGIN:VEVENT
DTSTART;TZID=America/Toronto:20250704T200000
DTEND;TZID=America/Toronto:20250704T220000
DTSTAMP:20260421T182409
CREATED:20250625T063219Z
LAST-MODIFIED:20250625T193751Z
UID:7311-1751659200-1751666400@mapleleafacres.ca
SUMMARY:Bingo
DESCRIPTION:
URL:https://mapleleafacres.ca/event/bingo-25/2025-07-04/
CATEGORIES:Activities,Rec. Hall
END:VEVENT
BEGIN:VEVENT
DTSTART;TZID=America/Toronto:20250703T120000
DTEND;TZID=America/Toronto:20250703T160000
DTSTAMP:20260421T182409
CREATED:20250318T144233Z
LAST-MODIFIED:20250318T144233Z
UID:7471-1751544000-1751558400@mapleleafacres.ca
SUMMARY:Card Bingo
DESCRIPTION:
URL:https://mapleleafacres.ca/event/card-bingo-63/2025-07-03/
CATEGORIES:Activities,Adult Hall
END:VEVENT
BEGIN:VEVENT
DTSTART;TZID=America/Toronto:20250702T100000
DTEND;TZID=America/Toronto:20250702T110000
DTSTAMP:20260421T182409
CREATED:20250326T142359Z
LAST-MODIFIED:20250326T142359Z
UID:7256-1751450400-1751454000@mapleleafacres.ca
SUMMARY:Fitness Class
DESCRIPTION:
URL:https://mapleleafacres.ca/event/fitness-class-3/2025-07-02/
CATEGORIES:Activities,Rec. Hall
END:VEVENT
BEGIN:VEVENT
DTSTART;TZID=America/Toronto:20250630T180000
DTEND;TZID=America/Toronto:20250630T210000
DTSTAMP:20260421T182409
CREATED:20250318T144106Z
LAST-MODIFIED:20250318T144106Z
UID:7111-1751306400-1751317200@mapleleafacres.ca
SUMMARY:Euchre
DESCRIPTION:
URL:https://mapleleafacres.ca/event/euchre-27/2025-06-30/
CATEGORIES:Activities,Adult Hall
END:VEVENT
BEGIN:VEVENT
DTSTART;TZID=America/Toronto:20250630T100000
DTEND;TZID=America/Toronto:20250630T110000
DTSTAMP:20260421T182409
CREATED:20250326T143036Z
LAST-MODIFIED:20250326T143036Z
UID:7283-1751277600-1751281200@mapleleafacres.ca
SUMMARY:Line Dancing
DESCRIPTION:
URL:https://mapleleafacres.ca/event/line-dancing-47/2025-06-30/
CATEGORIES:Activities,Rec. Hall
END:VEVENT
BEGIN:VEVENT
DTSTART;TZID=America/Toronto:20250629T140000
DTEND;TZID=America/Toronto:20250629T160000
DTSTAMP:20260421T182409
CREATED:20241031T143546Z
LAST-MODIFIED:20241031T143546Z
UID:6876-1751205600-1751212800@mapleleafacres.ca
SUMMARY:Ice Cream Sundae
DESCRIPTION:
URL:https://mapleleafacres.ca/event/ice-cream-sundae-7/
CATEGORIES:Activities,Adult Hall
END:VEVENT
BEGIN:VEVENT
DTSTART;TZID=America/Toronto:20250629T130000
DTEND;TZID=America/Toronto:20250629T150000
DTSTAMP:20260421T182409
CREATED:20250625T063352Z
LAST-MODIFIED:20250625T193454Z
UID:6872-1751202000-1751209200@mapleleafacres.ca
SUMMARY:CANCELLED -Kids Craft
DESCRIPTION:
URL:https://mapleleafacres.ca/event/kids-craft-7/
CATEGORIES:Activities,Rec. Hall
END:VEVENT
BEGIN:VEVENT
DTSTART;TZID=America/Toronto:20250629T100000
DTEND;TZID=America/Toronto:20250629T120000
DTSTAMP:20260421T182409
CREATED:20241031T143452Z
LAST-MODIFIED:20241031T143452Z
UID:6874-1751191200-1751198400@mapleleafacres.ca
SUMMARY:Horseshoe Tournament
DESCRIPTION:
URL:https://mapleleafacres.ca/event/horseshoe-tournament-7/
CATEGORIES:Activities,MLA Events
END:VEVENT
BEGIN:VEVENT
DTSTART;TZID=America/Toronto:20250629T090000
DTEND;TZID=America/Toronto:20250629T110000
DTSTAMP:20260421T182409
CREATED:20250318T145313Z
LAST-MODIFIED:20250318T145313Z
UID:7207-1751187600-1751194800@mapleleafacres.ca
SUMMARY:Coffee Chat
DESCRIPTION:
URL:https://mapleleafacres.ca/event/coffee-chat-70/
CATEGORIES:Activities,Adult Hall
END:VEVENT
END:VCALENDAR