BEGIN:VCALENDAR
VERSION:2.0
PRODID:-//Maple Leaf Acres - ECPv6.15.18//NONSGML v1.0//EN
CALSCALE:GREGORIAN
METHOD:PUBLISH
X-WR-CALNAME:Maple Leaf Acres
X-ORIGINAL-URL:https://mapleleafacres.ca
X-WR-CALDESC:Events for Maple Leaf Acres
REFRESH-INTERVAL;VALUE=DURATION:PT1H
X-Robots-Tag:noindex
X-PUBLISHED-TTL:PT1H
BEGIN:VTIMEZONE
TZID:America/Toronto
BEGIN:DAYLIGHT
TZOFFSETFROM:-0500
TZOFFSETTO:-0400
TZNAME:EDT
DTSTART:20240310T070000
END:DAYLIGHT
BEGIN:STANDARD
TZOFFSETFROM:-0400
TZOFFSETTO:-0500
TZNAME:EST
DTSTART:20241103T060000
END:STANDARD
BEGIN:DAYLIGHT
TZOFFSETFROM:-0500
TZOFFSETTO:-0400
TZNAME:EDT
DTSTART:20250309T070000
END:DAYLIGHT
BEGIN:STANDARD
TZOFFSETFROM:-0400
TZOFFSETTO:-0500
TZNAME:EST
DTSTART:20251102T060000
END:STANDARD
BEGIN:DAYLIGHT
TZOFFSETFROM:-0500
TZOFFSETTO:-0400
TZNAME:EDT
DTSTART:20260308T070000
END:DAYLIGHT
BEGIN:STANDARD
TZOFFSETFROM:-0400
TZOFFSETTO:-0500
TZNAME:EST
DTSTART:20261101T060000
END:STANDARD
END:VTIMEZONE
BEGIN:VEVENT
DTSTART;TZID=America/Toronto:20251005T143000
DTEND;TZID=America/Toronto:20251005T173000
DTSTAMP:20260421T182412
CREATED:20250915T181121Z
LAST-MODIFIED:20250915T181121Z
UID:7879-1759674600-1759685400@mapleleafacres.ca
SUMMARY:Hockey Pool
DESCRIPTION:
URL:https://mapleleafacres.ca/event/hockey-pool/
CATEGORIES:Activities,Adult Hall
END:VEVENT
BEGIN:VEVENT
DTSTART;TZID=America/Toronto:20251005T130000
DTEND;TZID=America/Toronto:20251005T160000
DTSTAMP:20260421T182412
CREATED:20250903T152416Z
LAST-MODIFIED:20250903T152416Z
UID:7653-1759669200-1759680000@mapleleafacres.ca
SUMMARY:Rummoli
DESCRIPTION:
URL:https://mapleleafacres.ca/event/rummoli/2025-10-05/
CATEGORIES:Activities,Fireside Room
END:VEVENT
BEGIN:VEVENT
DTSTART;TZID=America/Toronto:20251005T120000
DTEND;TZID=America/Toronto:20251005T170000
DTSTAMP:20260421T182412
CREATED:20250915T174649Z
LAST-MODIFIED:20250915T174726Z
UID:7827-1759665600-1759683600@mapleleafacres.ca
SUMMARY:Private Party
DESCRIPTION:
URL:https://mapleleafacres.ca/event/private-party-113/
CATEGORIES:Activities,Rec. Hall
END:VEVENT
BEGIN:VEVENT
DTSTART;TZID=America/Toronto:20251005T090000
DTEND;TZID=America/Toronto:20251005T110000
DTSTAMP:20260421T182412
CREATED:20250915T181923Z
LAST-MODIFIED:20250915T181923Z
UID:7883-1759654800-1759662000@mapleleafacres.ca
SUMMARY:Coffee Chat
DESCRIPTION:
URL:https://mapleleafacres.ca/event/coffee-chat-72/
CATEGORIES:Activities,Adult Hall
END:VEVENT
BEGIN:VEVENT
DTSTART;TZID=America/Toronto:20251004T080000
DTEND;TZID=America/Toronto:20251004T170000
DTSTAMP:20260421T182412
CREATED:20250915T180810Z
LAST-MODIFIED:20250915T180810Z
UID:7871-1759564800-1759597200@mapleleafacres.ca
SUMMARY:Private Party
DESCRIPTION:
URL:https://mapleleafacres.ca/event/private-party-120/
CATEGORIES:Activities,Adult Hall
END:VEVENT
BEGIN:VEVENT
DTSTART;TZID=America/Toronto:20251003T200000
DTEND;TZID=America/Toronto:20251003T220000
DTSTAMP:20260421T182412
CREATED:20250625T063219Z
LAST-MODIFIED:20250625T193757Z
UID:7325-1759521600-1759528800@mapleleafacres.ca
SUMMARY:Bingo
DESCRIPTION:
URL:https://mapleleafacres.ca/event/bingo-25/2025-10-03/
CATEGORIES:Activities,Rec. Hall
END:VEVENT
BEGIN:VEVENT
DTSTART;TZID=America/Toronto:20251002T120000
DTEND;TZID=America/Toronto:20251002T160000
DTSTAMP:20260421T182412
CREATED:20250318T144233Z
LAST-MODIFIED:20250318T144233Z
UID:7484-1759406400-1759420800@mapleleafacres.ca
SUMMARY:Card Bingo
DESCRIPTION:
URL:https://mapleleafacres.ca/event/card-bingo-63/2025-10-02/
CATEGORIES:Activities,Adult Hall
END:VEVENT
BEGIN:VEVENT
DTSTART;TZID=America/Toronto:20251001T100000
DTEND;TZID=America/Toronto:20251001T110000
DTSTAMP:20260421T182412
CREATED:20250326T142359Z
LAST-MODIFIED:20250326T142359Z
UID:7270-1759312800-1759316400@mapleleafacres.ca
SUMMARY:Fitness Class
DESCRIPTION:
URL:https://mapleleafacres.ca/event/fitness-class-3/2025-10-01/
CATEGORIES:Activities,Rec. Hall
END:VEVENT
BEGIN:VEVENT
DTSTART;TZID=America/Toronto:20250930T130000
DTEND;TZID=America/Toronto:20250930T160000
DTSTAMP:20260421T182412
CREATED:20250903T152635Z
LAST-MODIFIED:20250903T152635Z
UID:7687-1759237200-1759248000@mapleleafacres.ca
SUMMARY:Bid Euchre
DESCRIPTION:
URL:https://mapleleafacres.ca/event/bid-euchre-91/2025-09-30/
CATEGORIES:Activities,Fireside Room
END:VEVENT
BEGIN:VEVENT
DTSTART;TZID=America/Toronto:20250929T180000
DTEND;TZID=America/Toronto:20250929T210000
DTSTAMP:20260421T182412
CREATED:20250318T144106Z
LAST-MODIFIED:20250318T144106Z
UID:7124-1759168800-1759179600@mapleleafacres.ca
SUMMARY:Euchre
DESCRIPTION:
URL:https://mapleleafacres.ca/event/euchre-27/2025-09-29/
CATEGORIES:Activities,Adult Hall
END:VEVENT
BEGIN:VEVENT
DTSTART;TZID=America/Toronto:20250929T100000
DTEND;TZID=America/Toronto:20250929T110000
DTSTAMP:20260421T182412
CREATED:20250326T143036Z
LAST-MODIFIED:20250326T143036Z
UID:7297-1759140000-1759143600@mapleleafacres.ca
SUMMARY:Line Dancing
DESCRIPTION:
URL:https://mapleleafacres.ca/event/line-dancing-47/2025-09-29/
CATEGORIES:Activities,Rec. Hall
END:VEVENT
BEGIN:VEVENT
DTSTART;TZID=America/Toronto:20250928T140000
DTEND;TZID=America/Toronto:20250928T160000
DTSTAMP:20260421T182412
CREATED:20241105T193548Z
LAST-MODIFIED:20241105T193548Z
UID:6921-1759068000-1759075200@mapleleafacres.ca
SUMMARY:Ice Cream Sundae
DESCRIPTION:
URL:https://mapleleafacres.ca/event/ice-cream-sundae-9/
CATEGORIES:Activities,Adult Hall
END:VEVENT
BEGIN:VEVENT
DTSTART;TZID=America/Toronto:20250928T130000
DTEND;TZID=America/Toronto:20250928T160000
DTSTAMP:20260421T182412
CREATED:20250903T152416Z
LAST-MODIFIED:20250903T152416Z
UID:7652-1759064400-1759075200@mapleleafacres.ca
SUMMARY:Rummoli
DESCRIPTION:
URL:https://mapleleafacres.ca/event/rummoli/2025-09-28/
CATEGORIES:Activities,Fireside Room
END:VEVENT
BEGIN:VEVENT
DTSTART;TZID=America/Toronto:20250927T200000
DTEND;TZID=America/Toronto:20250927T233000
DTSTAMP:20260421T182412
CREATED:20241105T193437Z
LAST-MODIFIED:20241105T193437Z
UID:6919-1759003200-1759015800@mapleleafacres.ca
SUMMARY:Dance
DESCRIPTION:
URL:https://mapleleafacres.ca/event/dance-3/
CATEGORIES:Activities,Rec. Hall
END:VEVENT
BEGIN:VEVENT
DTSTART;TZID=America/Toronto:20250926T200000
DTEND;TZID=America/Toronto:20250926T220000
DTSTAMP:20260421T182412
CREATED:20250625T063219Z
LAST-MODIFIED:20250625T193756Z
UID:7324-1758916800-1758924000@mapleleafacres.ca
SUMMARY:Bingo
DESCRIPTION:
URL:https://mapleleafacres.ca/event/bingo-25/2025-09-26/
CATEGORIES:Activities,Rec. Hall
END:VEVENT
BEGIN:VEVENT
DTSTART;TZID=America/Toronto:20250925T120000
DTEND;TZID=America/Toronto:20250925T160000
DTSTAMP:20260421T182412
CREATED:20250318T144233Z
LAST-MODIFIED:20250318T144233Z
UID:7483-1758801600-1758816000@mapleleafacres.ca
SUMMARY:Card Bingo
DESCRIPTION:
URL:https://mapleleafacres.ca/event/card-bingo-63/2025-09-25/
CATEGORIES:Activities,Adult Hall
END:VEVENT
BEGIN:VEVENT
DTSTART;TZID=America/Toronto:20250924T100000
DTEND;TZID=America/Toronto:20250924T110000
DTSTAMP:20260421T182412
CREATED:20250326T142359Z
LAST-MODIFIED:20250326T142359Z
UID:7269-1758708000-1758711600@mapleleafacres.ca
SUMMARY:Fitness Class
DESCRIPTION:
URL:https://mapleleafacres.ca/event/fitness-class-3/2025-09-24/
CATEGORIES:Activities,Rec. Hall
END:VEVENT
BEGIN:VEVENT
DTSTART;TZID=America/Toronto:20250923T130000
DTEND;TZID=America/Toronto:20250923T160000
DTSTAMP:20260421T182412
CREATED:20250903T152635Z
LAST-MODIFIED:20250903T152635Z
UID:7686-1758632400-1758643200@mapleleafacres.ca
SUMMARY:Bid Euchre
DESCRIPTION:
URL:https://mapleleafacres.ca/event/bid-euchre-91/2025-09-23/
CATEGORIES:Activities,Fireside Room
END:VEVENT
BEGIN:VEVENT
DTSTART;TZID=America/Toronto:20250922T180000
DTEND;TZID=America/Toronto:20250922T210000
DTSTAMP:20260421T182412
CREATED:20250318T144106Z
LAST-MODIFIED:20250318T144106Z
UID:7123-1758564000-1758574800@mapleleafacres.ca
SUMMARY:Euchre
DESCRIPTION:
URL:https://mapleleafacres.ca/event/euchre-27/2025-09-22/
CATEGORIES:Activities,Adult Hall
END:VEVENT
BEGIN:VEVENT
DTSTART;TZID=America/Toronto:20250922T100000
DTEND;TZID=America/Toronto:20250922T110000
DTSTAMP:20260421T182412
CREATED:20250326T143036Z
LAST-MODIFIED:20250326T143036Z
UID:7296-1758535200-1758538800@mapleleafacres.ca
SUMMARY:Line Dancing
DESCRIPTION:
URL:https://mapleleafacres.ca/event/line-dancing-47/2025-09-22/
CATEGORIES:Activities,Rec. Hall
END:VEVENT
BEGIN:VEVENT
DTSTART;TZID=America/Toronto:20250921T130000
DTEND;TZID=America/Toronto:20250921T160000
DTSTAMP:20260421T182412
CREATED:20250903T152416Z
LAST-MODIFIED:20250903T152416Z
UID:7651-1758459600-1758470400@mapleleafacres.ca
SUMMARY:Rummoli
DESCRIPTION:
URL:https://mapleleafacres.ca/event/rummoli/2025-09-21/
CATEGORIES:Activities,Fireside Room
END:VEVENT
BEGIN:VEVENT
DTSTART;TZID=America/Toronto:20250921T090000
DTEND;TZID=America/Toronto:20250921T230000
DTSTAMP:20260421T182412
CREATED:20250915T180553Z
LAST-MODIFIED:20250915T180553Z
UID:7865-1758445200-1758495600@mapleleafacres.ca
SUMMARY:Coffee Chat
DESCRIPTION:
URL:https://mapleleafacres.ca/event/coffee-chat-71/
CATEGORIES:Activities,Adult Hall
END:VEVENT
BEGIN:VEVENT
DTSTART;TZID=America/Toronto:20250921T000000
DTEND;TZID=America/Toronto:20250921T170000
DTSTAMP:20260421T182412
CREATED:20250915T180645Z
LAST-MODIFIED:20250915T180645Z
UID:7867-1758412800-1758474000@mapleleafacres.ca
SUMMARY:Private Party
DESCRIPTION:
URL:https://mapleleafacres.ca/event/private-party-118/
CATEGORIES:Activities,Adult Hall
END:VEVENT
BEGIN:VEVENT
DTSTART;TZID=America/Toronto:20250920T100000
DTEND;TZID=America/Toronto:20250920T120000
DTSTAMP:20260421T182412
CREATED:20241105T193345Z
LAST-MODIFIED:20241105T193345Z
UID:6917-1758362400-1758369600@mapleleafacres.ca
SUMMARY:Sports & Rec Meeting
DESCRIPTION:
URL:https://mapleleafacres.ca/event/sports-rec-meeting-11/
CATEGORIES:Activities,Adult Hall
END:VEVENT
BEGIN:VEVENT
DTSTART;TZID=America/Toronto:20250919T200000
DTEND;TZID=America/Toronto:20250919T220000
DTSTAMP:20260421T182412
CREATED:20250625T063219Z
LAST-MODIFIED:20250625T193755Z
UID:7323-1758312000-1758319200@mapleleafacres.ca
SUMMARY:Bingo
DESCRIPTION:
URL:https://mapleleafacres.ca/event/bingo-25/2025-09-19/
CATEGORIES:Activities,Rec. Hall
END:VEVENT
BEGIN:VEVENT
DTSTART;TZID=America/Toronto:20250918T120000
DTEND;TZID=America/Toronto:20250918T160000
DTSTAMP:20260421T182412
CREATED:20250318T144233Z
LAST-MODIFIED:20250318T144233Z
UID:7482-1758196800-1758211200@mapleleafacres.ca
SUMMARY:Card Bingo
DESCRIPTION:
URL:https://mapleleafacres.ca/event/card-bingo-63/2025-09-18/
CATEGORIES:Activities,Adult Hall
END:VEVENT
BEGIN:VEVENT
DTSTART;TZID=America/Toronto:20250917T100000
DTEND;TZID=America/Toronto:20250917T110000
DTSTAMP:20260421T182412
CREATED:20250326T142359Z
LAST-MODIFIED:20250326T142359Z
UID:7268-1758103200-1758106800@mapleleafacres.ca
SUMMARY:Fitness Class
DESCRIPTION:
URL:https://mapleleafacres.ca/event/fitness-class-3/2025-09-17/
CATEGORIES:Activities,Rec. Hall
END:VEVENT
BEGIN:VEVENT
DTSTART;TZID=America/Toronto:20250916T130000
DTEND;TZID=America/Toronto:20250916T160000
DTSTAMP:20260421T182412
CREATED:20250903T152635Z
LAST-MODIFIED:20250903T152635Z
UID:7685-1758027600-1758038400@mapleleafacres.ca
SUMMARY:Bid Euchre
DESCRIPTION:
URL:https://mapleleafacres.ca/event/bid-euchre-91/2025-09-16/
CATEGORIES:Activities,Fireside Room
END:VEVENT
BEGIN:VEVENT
DTSTART;TZID=America/Toronto:20250915T180000
DTEND;TZID=America/Toronto:20250915T210000
DTSTAMP:20260421T182412
CREATED:20250318T144106Z
LAST-MODIFIED:20250318T144106Z
UID:7122-1757959200-1757970000@mapleleafacres.ca
SUMMARY:Euchre
DESCRIPTION:
URL:https://mapleleafacres.ca/event/euchre-27/2025-09-15/
CATEGORIES:Activities,Adult Hall
END:VEVENT
BEGIN:VEVENT
DTSTART;TZID=America/Toronto:20250915T100000
DTEND;TZID=America/Toronto:20250915T110000
DTSTAMP:20260421T182412
CREATED:20250326T143036Z
LAST-MODIFIED:20250326T143036Z
UID:7295-1757930400-1757934000@mapleleafacres.ca
SUMMARY:Line Dancing
DESCRIPTION:
URL:https://mapleleafacres.ca/event/line-dancing-47/2025-09-15/
CATEGORIES:Activities,Rec. Hall
END:VEVENT
END:VCALENDAR