BEGIN:VCALENDAR
VERSION:2.0
PRODID:-//Maple Leaf Acres - ECPv6.15.18//NONSGML v1.0//EN
CALSCALE:GREGORIAN
METHOD:PUBLISH
X-WR-CALNAME:Maple Leaf Acres
X-ORIGINAL-URL:https://mapleleafacres.ca
X-WR-CALDESC:Events for Maple Leaf Acres
REFRESH-INTERVAL;VALUE=DURATION:PT1H
X-Robots-Tag:noindex
X-PUBLISHED-TTL:PT1H
BEGIN:VTIMEZONE
TZID:America/Toronto
BEGIN:DAYLIGHT
TZOFFSETFROM:-0500
TZOFFSETTO:-0400
TZNAME:EDT
DTSTART:20230312T070000
END:DAYLIGHT
BEGIN:STANDARD
TZOFFSETFROM:-0400
TZOFFSETTO:-0500
TZNAME:EST
DTSTART:20231105T060000
END:STANDARD
BEGIN:DAYLIGHT
TZOFFSETFROM:-0500
TZOFFSETTO:-0400
TZNAME:EDT
DTSTART:20240310T070000
END:DAYLIGHT
BEGIN:STANDARD
TZOFFSETFROM:-0400
TZOFFSETTO:-0500
TZNAME:EST
DTSTART:20241103T060000
END:STANDARD
BEGIN:DAYLIGHT
TZOFFSETFROM:-0500
TZOFFSETTO:-0400
TZNAME:EDT
DTSTART:20250309T070000
END:DAYLIGHT
BEGIN:STANDARD
TZOFFSETFROM:-0400
TZOFFSETTO:-0500
TZNAME:EST
DTSTART:20251102T060000
END:STANDARD
END:VTIMEZONE
BEGIN:VEVENT
DTSTART;TZID=America/Toronto:20241010T190000
DTEND;TZID=America/Toronto:20241010T210000
DTSTAMP:20260423T064728
CREATED:20240131T192632Z
LAST-MODIFIED:20240131T192632Z
UID:6119-1728586800-1728594000@mapleleafacres.ca
SUMMARY:Pickle Ball
DESCRIPTION:
URL:https://mapleleafacres.ca/event/pickle-ball/2024-10-10/
CATEGORIES:Activities,Rec. Hall
END:VEVENT
BEGIN:VEVENT
DTSTART;TZID=America/Toronto:20241010T130000
DTEND;TZID=America/Toronto:20241010T160000
DTSTAMP:20260423T064728
CREATED:20240411T171035Z
LAST-MODIFIED:20240411T171035Z
UID:6346-1728565200-1728576000@mapleleafacres.ca
SUMMARY:Card Bingo
DESCRIPTION:
URL:https://mapleleafacres.ca/event/card-bingo-62/2024-10-10/
CATEGORIES:Adult Hall
END:VEVENT
BEGIN:VEVENT
DTSTART;TZID=America/Toronto:20241009T190000
DTEND;TZID=America/Toronto:20241009T220000
DTSTAMP:20260423T064728
CREATED:20240131T192245Z
LAST-MODIFIED:20240131T192245Z
UID:6078-1728500400-1728511200@mapleleafacres.ca
SUMMARY:Darts
DESCRIPTION:
URL:https://mapleleafacres.ca/event/darts-45/2024-10-09/
CATEGORIES:Activities,Rec. Hall
END:VEVENT
BEGIN:VEVENT
DTSTART;TZID=America/Toronto:20241007T190000
DTEND;TZID=America/Toronto:20241007T220000
DTSTAMP:20260423T064728
CREATED:20240528T131849Z
LAST-MODIFIED:20240528T131849Z
UID:6475-1728327600-1728338400@mapleleafacres.ca
SUMMARY:Euchre Night
DESCRIPTION:
URL:https://mapleleafacres.ca/event/euchre-night/2024-10-07/
CATEGORIES:Activities,Adult Hall
END:VEVENT
BEGIN:VEVENT
DTSTART;TZID=America/Toronto:20241007T130000
DTEND;TZID=America/Toronto:20241007T150000
DTSTAMP:20260423T064728
CREATED:20240131T192816Z
LAST-MODIFIED:20240131T192816Z
UID:6166-1728306000-1728313200@mapleleafacres.ca
SUMMARY:Pokeno
DESCRIPTION:
URL:https://mapleleafacres.ca/event/pokeno-29/2024-10-07/
CATEGORIES:Activities,Fireside Room
END:VEVENT
BEGIN:VEVENT
DTSTART;TZID=America/Toronto:20241007T100000
DTEND;TZID=America/Toronto:20241007T230000
DTSTAMP:20260423T064728
CREATED:20240131T191511Z
LAST-MODIFIED:20240131T191511Z
UID:6038-1728295200-1728342000@mapleleafacres.ca
SUMMARY:Line Dancing
DESCRIPTION:
URL:https://mapleleafacres.ca/event/line-dancing-46/2024-10-07/
CATEGORIES:Activities,Rec. Hall
END:VEVENT
BEGIN:VEVENT
DTSTART;TZID=America/Toronto:20241006T090000
DTEND;TZID=America/Toronto:20241006T110000
DTSTAMP:20260423T064728
CREATED:20240528T132351Z
LAST-MODIFIED:20240528T132351Z
UID:6484-1728205200-1728212400@mapleleafacres.ca
SUMMARY:Coffee Chat
DESCRIPTION:
URL:https://mapleleafacres.ca/event/coffee-chat-56/
CATEGORIES:Activities,Adult Hall
END:VEVENT
BEGIN:VEVENT
DTSTART;TZID=America/Toronto:20241005T170000
DTEND;TZID=America/Toronto:20241005T233000
DTSTAMP:20260423T064728
CREATED:20240405T120053Z
LAST-MODIFIED:20240918T140303Z
UID:6316-1728147600-1728171000@mapleleafacres.ca
SUMMARY:Jak's 70th Birthday Bash
DESCRIPTION:
URL:https://mapleleafacres.ca/event/fundraiser-for-groves-hospital/
CATEGORIES:Rec. Hall
END:VEVENT
BEGIN:VEVENT
DTSTART;TZID=America/Toronto:20241004T133000
DTEND;TZID=America/Toronto:20241004T160000
DTSTAMP:20260423T064728
CREATED:20240131T185238Z
LAST-MODIFIED:20240131T185238Z
UID:5915-1728048600-1728057600@mapleleafacres.ca
SUMMARY:Shuffle Board
DESCRIPTION:
URL:https://mapleleafacres.ca/event/shuffle-board-51/2024-10-04/
CATEGORIES:Activities,Rec. Hall
END:VEVENT
BEGIN:VEVENT
DTSTART;TZID=America/Toronto:20241003T190000
DTEND;TZID=America/Toronto:20241003T210000
DTSTAMP:20260423T064728
CREATED:20240131T192632Z
LAST-MODIFIED:20240131T192632Z
UID:6118-1727982000-1727989200@mapleleafacres.ca
SUMMARY:Pickle Ball
DESCRIPTION:
URL:https://mapleleafacres.ca/event/pickle-ball/2024-10-03/
CATEGORIES:Activities,Rec. Hall
END:VEVENT
BEGIN:VEVENT
DTSTART;TZID=America/Toronto:20241003T130000
DTEND;TZID=America/Toronto:20241003T160000
DTSTAMP:20260423T064728
CREATED:20240411T171035Z
LAST-MODIFIED:20240411T171035Z
UID:6345-1727960400-1727971200@mapleleafacres.ca
SUMMARY:Card Bingo
DESCRIPTION:
URL:https://mapleleafacres.ca/event/card-bingo-62/2024-10-03/
CATEGORIES:Adult Hall
END:VEVENT
BEGIN:VEVENT
DTSTART;TZID=America/Toronto:20241002T190000
DTEND;TZID=America/Toronto:20241002T220000
DTSTAMP:20260423T064728
CREATED:20240131T192245Z
LAST-MODIFIED:20240131T192245Z
UID:6077-1727895600-1727906400@mapleleafacres.ca
SUMMARY:Darts
DESCRIPTION:
URL:https://mapleleafacres.ca/event/darts-45/2024-10-02/
CATEGORIES:Activities,Rec. Hall
END:VEVENT
BEGIN:VEVENT
DTSTART;TZID=America/Toronto:20240930T190000
DTEND;TZID=America/Toronto:20240930T220000
DTSTAMP:20260423T064728
CREATED:20240528T131849Z
LAST-MODIFIED:20240528T131849Z
UID:6474-1727722800-1727733600@mapleleafacres.ca
SUMMARY:Euchre Night
DESCRIPTION:
URL:https://mapleleafacres.ca/event/euchre-night/2024-09-30/
CATEGORIES:Activities,Adult Hall
END:VEVENT
BEGIN:VEVENT
DTSTART;TZID=America/Toronto:20240930T130000
DTEND;TZID=America/Toronto:20240930T150000
DTSTAMP:20260423T064728
CREATED:20240131T192816Z
LAST-MODIFIED:20240131T192816Z
UID:6165-1727701200-1727708400@mapleleafacres.ca
SUMMARY:Pokeno
DESCRIPTION:
URL:https://mapleleafacres.ca/event/pokeno-29/2024-09-30/
CATEGORIES:Activities,Fireside Room
END:VEVENT
BEGIN:VEVENT
DTSTART;TZID=America/Toronto:20240930T100000
DTEND;TZID=America/Toronto:20240930T230000
DTSTAMP:20260423T064728
CREATED:20240131T191511Z
LAST-MODIFIED:20240131T191511Z
UID:6037-1727690400-1727737200@mapleleafacres.ca
SUMMARY:Line Dancing
DESCRIPTION:
URL:https://mapleleafacres.ca/event/line-dancing-46/2024-09-30/
CATEGORIES:Activities,Rec. Hall
END:VEVENT
BEGIN:VEVENT
DTSTART;TZID=America/Toronto:20240929T140000
DTEND;TZID=America/Toronto:20240929T160000
DTSTAMP:20260423T064728
CREATED:20240111T160425Z
LAST-MODIFIED:20240111T160425Z
UID:5815-1727618400-1727625600@mapleleafacres.ca
SUMMARY:Ice Cream Sundae
DESCRIPTION:
URL:https://mapleleafacres.ca/event/ice-cream-sundae-5/
CATEGORIES:Activities,Adult Hall
END:VEVENT
BEGIN:VEVENT
DTSTART;TZID=America/Toronto:20240928T200000
DTEND;TZID=America/Toronto:20240929T000000
DTSTAMP:20260423T064728
CREATED:20240116T185446Z
LAST-MODIFIED:20240116T185446Z
UID:5873-1727553600-1727568000@mapleleafacres.ca
SUMMARY:Dance - Just Us
DESCRIPTION:
URL:https://mapleleafacres.ca/event/dance-just-us/
CATEGORIES:Activities,Rec. Hall
END:VEVENT
BEGIN:VEVENT
DTSTART;TZID=America/Toronto:20240927T133000
DTEND;TZID=America/Toronto:20240927T160000
DTSTAMP:20260423T064728
CREATED:20240131T185238Z
LAST-MODIFIED:20240131T185238Z
UID:5914-1727443800-1727452800@mapleleafacres.ca
SUMMARY:Shuffle Board
DESCRIPTION:
URL:https://mapleleafacres.ca/event/shuffle-board-51/2024-09-27/
CATEGORIES:Activities,Rec. Hall
END:VEVENT
BEGIN:VEVENT
DTSTART;TZID=America/Toronto:20240926T190000
DTEND;TZID=America/Toronto:20240926T210000
DTSTAMP:20260423T064728
CREATED:20240131T192632Z
LAST-MODIFIED:20240131T192632Z
UID:6117-1727377200-1727384400@mapleleafacres.ca
SUMMARY:Pickle Ball
DESCRIPTION:
URL:https://mapleleafacres.ca/event/pickle-ball/2024-09-26/
CATEGORIES:Activities,Rec. Hall
END:VEVENT
BEGIN:VEVENT
DTSTART;TZID=America/Toronto:20240926T130000
DTEND;TZID=America/Toronto:20240926T160000
DTSTAMP:20260423T064728
CREATED:20240411T171035Z
LAST-MODIFIED:20240411T171035Z
UID:6344-1727355600-1727366400@mapleleafacres.ca
SUMMARY:Card Bingo
DESCRIPTION:
URL:https://mapleleafacres.ca/event/card-bingo-62/2024-09-26/
CATEGORIES:Adult Hall
END:VEVENT
BEGIN:VEVENT
DTSTART;TZID=America/Toronto:20240925T190000
DTEND;TZID=America/Toronto:20240925T220000
DTSTAMP:20260423T064728
CREATED:20240131T192245Z
LAST-MODIFIED:20240131T192245Z
UID:6076-1727290800-1727301600@mapleleafacres.ca
SUMMARY:Darts
DESCRIPTION:
URL:https://mapleleafacres.ca/event/darts-45/2024-09-25/
CATEGORIES:Activities,Rec. Hall
END:VEVENT
BEGIN:VEVENT
DTSTART;TZID=America/Toronto:20240923T190000
DTEND;TZID=America/Toronto:20240923T220000
DTSTAMP:20260423T064728
CREATED:20240528T131849Z
LAST-MODIFIED:20240528T131849Z
UID:6473-1727118000-1727128800@mapleleafacres.ca
SUMMARY:Euchre Night
DESCRIPTION:
URL:https://mapleleafacres.ca/event/euchre-night/2024-09-23/
CATEGORIES:Activities,Adult Hall
END:VEVENT
BEGIN:VEVENT
DTSTART;TZID=America/Toronto:20240923T130000
DTEND;TZID=America/Toronto:20240923T150000
DTSTAMP:20260423T064728
CREATED:20240131T192816Z
LAST-MODIFIED:20240131T192816Z
UID:6164-1727096400-1727103600@mapleleafacres.ca
SUMMARY:Pokeno
DESCRIPTION:
URL:https://mapleleafacres.ca/event/pokeno-29/2024-09-23/
CATEGORIES:Activities,Fireside Room
END:VEVENT
BEGIN:VEVENT
DTSTART;TZID=America/Toronto:20240923T100000
DTEND;TZID=America/Toronto:20240923T230000
DTSTAMP:20260423T064728
CREATED:20240131T191511Z
LAST-MODIFIED:20240131T191511Z
UID:6036-1727085600-1727132400@mapleleafacres.ca
SUMMARY:Line Dancing
DESCRIPTION:
URL:https://mapleleafacres.ca/event/line-dancing-46/2024-09-23/
CATEGORIES:Activities,Rec. Hall
END:VEVENT
BEGIN:VEVENT
DTSTART;TZID=America/Toronto:20240922T090000
DTEND;TZID=America/Toronto:20240922T110000
DTSTAMP:20260423T064728
CREATED:20240528T132314Z
LAST-MODIFIED:20240528T132314Z
UID:6482-1726995600-1727002800@mapleleafacres.ca
SUMMARY:Coffee Chat
DESCRIPTION:
URL:https://mapleleafacres.ca/event/coffee-chat-55/
CATEGORIES:Activities,Adult Hall
END:VEVENT
BEGIN:VEVENT
DTSTART;TZID=America/Toronto:20240921T100000
DTEND;TZID=America/Toronto:20240921T120000
DTSTAMP:20260423T064728
CREATED:20240116T185334Z
LAST-MODIFIED:20240116T185348Z
UID:5871-1726912800-1726920000@mapleleafacres.ca
SUMMARY:Sports & Rec Meeting
DESCRIPTION:
URL:https://mapleleafacres.ca/event/sports-rec-meeting-8/
CATEGORIES:Activities,Adult Hall
END:VEVENT
BEGIN:VEVENT
DTSTART;TZID=America/Toronto:20240920T133000
DTEND;TZID=America/Toronto:20240920T160000
DTSTAMP:20260423T064728
CREATED:20240131T185238Z
LAST-MODIFIED:20240131T185238Z
UID:5913-1726839000-1726848000@mapleleafacres.ca
SUMMARY:Shuffle Board
DESCRIPTION:
URL:https://mapleleafacres.ca/event/shuffle-board-51/2024-09-20/
CATEGORIES:Activities,Rec. Hall
END:VEVENT
BEGIN:VEVENT
DTSTART;TZID=America/Toronto:20240919T190000
DTEND;TZID=America/Toronto:20240919T210000
DTSTAMP:20260423T064728
CREATED:20240131T192632Z
LAST-MODIFIED:20240131T192632Z
UID:6116-1726772400-1726779600@mapleleafacres.ca
SUMMARY:Pickle Ball
DESCRIPTION:
URL:https://mapleleafacres.ca/event/pickle-ball/2024-09-19/
CATEGORIES:Activities,Rec. Hall
END:VEVENT
BEGIN:VEVENT
DTSTART;TZID=America/Toronto:20240919T130000
DTEND;TZID=America/Toronto:20240919T160000
DTSTAMP:20260423T064728
CREATED:20240411T171035Z
LAST-MODIFIED:20240411T171035Z
UID:6343-1726750800-1726761600@mapleleafacres.ca
SUMMARY:Card Bingo
DESCRIPTION:
URL:https://mapleleafacres.ca/event/card-bingo-62/2024-09-19/
CATEGORIES:Adult Hall
END:VEVENT
BEGIN:VEVENT
DTSTART;TZID=America/Toronto:20240918T190000
DTEND;TZID=America/Toronto:20240918T220000
DTSTAMP:20260423T064728
CREATED:20240131T192245Z
LAST-MODIFIED:20240131T192245Z
UID:6075-1726686000-1726696800@mapleleafacres.ca
SUMMARY:Darts
DESCRIPTION:
URL:https://mapleleafacres.ca/event/darts-45/2024-09-18/
CATEGORIES:Activities,Rec. Hall
END:VEVENT
END:VCALENDAR