BEGIN:VCALENDAR
VERSION:2.0
PRODID:-//Maple Leaf Acres - ECPv6.15.18//NONSGML v1.0//EN
CALSCALE:GREGORIAN
METHOD:PUBLISH
X-WR-CALNAME:Maple Leaf Acres
X-ORIGINAL-URL:https://mapleleafacres.ca
X-WR-CALDESC:Events for Maple Leaf Acres
REFRESH-INTERVAL;VALUE=DURATION:PT1H
X-Robots-Tag:noindex
X-PUBLISHED-TTL:PT1H
BEGIN:VTIMEZONE
TZID:America/Toronto
BEGIN:DAYLIGHT
TZOFFSETFROM:-0500
TZOFFSETTO:-0400
TZNAME:EDT
DTSTART:20240310T070000
END:DAYLIGHT
BEGIN:STANDARD
TZOFFSETFROM:-0400
TZOFFSETTO:-0500
TZNAME:EST
DTSTART:20241103T060000
END:STANDARD
BEGIN:DAYLIGHT
TZOFFSETFROM:-0500
TZOFFSETTO:-0400
TZNAME:EDT
DTSTART:20250309T070000
END:DAYLIGHT
BEGIN:STANDARD
TZOFFSETFROM:-0400
TZOFFSETTO:-0500
TZNAME:EST
DTSTART:20251102T060000
END:STANDARD
BEGIN:DAYLIGHT
TZOFFSETFROM:-0500
TZOFFSETTO:-0400
TZNAME:EDT
DTSTART:20260308T070000
END:DAYLIGHT
BEGIN:STANDARD
TZOFFSETFROM:-0400
TZOFFSETTO:-0500
TZNAME:EST
DTSTART:20261101T060000
END:STANDARD
END:VTIMEZONE
BEGIN:VEVENT
DTSTART;TZID=America/Toronto:20250908T130000
DTEND;TZID=America/Toronto:20250908T160000
DTSTAMP:20260419T173111
CREATED:20250903T152416Z
LAST-MODIFIED:20250903T152416Z
UID:7649-1757336400-1757347200@mapleleafacres.ca
SUMMARY:Rummoli
DESCRIPTION:
URL:https://mapleleafacres.ca/event/rummoli/2025-09-08/
CATEGORIES:Activities,Fireside Room
END:VEVENT
BEGIN:VEVENT
DTSTART;TZID=America/Toronto:20250908T100000
DTEND;TZID=America/Toronto:20250908T110000
DTSTAMP:20260419T173111
CREATED:20250326T143036Z
LAST-MODIFIED:20250326T143036Z
UID:7294-1757325600-1757329200@mapleleafacres.ca
SUMMARY:Line Dancing
DESCRIPTION:
URL:https://mapleleafacres.ca/event/line-dancing-47/2025-09-08/
CATEGORIES:Activities,Rec. Hall
END:VEVENT
BEGIN:VEVENT
DTSTART;TZID=America/Toronto:20250906T190000
DTEND;TZID=America/Toronto:20250906T210000
DTSTAMP:20260419T173111
CREATED:20241105T192956Z
LAST-MODIFIED:20241105T192956Z
UID:6913-1757185200-1757192400@mapleleafacres.ca
SUMMARY:Light Parade
DESCRIPTION:
URL:https://mapleleafacres.ca/event/light-parade-2/
CATEGORIES:Activities,MLA Events
END:VEVENT
BEGIN:VEVENT
DTSTART;TZID=America/Toronto:20250906T120000
DTEND;TZID=America/Toronto:20250906T170000
DTSTAMP:20260419T173111
CREATED:20250326T151919Z
LAST-MODIFIED:20250326T151919Z
UID:7344-1757160000-1757178000@mapleleafacres.ca
SUMMARY:Chocolate Bar Bingo
DESCRIPTION:
URL:https://mapleleafacres.ca/event/chocolate-bar-bingo-21/
CATEGORIES:Activities,Rec. Hall
END:VEVENT
BEGIN:VEVENT
DTSTART;TZID=America/Toronto:20250905T200000
DTEND;TZID=America/Toronto:20250905T220000
DTSTAMP:20260419T173111
CREATED:20250625T063219Z
LAST-MODIFIED:20250625T193755Z
UID:7321-1757102400-1757109600@mapleleafacres.ca
SUMMARY:Bingo
DESCRIPTION:
URL:https://mapleleafacres.ca/event/bingo-25/2025-09-05/
CATEGORIES:Activities,Rec. Hall
END:VEVENT
BEGIN:VEVENT
DTSTART;TZID=America/Toronto:20250904T120000
DTEND;TZID=America/Toronto:20250904T160000
DTSTAMP:20260419T173111
CREATED:20250318T144233Z
LAST-MODIFIED:20250318T144233Z
UID:7480-1756987200-1757001600@mapleleafacres.ca
SUMMARY:Card Bingo
DESCRIPTION:
URL:https://mapleleafacres.ca/event/card-bingo-63/2025-09-04/
CATEGORIES:Activities,Adult Hall
END:VEVENT
BEGIN:VEVENT
DTSTART;TZID=America/Toronto:20250903T100000
DTEND;TZID=America/Toronto:20250903T110000
DTSTAMP:20260419T173111
CREATED:20250326T142359Z
LAST-MODIFIED:20250326T142359Z
UID:7266-1756893600-1756897200@mapleleafacres.ca
SUMMARY:Fitness Class
DESCRIPTION:
URL:https://mapleleafacres.ca/event/fitness-class-3/2025-09-03/
CATEGORIES:Activities,Rec. Hall
END:VEVENT
BEGIN:VEVENT
DTSTART;TZID=America/Toronto:20250901T180000
DTEND;TZID=America/Toronto:20250901T210000
DTSTAMP:20260419T173111
CREATED:20250318T144106Z
LAST-MODIFIED:20250318T144106Z
UID:7120-1756749600-1756760400@mapleleafacres.ca
SUMMARY:Euchre
DESCRIPTION:
URL:https://mapleleafacres.ca/event/euchre-27/2025-09-01/
CATEGORIES:Activities,Adult Hall
END:VEVENT
BEGIN:VEVENT
DTSTART;TZID=America/Toronto:20250901T100000
DTEND;TZID=America/Toronto:20250901T110000
DTSTAMP:20260419T173111
CREATED:20250326T143036Z
LAST-MODIFIED:20250326T143036Z
UID:7293-1756720800-1756724400@mapleleafacres.ca
SUMMARY:Line Dancing
DESCRIPTION:
URL:https://mapleleafacres.ca/event/line-dancing-47/2025-09-01/
CATEGORIES:Activities,Rec. Hall
END:VEVENT
BEGIN:VEVENT
DTSTART;TZID=America/Toronto:20250831T130000
DTEND;TZID=America/Toronto:20250831T150000
DTSTAMP:20260419T173111
CREATED:20241105T185315Z
LAST-MODIFIED:20241105T185315Z
UID:6911-1756645200-1756652400@mapleleafacres.ca
SUMMARY:Kids Craft
DESCRIPTION:
URL:https://mapleleafacres.ca/event/kids-craft-8/
CATEGORIES:Activities,Adult Hall
END:VEVENT
BEGIN:VEVENT
DTSTART;TZID=America/Toronto:20250830T080000
DTEND;TZID=America/Toronto:20250830T190000
DTSTAMP:20260419T173111
CREATED:20241105T185146Z
LAST-MODIFIED:20241105T185146Z
UID:6909-1756540800-1756580400@mapleleafacres.ca
SUMMARY:Trinity End of Summer Bash
DESCRIPTION:
URL:https://mapleleafacres.ca/event/trinity-end-of-summer-bash/
CATEGORIES:Rec. Hall
END:VEVENT
BEGIN:VEVENT
DTSTART;TZID=America/Toronto:20250829T200000
DTEND;TZID=America/Toronto:20250829T220000
DTSTAMP:20260419T173111
CREATED:20250625T063219Z
LAST-MODIFIED:20250625T193755Z
UID:7320-1756497600-1756504800@mapleleafacres.ca
SUMMARY:Bingo
DESCRIPTION:
URL:https://mapleleafacres.ca/event/bingo-25/2025-08-29/
CATEGORIES:Activities,Rec. Hall
END:VEVENT
BEGIN:VEVENT
DTSTART;TZID=America/Toronto:20250828T120000
DTEND;TZID=America/Toronto:20250828T160000
DTSTAMP:20260419T173111
CREATED:20250318T144233Z
LAST-MODIFIED:20250318T144233Z
UID:7479-1756382400-1756396800@mapleleafacres.ca
SUMMARY:Card Bingo
DESCRIPTION:
URL:https://mapleleafacres.ca/event/card-bingo-63/2025-08-28/
CATEGORIES:Activities,Adult Hall
END:VEVENT
BEGIN:VEVENT
DTSTART;TZID=America/Toronto:20250827T100000
DTEND;TZID=America/Toronto:20250827T110000
DTSTAMP:20260419T173111
CREATED:20250326T142359Z
LAST-MODIFIED:20250326T142359Z
UID:7265-1756288800-1756292400@mapleleafacres.ca
SUMMARY:Fitness Class
DESCRIPTION:
URL:https://mapleleafacres.ca/event/fitness-class-3/2025-08-27/
CATEGORIES:Activities,Rec. Hall
END:VEVENT
BEGIN:VEVENT
DTSTART;TZID=America/Toronto:20250825T180000
DTEND;TZID=America/Toronto:20250825T210000
DTSTAMP:20260419T173111
CREATED:20250318T144106Z
LAST-MODIFIED:20250318T144106Z
UID:7119-1756144800-1756155600@mapleleafacres.ca
SUMMARY:Euchre
DESCRIPTION:
URL:https://mapleleafacres.ca/event/euchre-27/2025-08-25/
CATEGORIES:Activities,Adult Hall
END:VEVENT
BEGIN:VEVENT
DTSTART;TZID=America/Toronto:20250825T100000
DTEND;TZID=America/Toronto:20250825T110000
DTSTAMP:20260419T173111
CREATED:20250326T143036Z
LAST-MODIFIED:20250326T143036Z
UID:7292-1756116000-1756119600@mapleleafacres.ca
SUMMARY:Line Dancing
DESCRIPTION:
URL:https://mapleleafacres.ca/event/line-dancing-47/2025-08-25/
CATEGORIES:Activities,Rec. Hall
END:VEVENT
BEGIN:VEVENT
DTSTART;TZID=America/Toronto:20250823T200000
DTEND;TZID=America/Toronto:20250823T233000
DTSTAMP:20260419T173111
CREATED:20241105T185032Z
LAST-MODIFIED:20241105T185032Z
UID:6907-1755979200-1755991800@mapleleafacres.ca
SUMMARY:Outdoor Dance
DESCRIPTION:
URL:https://mapleleafacres.ca/event/outdoor-dance-3/
CATEGORIES:Activities,Rec. Hall
END:VEVENT
BEGIN:VEVENT
DTSTART;TZID=America/Toronto:20250823T140000
DTEND;TZID=America/Toronto:20250823T230000
DTSTAMP:20260419T173111
CREATED:20250318T145723Z
LAST-MODIFIED:20250318T145723Z
UID:7215-1755957600-1755990000@mapleleafacres.ca
SUMMARY:Private Function
DESCRIPTION:
URL:https://mapleleafacres.ca/event/private-function-15/
CATEGORIES:Activities,Adult Hall
END:VEVENT
BEGIN:VEVENT
DTSTART;TZID=America/Toronto:20250823T090000
DTEND;TZID=America/Toronto:20250823T130000
DTSTAMP:20260419T173111
CREATED:20250318T145654Z
LAST-MODIFIED:20250318T145654Z
UID:7213-1755939600-1755954000@mapleleafacres.ca
SUMMARY:Private Function
DESCRIPTION:
URL:https://mapleleafacres.ca/event/private-function-14/
CATEGORIES:Activities,Adult Hall
END:VEVENT
BEGIN:VEVENT
DTSTART;TZID=America/Toronto:20250823T070000
DTEND;TZID=America/Toronto:20250823T150000
DTSTAMP:20260419T173111
CREATED:20250326T151838Z
LAST-MODIFIED:20250326T151838Z
UID:7342-1755932400-1755961200@mapleleafacres.ca
SUMMARY:Craft Sale
DESCRIPTION:
URL:https://mapleleafacres.ca/event/craft-sale-3/
CATEGORIES:Activities,Rec. Hall
END:VEVENT
BEGIN:VEVENT
DTSTART;TZID=America/Toronto:20250822T200000
DTEND;TZID=America/Toronto:20250822T220000
DTSTAMP:20260419T173111
CREATED:20250625T063219Z
LAST-MODIFIED:20250625T193755Z
UID:7319-1755892800-1755900000@mapleleafacres.ca
SUMMARY:Bingo
DESCRIPTION:
URL:https://mapleleafacres.ca/event/bingo-25/2025-08-22/
CATEGORIES:Activities,Rec. Hall
END:VEVENT
BEGIN:VEVENT
DTSTART;TZID=America/Toronto:20250822T140000
DTEND;TZID=America/Toronto:20250822T230000
DTSTAMP:20260419T173111
CREATED:20250318T145619Z
LAST-MODIFIED:20250318T145619Z
UID:7211-1755871200-1755903600@mapleleafacres.ca
SUMMARY:Private Function
DESCRIPTION:
URL:https://mapleleafacres.ca/event/private-function-13/
CATEGORIES:Activities,Adult Hall
END:VEVENT
BEGIN:VEVENT
DTSTART;TZID=America/Toronto:20250821T120000
DTEND;TZID=America/Toronto:20250821T160000
DTSTAMP:20260419T173111
CREATED:20250318T144233Z
LAST-MODIFIED:20250318T144233Z
UID:7478-1755777600-1755792000@mapleleafacres.ca
SUMMARY:Card Bingo
DESCRIPTION:
URL:https://mapleleafacres.ca/event/card-bingo-63/2025-08-21/
CATEGORIES:Activities,Adult Hall
END:VEVENT
BEGIN:VEVENT
DTSTART;TZID=America/Toronto:20250820T100000
DTEND;TZID=America/Toronto:20250820T110000
DTSTAMP:20260419T173111
CREATED:20250326T142359Z
LAST-MODIFIED:20250326T142359Z
UID:7264-1755684000-1755687600@mapleleafacres.ca
SUMMARY:Fitness Class
DESCRIPTION:
URL:https://mapleleafacres.ca/event/fitness-class-3/2025-08-20/
CATEGORIES:Activities,Rec. Hall
END:VEVENT
BEGIN:VEVENT
DTSTART;TZID=America/Toronto:20250818T180000
DTEND;TZID=America/Toronto:20250818T210000
DTSTAMP:20260419T173111
CREATED:20250318T144106Z
LAST-MODIFIED:20250318T144106Z
UID:7118-1755540000-1755550800@mapleleafacres.ca
SUMMARY:Euchre
DESCRIPTION:
URL:https://mapleleafacres.ca/event/euchre-27/2025-08-18/
CATEGORIES:Activities,Adult Hall
END:VEVENT
BEGIN:VEVENT
DTSTART;TZID=America/Toronto:20250818T100000
DTEND;TZID=America/Toronto:20250818T110000
DTSTAMP:20260419T173111
CREATED:20250326T143036Z
LAST-MODIFIED:20250326T143036Z
UID:7291-1755511200-1755514800@mapleleafacres.ca
SUMMARY:Line Dancing
DESCRIPTION:
URL:https://mapleleafacres.ca/event/line-dancing-47/2025-08-18/
CATEGORIES:Activities,Rec. Hall
END:VEVENT
BEGIN:VEVENT
DTSTART;TZID=America/Toronto:20250816T200000
DTEND;TZID=America/Toronto:20250816T233000
DTSTAMP:20260419T173111
CREATED:20241105T184512Z
LAST-MODIFIED:20241105T184512Z
UID:6903-1755374400-1755387000@mapleleafacres.ca
SUMMARY:Music Trivia
DESCRIPTION:
URL:https://mapleleafacres.ca/event/music-trivia-2/
CATEGORIES:Activities,Adult Hall
END:VEVENT
BEGIN:VEVENT
DTSTART;TZID=America/Toronto:20250816T080000
DTEND;TZID=America/Toronto:20250816T170000
DTSTAMP:20260419T173111
CREATED:20241105T184932Z
LAST-MODIFIED:20241105T184945Z
UID:6905-1755331200-1755363600@mapleleafacres.ca
SUMMARY:Garage Sale
DESCRIPTION:
URL:https://mapleleafacres.ca/event/garage-sale-4/
CATEGORIES:Activities,MLA Events,Rec. Hall
END:VEVENT
BEGIN:VEVENT
DTSTART;TZID=America/Toronto:20250815T200000
DTEND;TZID=America/Toronto:20250815T220000
DTSTAMP:20260419T173111
CREATED:20250625T063219Z
LAST-MODIFIED:20250625T193754Z
UID:7318-1755288000-1755295200@mapleleafacres.ca
SUMMARY:Bingo
DESCRIPTION:
URL:https://mapleleafacres.ca/event/bingo-25/2025-08-15/
CATEGORIES:Activities,Rec. Hall
END:VEVENT
BEGIN:VEVENT
DTSTART;TZID=America/Toronto:20250814T120000
DTEND;TZID=America/Toronto:20250814T160000
DTSTAMP:20260419T173111
CREATED:20250318T144233Z
LAST-MODIFIED:20250318T144233Z
UID:7477-1755172800-1755187200@mapleleafacres.ca
SUMMARY:Card Bingo
DESCRIPTION:
URL:https://mapleleafacres.ca/event/card-bingo-63/2025-08-14/
CATEGORIES:Activities,Adult Hall
END:VEVENT
END:VCALENDAR