BEGIN:VCALENDAR
VERSION:2.0
PRODID:-//Maple Leaf Acres - ECPv6.15.18//NONSGML v1.0//EN
CALSCALE:GREGORIAN
METHOD:PUBLISH
X-WR-CALNAME:Maple Leaf Acres
X-ORIGINAL-URL:https://mapleleafacres.ca
X-WR-CALDESC:Events for Maple Leaf Acres
REFRESH-INTERVAL;VALUE=DURATION:PT1H
X-Robots-Tag:noindex
X-PUBLISHED-TTL:PT1H
BEGIN:VTIMEZONE
TZID:America/Toronto
BEGIN:DAYLIGHT
TZOFFSETFROM:-0500
TZOFFSETTO:-0400
TZNAME:EDT
DTSTART:20240310T070000
END:DAYLIGHT
BEGIN:STANDARD
TZOFFSETFROM:-0400
TZOFFSETTO:-0500
TZNAME:EST
DTSTART:20241103T060000
END:STANDARD
BEGIN:DAYLIGHT
TZOFFSETFROM:-0500
TZOFFSETTO:-0400
TZNAME:EDT
DTSTART:20250309T070000
END:DAYLIGHT
BEGIN:STANDARD
TZOFFSETFROM:-0400
TZOFFSETTO:-0500
TZNAME:EST
DTSTART:20251102T060000
END:STANDARD
BEGIN:DAYLIGHT
TZOFFSETFROM:-0500
TZOFFSETTO:-0400
TZNAME:EDT
DTSTART:20260308T070000
END:DAYLIGHT
BEGIN:STANDARD
TZOFFSETFROM:-0400
TZOFFSETTO:-0500
TZNAME:EST
DTSTART:20261101T060000
END:STANDARD
END:VTIMEZONE
BEGIN:VEVENT
DTSTART;TZID=America/Toronto:20250409T090000
DTEND;TZID=America/Toronto:20250409T113000
DTSTAMP:20260421T195421
CREATED:20250326T141529Z
LAST-MODIFIED:20250326T141529Z
UID:7245-1744189200-1744198200@mapleleafacres.ca
SUMMARY:Chair Yoga
DESCRIPTION:
URL:https://mapleleafacres.ca/event/chair-yoga-2/2025-04-09/
CATEGORIES:Activities,Rec. Hall
END:VEVENT
BEGIN:VEVENT
DTSTART;TZID=America/Toronto:20250408T110000
DTEND;TZID=America/Toronto:20250408T153000
DTSTAMP:20260421T195421
CREATED:20250326T141414Z
LAST-MODIFIED:20250326T141414Z
UID:7239-1744110000-1744126200@mapleleafacres.ca
SUMMARY:Chair Yoga
DESCRIPTION:
URL:https://mapleleafacres.ca/event/chair-yoga/2025-04-08/
CATEGORIES:Activities,Rec. Hall
END:VEVENT
BEGIN:VEVENT
DTSTART;TZID=America/Toronto:20250407T180000
DTEND;TZID=America/Toronto:20250407T210000
DTSTAMP:20260421T195421
CREATED:20250318T144106Z
LAST-MODIFIED:20250318T144106Z
UID:7098-1744048800-1744059600@mapleleafacres.ca
SUMMARY:Euchre
DESCRIPTION:
URL:https://mapleleafacres.ca/event/euchre-27/2025-04-07/
CATEGORIES:Activities,Adult Hall
END:VEVENT
BEGIN:VEVENT
DTSTART;TZID=America/Toronto:20250405T190000
DTEND;TZID=America/Toronto:20250405T190000
DTSTAMP:20260421T195421
CREATED:20240918T134611Z
LAST-MODIFIED:20240918T134611Z
UID:6713-1743879600-1743879600@mapleleafacres.ca
SUMMARY:Darts
DESCRIPTION:
URL:https://mapleleafacres.ca/event/darts-48/2025-04-05/
CATEGORIES:Activities,Rec. Hall
END:VEVENT
BEGIN:VEVENT
DTSTART;TZID=America/Toronto:20250405T130000
DTEND;TZID=America/Toronto:20250405T160000
DTSTAMP:20260421T195421
CREATED:20240312T191134Z
LAST-MODIFIED:20240930T204354Z
UID:6764-1743858000-1743868800@mapleleafacres.ca
SUMMARY:Cornhole
DESCRIPTION:
URL:https://mapleleafacres.ca/event/cornhole/2025-04-05/
CATEGORIES:Activities,Rec. Hall
END:VEVENT
BEGIN:VEVENT
DTSTART;VALUE=DATE:20250405
DTEND;VALUE=DATE:20250406
DTSTAMP:20260421T195421
CREATED:20250318T144556Z
LAST-MODIFIED:20250318T144556Z
UID:7185-1743811200-1743897599@mapleleafacres.ca
SUMMARY:Private Function
DESCRIPTION:
URL:https://mapleleafacres.ca/event/private-function-7/
CATEGORIES:Activities,Adult Hall
END:VEVENT
BEGIN:VEVENT
DTSTART;TZID=America/Toronto:20250404T190000
DTEND;TZID=America/Toronto:20250404T233000
DTSTAMP:20260421T195421
CREATED:20240918T134038Z
LAST-MODIFIED:20240918T134038Z
UID:6668-1743793200-1743809400@mapleleafacres.ca
SUMMARY:Poker
DESCRIPTION:
URL:https://mapleleafacres.ca/event/poker/2025-04-04/
CATEGORIES:Activities,Fireside Room
END:VEVENT
BEGIN:VEVENT
DTSTART;TZID=America/Toronto:20250403T120000
DTEND;TZID=America/Toronto:20250403T160000
DTSTAMP:20260421T195421
CREATED:20250318T144233Z
LAST-MODIFIED:20250318T144233Z
UID:7458-1743681600-1743696000@mapleleafacres.ca
SUMMARY:Card Bingo
DESCRIPTION:
URL:https://mapleleafacres.ca/event/card-bingo-63/2025-04-03/
CATEGORIES:Activities,Adult Hall
END:VEVENT
BEGIN:VEVENT
DTSTART;TZID=America/Toronto:20250402T190000
DTEND;TZID=America/Toronto:20250402T190000
DTSTAMP:20260421T195421
CREATED:20240918T134611Z
LAST-MODIFIED:20240918T134611Z
UID:6712-1743620400-1743620400@mapleleafacres.ca
SUMMARY:Darts
DESCRIPTION:
URL:https://mapleleafacres.ca/event/darts-48/2025-04-02/
CATEGORIES:Activities,Rec. Hall
END:VEVENT
BEGIN:VEVENT
DTSTART;TZID=America/Toronto:20250402T090000
DTEND;TZID=America/Toronto:20250402T113000
DTSTAMP:20260421T195421
CREATED:20250326T141529Z
LAST-MODIFIED:20250326T141529Z
UID:7244-1743584400-1743593400@mapleleafacres.ca
SUMMARY:Chair Yoga
DESCRIPTION:
URL:https://mapleleafacres.ca/event/chair-yoga-2/2025-04-02/
CATEGORIES:Activities,Rec. Hall
END:VEVENT
BEGIN:VEVENT
DTSTART;TZID=America/Toronto:20250401T110000
DTEND;TZID=America/Toronto:20250401T153000
DTSTAMP:20260421T195421
CREATED:20250326T141414Z
LAST-MODIFIED:20250326T141414Z
UID:7238-1743505200-1743521400@mapleleafacres.ca
SUMMARY:Chair Yoga
DESCRIPTION:
URL:https://mapleleafacres.ca/event/chair-yoga/2025-04-01/
CATEGORIES:Activities,Rec. Hall
END:VEVENT
BEGIN:VEVENT
DTSTART;TZID=America/Toronto:20250331T180000
DTEND;TZID=America/Toronto:20250331T210000
DTSTAMP:20260421T195421
CREATED:20250318T144106Z
LAST-MODIFIED:20250318T144106Z
UID:7097-1743444000-1743454800@mapleleafacres.ca
SUMMARY:Euchre
DESCRIPTION:
URL:https://mapleleafacres.ca/event/euchre-27/2025-03-31/
CATEGORIES:Activities,Adult Hall
END:VEVENT
BEGIN:VEVENT
DTSTART;TZID=America/Toronto:20250329T190000
DTEND;TZID=America/Toronto:20250329T190000
DTSTAMP:20260421T195421
CREATED:20240918T134611Z
LAST-MODIFIED:20240918T134611Z
UID:6711-1743274800-1743274800@mapleleafacres.ca
SUMMARY:Darts
DESCRIPTION:
URL:https://mapleleafacres.ca/event/darts-48/2025-03-29/
CATEGORIES:Activities,Rec. Hall
END:VEVENT
BEGIN:VEVENT
DTSTART;TZID=America/Toronto:20250329T183000
DTEND;TZID=America/Toronto:20250329T183000
DTSTAMP:20260421T195421
CREATED:20250318T143745Z
LAST-MODIFIED:20250318T143745Z
UID:7089-1743273000-1743273000@mapleleafacres.ca
SUMMARY:Private Function
DESCRIPTION:
URL:https://mapleleafacres.ca/event/private-function-6/
CATEGORIES:Activities,Adult Hall
END:VEVENT
BEGIN:VEVENT
DTSTART;TZID=America/Toronto:20250329T130000
DTEND;TZID=America/Toronto:20250329T160000
DTSTAMP:20260421T195421
CREATED:20240312T191134Z
LAST-MODIFIED:20240930T204354Z
UID:6763-1743253200-1743264000@mapleleafacres.ca
SUMMARY:Cornhole
DESCRIPTION:
URL:https://mapleleafacres.ca/event/cornhole/2025-03-29/
CATEGORIES:Activities,Rec. Hall
END:VEVENT
BEGIN:VEVENT
DTSTART;TZID=America/Toronto:20250328T190000
DTEND;TZID=America/Toronto:20250328T233000
DTSTAMP:20260421T195421
CREATED:20240918T134038Z
LAST-MODIFIED:20240918T134038Z
UID:6667-1743188400-1743204600@mapleleafacres.ca
SUMMARY:Poker
DESCRIPTION:
URL:https://mapleleafacres.ca/event/poker/2025-03-28/
CATEGORIES:Activities,Fireside Room
END:VEVENT
BEGIN:VEVENT
DTSTART;TZID=America/Toronto:20250327T120000
DTEND;TZID=America/Toronto:20250327T160000
DTSTAMP:20260421T195421
CREATED:20250318T144233Z
LAST-MODIFIED:20250318T144233Z
UID:7457-1743076800-1743091200@mapleleafacres.ca
SUMMARY:Card Bingo
DESCRIPTION:
URL:https://mapleleafacres.ca/event/card-bingo-63/2025-03-27/
CATEGORIES:Activities,Adult Hall
END:VEVENT
BEGIN:VEVENT
DTSTART;TZID=America/Toronto:20250326T190000
DTEND;TZID=America/Toronto:20250326T190000
DTSTAMP:20260421T195421
CREATED:20240918T134611Z
LAST-MODIFIED:20240918T134611Z
UID:6710-1743015600-1743015600@mapleleafacres.ca
SUMMARY:Darts
DESCRIPTION:
URL:https://mapleleafacres.ca/event/darts-48/2025-03-26/
CATEGORIES:Activities,Rec. Hall
END:VEVENT
BEGIN:VEVENT
DTSTART;TZID=America/Toronto:20250325T080000
DTEND;TZID=America/Toronto:20250325T170000
DTSTAMP:20260421T195421
CREATED:20250318T143840Z
LAST-MODIFIED:20250318T143840Z
UID:7093-1742889600-1742922000@mapleleafacres.ca
SUMMARY:Fitness Class
DESCRIPTION:
URL:https://mapleleafacres.ca/event/fitness-class-2/
CATEGORIES:Activities,Adult Hall
END:VEVENT
BEGIN:VEVENT
DTSTART;TZID=America/Toronto:20250324T180000
DTEND;TZID=America/Toronto:20250324T210000
DTSTAMP:20260421T195421
CREATED:20250318T144106Z
LAST-MODIFIED:20250318T144106Z
UID:7096-1742839200-1742850000@mapleleafacres.ca
SUMMARY:Euchre
DESCRIPTION:
URL:https://mapleleafacres.ca/event/euchre-27/2025-03-24/
CATEGORIES:Activities,Adult Hall
END:VEVENT
BEGIN:VEVENT
DTSTART;TZID=America/Toronto:20250323T090000
DTEND;TZID=America/Toronto:20250323T110000
DTSTAMP:20260421T195421
CREATED:20250318T144356Z
LAST-MODIFIED:20250318T144356Z
UID:7179-1742720400-1742727600@mapleleafacres.ca
SUMMARY:Coffee Chat
DESCRIPTION:
URL:https://mapleleafacres.ca/event/coffee-chat-63/
CATEGORIES:Activities,Adult Hall
END:VEVENT
BEGIN:VEVENT
DTSTART;TZID=America/Toronto:20250322T190000
DTEND;TZID=America/Toronto:20250322T190000
DTSTAMP:20260421T195421
CREATED:20240918T134611Z
LAST-MODIFIED:20240918T134611Z
UID:6709-1742670000-1742670000@mapleleafacres.ca
SUMMARY:Darts
DESCRIPTION:
URL:https://mapleleafacres.ca/event/darts-48/2025-03-22/
CATEGORIES:Activities,Rec. Hall
END:VEVENT
BEGIN:VEVENT
DTSTART;TZID=America/Toronto:20250322T183000
DTEND;TZID=America/Toronto:20250322T183000
DTSTAMP:20260421T195421
CREATED:20250318T143702Z
LAST-MODIFIED:20250318T143702Z
UID:7087-1742668200-1742668200@mapleleafacres.ca
SUMMARY:Private Function
DESCRIPTION:
URL:https://mapleleafacres.ca/event/private-function-5/
CATEGORIES:Activities,Adult Hall
END:VEVENT
BEGIN:VEVENT
DTSTART;TZID=America/Toronto:20250322T130000
DTEND;TZID=America/Toronto:20250322T160000
DTSTAMP:20260421T195421
CREATED:20240312T191134Z
LAST-MODIFIED:20240930T204353Z
UID:6762-1742648400-1742659200@mapleleafacres.ca
SUMMARY:Cornhole
DESCRIPTION:
URL:https://mapleleafacres.ca/event/cornhole/2025-03-22/
CATEGORIES:Activities,Rec. Hall
END:VEVENT
BEGIN:VEVENT
DTSTART;TZID=America/Toronto:20250321T190000
DTEND;TZID=America/Toronto:20250321T233000
DTSTAMP:20260421T195421
CREATED:20241112T171733Z
LAST-MODIFIED:20241112T171733Z
UID:6950-1742583600-1742599800@mapleleafacres.ca
SUMMARY:Season Finale - Jack Frost
DESCRIPTION:Join us for a fun night playing a MLA remake version of the popular TV gameshow $100\,000 Pyramid. \nIt promises to be a memorable evening! \n 
URL:https://mapleleafacres.ca/event/season-finale-jack-frost/
CATEGORIES:Activities,Adult Hall
END:VEVENT
BEGIN:VEVENT
DTSTART;TZID=America/Toronto:20250321T190000
DTEND;TZID=America/Toronto:20250321T233000
DTSTAMP:20260421T195421
CREATED:20240918T134038Z
LAST-MODIFIED:20240918T134038Z
UID:6666-1742583600-1742599800@mapleleafacres.ca
SUMMARY:Poker
DESCRIPTION:
URL:https://mapleleafacres.ca/event/poker/2025-03-21/
CATEGORIES:Activities,Fireside Room
END:VEVENT
BEGIN:VEVENT
DTSTART;TZID=America/Toronto:20250321T080000
DTEND;TZID=America/Toronto:20250330T230000
DTSTAMP:20260421T195421
CREATED:20250318T145050Z
LAST-MODIFIED:20250318T145050Z
UID:7201-1742544000-1743375600@mapleleafacres.ca
SUMMARY:MAIN REC HALL CLOSED
DESCRIPTION:
URL:https://mapleleafacres.ca/event/main-rec-hall-closed/
CATEGORIES:Activities,Rec. Hall
END:VEVENT
BEGIN:VEVENT
DTSTART;TZID=America/Toronto:20250320T120000
DTEND;TZID=America/Toronto:20250320T150000
DTSTAMP:20260421T195421
CREATED:20250318T144233Z
LAST-MODIFIED:20250619T200107Z
UID:7138-1742472000-1742482800@mapleleafacres.ca
SUMMARY:Card Bingo
DESCRIPTION:
URL:https://mapleleafacres.ca/event/card-bingo-63/2025-03-20/
CATEGORIES:Activities,Adult Hall
END:VEVENT
BEGIN:VEVENT
DTSTART;TZID=America/Toronto:20250319T190000
DTEND;TZID=America/Toronto:20250319T190000
DTSTAMP:20260421T195421
CREATED:20240918T134611Z
LAST-MODIFIED:20240918T134611Z
UID:6708-1742410800-1742410800@mapleleafacres.ca
SUMMARY:Darts
DESCRIPTION:
URL:https://mapleleafacres.ca/event/darts-48/2025-03-19/
CATEGORIES:Activities,Rec. Hall
END:VEVENT
BEGIN:VEVENT
DTSTART;TZID=America/Toronto:20250318T180000
DTEND;TZID=America/Toronto:20250318T210000
DTSTAMP:20260421T195421
CREATED:20250318T144106Z
LAST-MODIFIED:20250318T144106Z
UID:7095-1742320800-1742331600@mapleleafacres.ca
SUMMARY:Euchre
DESCRIPTION:
URL:https://mapleleafacres.ca/event/euchre-27/2025-03-18/
CATEGORIES:Activities,Adult Hall
END:VEVENT
END:VCALENDAR