BEGIN:VCALENDAR
VERSION:2.0
PRODID:-//Maple Leaf Acres - ECPv6.15.18//NONSGML v1.0//EN
CALSCALE:GREGORIAN
METHOD:PUBLISH
X-WR-CALNAME:Maple Leaf Acres
X-ORIGINAL-URL:https://mapleleafacres.ca
X-WR-CALDESC:Events for Maple Leaf Acres
REFRESH-INTERVAL;VALUE=DURATION:PT1H
X-Robots-Tag:noindex
X-PUBLISHED-TTL:PT1H
BEGIN:VTIMEZONE
TZID:America/Toronto
BEGIN:DAYLIGHT
TZOFFSETFROM:-0500
TZOFFSETTO:-0400
TZNAME:EDT
DTSTART:20210314T070000
END:DAYLIGHT
BEGIN:STANDARD
TZOFFSETFROM:-0400
TZOFFSETTO:-0500
TZNAME:EST
DTSTART:20211107T060000
END:STANDARD
BEGIN:DAYLIGHT
TZOFFSETFROM:-0500
TZOFFSETTO:-0400
TZNAME:EDT
DTSTART:20220313T070000
END:DAYLIGHT
BEGIN:STANDARD
TZOFFSETFROM:-0400
TZOFFSETTO:-0500
TZNAME:EST
DTSTART:20221106T060000
END:STANDARD
BEGIN:DAYLIGHT
TZOFFSETFROM:-0500
TZOFFSETTO:-0400
TZNAME:EDT
DTSTART:20230312T070000
END:DAYLIGHT
BEGIN:STANDARD
TZOFFSETFROM:-0400
TZOFFSETTO:-0500
TZNAME:EST
DTSTART:20231105T060000
END:STANDARD
BEGIN:DAYLIGHT
TZOFFSETFROM:-0500
TZOFFSETTO:-0400
TZNAME:EDT
DTSTART:20240310T070000
END:DAYLIGHT
BEGIN:STANDARD
TZOFFSETFROM:-0400
TZOFFSETTO:-0500
TZNAME:EST
DTSTART:20241103T060000
END:STANDARD
END:VTIMEZONE
BEGIN:VEVENT
DTSTART;TZID=America/Toronto:20230317T170000
DTEND;TZID=America/Toronto:20230317T233000
DTSTAMP:20260423T075013
CREATED:20221002T205458Z
LAST-MODIFIED:20221002T205458Z
UID:3934-1679072400-1679095800@mapleleafacres.ca
SUMMARY:Jack Frost Friday - St Paddys Day
DESCRIPTION:
URL:https://mapleleafacres.ca/event/jack-frost-friday-st-paddys-day/
LOCATION:Adult Hall
CATEGORIES:Adult Hall
END:VEVENT
BEGIN:VEVENT
DTSTART;TZID=America/Toronto:20221028T190000
DTEND;TZID=America/Toronto:20221028T190000
DTSTAMP:20260423T075013
CREATED:20220530T221949Z
LAST-MODIFIED:20220530T221950Z
UID:3220-1666983600-1666983600@mapleleafacres.ca
SUMMARY:Jack Frost Friday Halloween Party
DESCRIPTION:See posters around park for more details
URL:https://mapleleafacres.ca/event/jack-frost-friday-halloween-party/
LOCATION:Adult Hall
CATEGORIES:Activities,Adult Hall
END:VEVENT
BEGIN:VEVENT
DTSTART;TZID=America/Toronto:20220930T190000
DTEND;TZID=America/Toronto:20220930T190000
DTSTAMP:20260423T075013
CREATED:20220530T221829Z
LAST-MODIFIED:20220530T221829Z
UID:3218-1664564400-1664564400@mapleleafacres.ca
SUMMARY:Jack Frost Friday Meeting
DESCRIPTION:Everyone Welcome! Come out and help plan some winter fun for the park
URL:https://mapleleafacres.ca/event/jack-frost-friday-meeting/
LOCATION:Adult Hall
CATEGORIES:Activities,Adult Hall
END:VEVENT
END:VCALENDAR