BEGIN:VCALENDAR
VERSION:2.0
PRODID:-//Maple Leaf Acres - ECPv6.15.18//NONSGML v1.0//EN
CALSCALE:GREGORIAN
METHOD:PUBLISH
X-ORIGINAL-URL:https://mapleleafacres.ca
X-WR-CALDESC:Events for Maple Leaf Acres
REFRESH-INTERVAL;VALUE=DURATION:PT1H
X-Robots-Tag:noindex
X-PUBLISHED-TTL:PT1H
BEGIN:VTIMEZONE
TZID:America/Toronto
BEGIN:DAYLIGHT
TZOFFSETFROM:-0500
TZOFFSETTO:-0400
TZNAME:EDT
DTSTART:20210314T070000
END:DAYLIGHT
BEGIN:STANDARD
TZOFFSETFROM:-0400
TZOFFSETTO:-0500
TZNAME:EST
DTSTART:20211107T060000
END:STANDARD
BEGIN:DAYLIGHT
TZOFFSETFROM:-0500
TZOFFSETTO:-0400
TZNAME:EDT
DTSTART:20220313T070000
END:DAYLIGHT
BEGIN:STANDARD
TZOFFSETFROM:-0400
TZOFFSETTO:-0500
TZNAME:EST
DTSTART:20221106T060000
END:STANDARD
BEGIN:DAYLIGHT
TZOFFSETFROM:-0500
TZOFFSETTO:-0400
TZNAME:EDT
DTSTART:20230312T070000
END:DAYLIGHT
BEGIN:STANDARD
TZOFFSETFROM:-0400
TZOFFSETTO:-0500
TZNAME:EST
DTSTART:20231105T060000
END:STANDARD
BEGIN:DAYLIGHT
TZOFFSETFROM:-0500
TZOFFSETTO:-0400
TZNAME:EDT
DTSTART:20240310T070000
END:DAYLIGHT
BEGIN:STANDARD
TZOFFSETFROM:-0400
TZOFFSETTO:-0500
TZNAME:EST
DTSTART:20241103T060000
END:STANDARD
END:VTIMEZONE
BEGIN:VEVENT
DTSTART;VALUE=DATE:20221231
DTEND;VALUE=DATE:20230102
DTSTAMP:20260422T185953
CREATED:20221024T160506Z
LAST-MODIFIED:20221024T162316Z
UID:3993-1672444800-1672617599@mapleleafacres.ca
SUMMARY:NEW YEARS EVE
DESCRIPTION:
URL:https://mapleleafacres.ca/event/new-years-eve/
LOCATION:Rec. Hall
CATEGORIES:Rec. Hall
END:VEVENT
BEGIN:VEVENT
DTSTART;TZID=America/Toronto:20221104T133000
DTEND;TZID=America/Toronto:20221104T160000
DTSTAMP:20260422T185953
CREATED:20220727T180126Z
LAST-MODIFIED:20220727T180126Z
UID:3768-1667568600-1667577600@mapleleafacres.ca
SUMMARY:Shuffle Board
DESCRIPTION:
URL:https://mapleleafacres.ca/event/shuffle-board/
LOCATION:Rec. Hall
CATEGORIES:Rec. Hall
END:VEVENT
BEGIN:VEVENT
DTSTART;TZID=America/Toronto:20220903T100000
DTEND;TZID=America/Toronto:20220903T100000
DTSTAMP:20260422T185953
CREATED:20220530T221523Z
LAST-MODIFIED:20220530T221523Z
UID:3212-1662199200-1662199200@mapleleafacres.ca
SUMMARY:Kids' Craft (Free)
DESCRIPTION:Kids under 5 require supervision
URL:https://mapleleafacres.ca/event/kids-craft-free/
LOCATION:Rec. Hall
CATEGORIES:Activities,Rec. Hall
END:VEVENT
BEGIN:VEVENT
DTSTART;TZID=America/Toronto:20220827T080000
DTEND;TZID=America/Toronto:20220827T140000
DTSTAMP:20260422T185953
CREATED:20220530T213021Z
LAST-MODIFIED:20220530T213021Z
UID:3208-1661587200-1661608800@mapleleafacres.ca
SUMMARY:Craft Sale
DESCRIPTION:See posters around park for more details.
URL:https://mapleleafacres.ca/event/craft-sale/
LOCATION:Rec. Hall
CATEGORIES:Activities,Rec. Hall
END:VEVENT
BEGIN:VEVENT
DTSTART;TZID=America/Toronto:20220813T200000
DTEND;TZID=America/Toronto:20220813T200000
DTSTAMP:20260422T185953
CREATED:20220527T081125Z
LAST-MODIFIED:20220530T204616Z
UID:3146-1660420800-1660420800@mapleleafacres.ca
SUMMARY:The Jackson Fox Band
DESCRIPTION:Download (PDF\, Unknown)
URL:https://mapleleafacres.ca/event/the-jackson-fox-band/
LOCATION:Rec. Hall
CATEGORIES:Activities,Rec. Hall
END:VEVENT
BEGIN:VEVENT
DTSTART;TZID=America/Toronto:20220813T130000
DTEND;TZID=America/Toronto:20220813T130000
DTSTAMP:20260422T185953
CREATED:20220527T204133Z
LAST-MODIFIED:20220527T205752Z
UID:3164-1660395600-1660395600@mapleleafacres.ca
SUMMARY:Chocolate Bar Bingo
DESCRIPTION:Download (PDF\, Unknown)
URL:https://mapleleafacres.ca/event/chocolate-bar-bingo-3/
LOCATION:Rec. Hall
CATEGORIES:Activities,Rec. Hall
END:VEVENT
BEGIN:VEVENT
DTSTART;TZID=America/Toronto:20220730T100000
DTEND;TZID=America/Toronto:20220730T100000
DTSTAMP:20260422T185953
CREATED:20220530T212413Z
LAST-MODIFIED:20220530T212413Z
UID:3202-1659175200-1659175200@mapleleafacres.ca
SUMMARY:The Amazing Race MLA
DESCRIPTION:See Posters.
URL:https://mapleleafacres.ca/event/the-amazing-race-mla/
LOCATION:Rec. Hall
CATEGORIES:Activities
END:VEVENT
BEGIN:VEVENT
DTSTART;TZID=America/Toronto:20220723T200000
DTEND;TZID=America/Toronto:20220723T200000
DTSTAMP:20260422T185953
CREATED:20220527T202148Z
LAST-MODIFIED:20220527T205306Z
UID:3154-1658606400-1658606400@mapleleafacres.ca
SUMMARY:Two for the Show
DESCRIPTION:Download (PDF\, Unknown)
URL:https://mapleleafacres.ca/event/two-for-the-show/
LOCATION:Rec. Hall
CATEGORIES:Activities,Rec. Hall
END:VEVENT
BEGIN:VEVENT
DTSTART;TZID=America/Toronto:20220723T080000
DTEND;TZID=America/Toronto:20220723T080000
DTSTAMP:20260422T185953
CREATED:20220530T212333Z
LAST-MODIFIED:20220530T212333Z
UID:3200-1658563200-1658563200@mapleleafacres.ca
SUMMARY:Annual General Meeting
DESCRIPTION:
URL:https://mapleleafacres.ca/event/annual-general-meeting/
LOCATION:Rec. Hall
CATEGORIES:Activities,Rec. Hall
END:VEVENT
BEGIN:VEVENT
DTSTART;TZID=America/Toronto:20220716T130000
DTEND;TZID=America/Toronto:20220716T130000
DTSTAMP:20260422T185953
CREATED:20220527T204035Z
LAST-MODIFIED:20220527T205817Z
UID:3162-1657976400-1657976400@mapleleafacres.ca
SUMMARY:Chocolate Bar Bingo
DESCRIPTION:Download (PDF\, Unknown)
URL:https://mapleleafacres.ca/event/chocolate-bar-bingo-2/
LOCATION:Rec. Hall
CATEGORIES:Activities,Rec. Hall
END:VEVENT
BEGIN:VEVENT
DTSTART;VALUE=DATE:20220716
DTEND;VALUE=DATE:20220717
DTSTAMP:20260422T185953
CREATED:20220530T212222Z
LAST-MODIFIED:20220530T212223Z
UID:3198-1657929600-1658015999@mapleleafacres.ca
SUMMARY:The Amazing Race
DESCRIPTION:10 Teams of 4
URL:https://mapleleafacres.ca/event/the-amazing-race/
LOCATION:Rec. Hall
CATEGORIES:Activities
END:VEVENT
BEGIN:VEVENT
DTSTART;TZID=America/Toronto:20220611T130000
DTEND;TZID=America/Toronto:20220611T130000
DTSTAMP:20260422T185953
CREATED:20220527T203929Z
LAST-MODIFIED:20220527T205834Z
UID:3160-1654952400-1654952400@mapleleafacres.ca
SUMMARY:Chocolate Bar Bingo
DESCRIPTION:Download (PDF\, Unknown)
URL:https://mapleleafacres.ca/event/chocolate-bar-bingo/
LOCATION:Rec. Hall
CATEGORIES:Activities,Rec. Hall
END:VEVENT
BEGIN:VEVENT
DTSTART;TZID=America/Toronto:20220528T100000
DTEND;TZID=America/Toronto:20220528T100000
DTSTAMP:20260422T185953
CREATED:20220530T211300Z
LAST-MODIFIED:20220530T223149Z
UID:3187-1653732000-1653732000@mapleleafacres.ca
SUMMARY:MLA Info. Meeting
DESCRIPTION:
URL:https://mapleleafacres.ca/event/mla-info-meeting/
LOCATION:Rec. Hall
CATEGORIES:Activities,Rec. Hall
END:VEVENT
END:VCALENDAR